{"text_format":"1","workbook":"xlsx","n_sheets":4,"sheets":["Original_V06","Fehlercodes","Codes d'erreur","Codici di errore"],"not_rendered":{"charts":0,"images":8,"macros":1,"external_links":3,"defined_names":13,"comments":1,"pivot_tables":0},"unopened":[],"bounds":{"document_bytes":16777216,"sheet_cells":100000,"rows_first":2000,"rows_last":500,"rows_between":2000,"halvings":0,"cell_chars":16384,"cell_head_chars":4096},"cells_cut":0,"cells_raw":0,"read":"whole","date_system":"1900"}

{"sheet":"Original_V06","index":0,"n_rows":64,"n_cols":12,"rows_kept":64,"cut":false,"hidden":false,"merged":[[3,1,3,2],[29,3,29,4],[29,5,29,12],[3,7,3,12],[3,5,3,6],[27,5,27,12],[18,0,18,12],[23,5,24,6],[23,7,24,8],[23,9,24,10],[23,11,24,12],[12,9,12,12],[13,9,13,12],[10,7,10,12],[27,3,27,4],[5,3,5,6],[32,5,32,12],[33,5,33,12],[38,7,38,9],[35,7,35,9],[36,7,36,9],[37,7,37,9],[5,8,5,12],[31,3,31,4],[38,10,38,12],[40,7,40,9],[40,10,40,12],[35,2,35,5],[36,2,36,5],[37,2,37,5],[38,2,38,5],[39,2,39,5],[40,2,40,5],[33,3,33,4],[39,10,39,12],[32,3,32,4],[6,1,6,2],[24,0,24,1],[54,7,54,12],[42,1,42,5],[46,0,48,4],[45,10,45,12],[46,10,46,12],[47,10,47,12],[47,7,47,9],[46,7,46,9],[45,7,45,9],[53,2,53,6],[53,7,53,8],[49,5,49,7],[42,7,42,9],[44,10,44,12],[42,10,42,12],[43,10,43,12],[41,7,41,9],[25,11,25,12],[25,9,25,10],[25,7,25,8],[25,5,25,6],[41,10,41,12],[35,10,35,12],[36,10,36,12],[37,10,37,12],[41,2,41,5],[28,3,28,4],[30,3,30,4],[39,7,39,9],[28,5,28,12],[30,5,30,12],[31,5,31,12],[7,1,7,2],[10,4,10,6],[12,3,12,8],[13,1,13,8],[25,2,25,3],[24,2,24,3],[25,0,25,1],[15,0,15,12],[21,0,21,12],[8,7,8,12],[12,1,12,2],[10,1,10,2],[8,1,8,2]]}
[]
["MUSS-Felder / Champs obligatoires          "]
[]
["Nr. / N°",null,null,null,null,"Datum / Date:"]
[]
["Servicestelle/ Station de service:",null,null,"Auftrag / Ordre ",null,null,null,"SA / "]
["Name / Nom"]
["PLZ Ort / CP Lieu"]
["MWST / TVA",null,null,null,null,null,"Code:"]
[]
["Marke / Marque:",null,null,null,"Modell / Modèle:"]
["Serien-Nr/N° série:"]
["Kaufort/Lieu d'achat:",null,null,"Kaufdatum / Date d'achat:"]
[null,"Garantieverlängerung / Extension de garantie N°:"]
["Art des Defektes / Défectuosité:"]
[]
[]
["Standortadresse (genaue Adresse) / Emplacement (adresse précise)"]
[]
[]
["Eigentümer (genaue Adresse) / Propriétaire (adresse précise)"]
[]
[]
[null,null,null,null,null,"Fehlergruppe Groupe d'erreur",null,"Fehlerart   Type d'erreur",null,"Fehlerort    Lieu  d'erreur",null,"Tätigkeit Action"]
["Arbeitsauftrag vom / Demande de réparation du:"]
["Ausgeführt am / Exécutée le"]
[]
["Datum                 Date","Art der Arbeit                                                Spécification des travaux","Std.                    Heures","Ansatz  Tarif",null,"Vergütung Compensation"]
[null,null,null,null,null,{"$f":"C29*D29","v":0}]
[null,null,null,null,null,{"$f":"C30*D30","v":0}]
[null,null,null,null,null,{"$f":"C31*D31","v":0}]
[null,null,null,null,null,{"$f":"C32*D32","v":0}]
[null,null,null,null,null,{"$f":"C33*D33","v":0}]
["Reisepauschale (einmalig) / Déplacement (uniquement)",null,null,null,null,{"$f":"D34","v":0}]
[]
["Artikel-Nummer       N° d'article","Bezeichnung                                                             Description","Rechnungsnummer                                                             Numero de facture",null,null,null,"Stk.               Quant","Nettopreis pro Stk.                Prix net par pièce",null,null,"Vergütung  Compensation"]
[null,null,null,null,null,null,null,null,null,null,{"$f":"H37*G37","v":0}]
[null,null,null,null,null,null,null,null,null,null,{"$f":"+H38*G38","v":0}]
[null,null,null,null,null,null,null,null,null,null,0]
[null,null,null,null,null,null,null,null,null,null,0]
[null,null,null,null,null,null,null,null,null,null,0]
[null,null,null,null,null,null,null,null,null,null,0]
[null,"Porti",null,null,null,null,null,null,null,null,0]
[null,null,null,null,null,null,null,null,null,null,{"$f":"SUM(K37:K43)","v":0}]
[]
[null,null,null,null,null,null,null,"Subtotal",null,null,{"$f":"F29+F30+F31+F32+F33+F34+K37+K38+K39+K40+K41+K42+Text8","v":0}]
["Der Garantieantrag muss innert 30 Tage nach Ausführdatum eingesandt werden. Spätestens nach 3 Monaten verfällt der Anspruch.                                                                                                    La demande doit être envoyée dans les 30 jours après la date d'intervention. 3 mois après la date d'exécution la demande devient caduque.",null,null,null,null,null,null,"MWST / TVA  8.1%",null,null,{"$f":"ROUND(20*(K46*8.1%),0)/20","v":0}]
[null,null,null,null,null,null,null,"Total",null,null,{"$f":"SUM(K46:K47)","v":0}]
[]
["FORS AG/SA, Service/Garantie, Schaftenholzweg 8, 2557 Studen BE"]
[]
[]
[]
["Wird von FORS ausgefüllt / A remplir par FORS",null,null,null,null,null,null,"Interne Nr.:"]
[]
[]
["Datum:",null,"Grund / Raison:"]
["Konto 4300/1/2/3/4/",{"$f":"ROUND(20*((F29+F31)*108%),0)/20","v":0}]
["Konto 4305",{"$f":"ROUND(20*((SUM(K37:K42))*108%),0)/20","v":0}]
["Konto 4310",{"$f":"ROUND(20*(F32*108%),0)/20","v":0}]
["Konto 4311",{"$f":"ROUND(20*(F33*108%),0)/20","v":0}]
["Konto 4312",{"$f":"ROUND(20*(F34*108%),0)/20","v":0}]
["Konto 4313",{"$f":"ROUND(20*((G43*H43)*108%),0)/20","v":0}]
["Visum:"]

{"sheet":"Fehlercodes","index":1,"n_rows":211,"n_cols":7,"rows_kept":211,"cut":false,"hidden":false,"merged":[[91,0,104,0],[170,0,171,0],[230,1,230,6],[0,2,0,4],[2,0,2,6],[5,1,5,2],[5,3,5,6],[9,0,22,0],[47,0,55,0]]}
[null,null,"Fehlerschlüssel"]
[null,null,null,null,null,"Stand: 01.10.2020"]
[]
["|",null,"|",null,"|",null,"|"]
[]
["Fehlergruppe","Fehlerart",null,"Fehlerort"]
["Kältekreislauf",{"$f":"'[1]005'!A5","v":"Bereifung der Saugleitung"},{"$f":"'[1]005'!B5","v":"409"},{"$f":"'[1]005'!E5","v":"Abzweigung - Saug-/ Druckleitung (Verbindung)"},{"$f":"'[1]005'!F5","v":"518"},{"$f":"'[1]005'!E22","v":"Rahmenheizung-Verfluessiger \n(Verbindung)"},{"$f":"'[1]005'!F22","v":"012"}]
[5,{"$f":"'[1]005'!A6","v":"blockiert / klemmt"},{"$f":"'[1]005'!B6","v":"058"},{"$f":"'[1]005'!E6","v":"Druckschalter"},{"$f":"'[1]005'!F6","v":"678"},{"$f":"'[1]005'!E23","v":"Sammler"},{"$f":"'[1]005'!F23","v":"533"}]
[null,{"$f":"'[1]005'!A7","v":"Fehlerart nicht zuordenbar"},{"$f":"'[1]005'!B7","v":"999"},{"$f":"'[1]005'!E7","v":"Expansionsventil"},{"$f":"'[1]005'!F7","v":"675"},{"$f":"'[1]005'!E24","v":"Saugrohr-Kapillare Eingang (Verbindung)"},{"$f":"'[1]005'!F24","v":"013"}]
["(Leckage/ Verstopfung/ Füllmenge)",{"$f":"'[1]005'!A8","v":"keine Leistung"},{"$f":"'[1]005'!B8","v":"060"},{"$f":"'[1]005'!E8","v":"Fehlerort nicht zuordenbar"},{"$f":"'[1]005'!F8","v":"999"},{"$f":"'[1]005'!E25","v":"Saugrohr-Verdampfer (Verbindung)"},{"$f":"'[1]005'!F25","v":"014"}]
[null,{"$f":"'[1]005'!A9","v":"Knick"},{"$f":"'[1]005'!B9","v":"012"},{"$f":"'[1]005'!E9","v":"Heizung Verdampferwanne"},{"$f":"'[1]005'!F9","v":"416"},{"$f":"'[1]005'!E26","v":"Trockner"},{"$f":"'[1]005'!F26","v":"015"}]
[null,{"$f":"'[1]005'!A10","v":"Loetverbindung undicht"},{"$f":"'[1]005'!B10","v":"001"},{"$f":"'[1]005'!E10","v":"Heizung Verdunstungsschale - Kompressor (Verbindung)"},{"$f":"'[1]005'!F10","v":"414"},{"$f":"'[1]005'!E27","v":"Trockner-Kapillare (Verbindung)"},{"$f":"'[1]005'!F27","v":"016"}]
[null,{"$f":"'[1]005'!A11","v":"Lokringverbindung undicht"},{"$f":"'[1]005'!B11","v":"291"},{"$f":"'[1]005'!E11","v":"Heizung Verdunstungsschale - Verfluessiger (Verbindung)"},{"$f":"'[1]005'!F11","v":"415"},{"$f":"'[1]005'!E28","v":"Ventil für externe Kühlung (Water loop, Wasserkühlung, ..)"},{"$f":"'[1]005'!F28","v":"677"}]
[null,{"$f":"'[1]005'!A12","v":"Lötstelle zugelötet"},{"$f":"'[1]005'!B12","v":"293"},{"$f":"'[1]005'!E12","v":"Kapillare"},{"$f":"'[1]005'!F12","v":"002"},{"$f":"'[1]005'!E29","v":"Ventil Kaeltekreislauf"},{"$f":"'[1]005'!F29","v":"009"}]
[null,{"$f":"'[1]005'!A13","v":"Material/Rohr undicht"},{"$f":"'[1]005'!B13","v":"292"},{"$f":"'[1]005'!E13","v":"Kaskade"},{"$f":"'[1]005'!F13","v":"679"},{"$f":"'[1]005'!E30","v":"Verdampfer Gefrierteil"},{"$f":"'[1]005'!F30","v":"017"}]
[null,{"$f":"'[1]005'!A14","v":"schwergaengig"},{"$f":"'[1]005'!B14","v":"023"},{"$f":"'[1]005'!E14","v":"Kompressor"},{"$f":"'[1]005'!F14","v":"063"},{"$f":"'[1]005'!E31","v":"Verdampfer Kuehlteil"},{"$f":"'[1]005'!F31","v":"018"}]
[null,{"$f":"'[1]005'!A15","v":"verstopft"},{"$f":"'[1]005'!B15","v":"028"},{"$f":"'[1]005'!E15","v":"Kompressor-Fuellstutzen (Verbindung)"},{"$f":"'[1]005'!F15","v":"003"},{"$f":"'[1]005'!E32","v":"Verdampfer Kuehlteil-Verdampfermodul Gefrierteil (Verbindung)"},{"$f":"'[1]005'!F32","v":"412"}]
[null,{"$f":"'[1]005'!A16","v":0},{"$f":"'[1]005'!B16","v":0},{"$f":"'[1]005'!E16","v":"Kompressor-Rahmenheizung (Verbindung)"},{"$f":"'[1]005'!F16","v":"004"},{"$f":"'[1]005'!E33","v":"Verdampfer-Einspritzstelle (Verbindung)"},{"$f":"'[1]005'!F33","v":"019"}]
[null,{"$f":"'[1]005'!A17","v":0},{"$f":"'[1]005'!B17","v":0},{"$f":"'[1]005'!E17","v":"Kompressor-Saugrohr (Verbindung)"},{"$f":"'[1]005'!F17","v":"005"},{"$f":"'[1]005'!E34","v":"Verdampfermodul-Saugleitung \n(Verbindung)"},{"$f":"'[1]005'!F34","v":"413"}]
[null,{"$f":"'[1]005'!A18","v":0},{"$f":"'[1]005'!B18","v":0},{"$f":"'[1]005'!E18","v":"Kompressor-Verfluessiger (Verbindung)"},{"$f":"'[1]005'!F18","v":"007"},{"$f":"'[1]005'!E35","v":"Verfluessiger"},{"$f":"'[1]005'!F35","v":"020"}]
[null,{"$f":"'[1]005'!A19","v":0},{"$f":"'[1]005'!B19","v":0},{"$f":"'[1]005'!E19","v":"Kuehlkassette"},{"$f":"'[1]005'!F19","v":"525"},{"$f":"'[1]005'!E36","v":"Verfluessiger-Trockner (Verbindung)"},{"$f":"'[1]005'!F36","v":"021"}]
[null,{"$f":"'[1]005'!A20","v":0},{"$f":"'[1]005'!B20","v":0},{"$f":"'[1]005'!E20","v":"Ölabscheider"},{"$f":"'[1]005'!F20","v":"676"},{"$f":"'[1]005'!E37","v":"Wärmetauscher (Wasserführend)"},{"$f":"'[1]005'!F37","v":"395"}]
[null,{"$f":"'[1]005'!A17","v":0},{"$f":"'[1]005'!B17","v":0},{"$f":"'[1]005'!E21","v":"Rahmenheizung"},{"$f":"'[1]005'!F21","v":"011"}]
["Elektrik",{"$f":"'[1]040'!A5","v":"ausser Toleranz (Fuehler etc.)"},{"$f":"'[1]040'!B5","v":"031"},{"$f":"'[1]040'!E5","v":"Batterie/ Akku"},{"$f":"'[1]040'!F5","v":"103"},{"$f":"'[1]040'!E26","v":"Luftklappe"},{"$f":"'[1]040'!F26","v":"439"}]
[40,{"$f":"'[1]040'!A6","v":"elektrische Unterbrechung"},{"$f":"'[1]040'!B6","v":"032"},{"$f":"'[1]040'!E6","v":"Batterielademodul"},{"$f":"'[1]040'!F6","v":"598"},{"$f":"'[1]040'!E27","v":"Potentialfreier Kontakt"},{"$f":"'[1]040'!F27","v":"469"}]
[null,{"$f":"'[1]040'!A7","v":"falsche Anzeige"},{"$f":"'[1]040'!B7","v":"033"},{"$f":"'[1]040'!E7","v":"Beleuchtung"},{"$f":"'[1]040'!F7","v":"059"},{"$f":"'[1]040'!E28","v":"Pumpe Wassertank"},{"$f":"'[1]040'!F28","v":"440"}]
[null,{"$f":"'[1]040'!A8","v":"Fehlerart nicht zuordenbar"},{"$f":"'[1]040'!B8","v":"999"},{"$f":"'[1]040'!E8","v":"Crushmodul"},{"$f":"'[1]040'!F8","v":"599"},{"$f":"'[1]040'!E29","v":"Reedkontakt (Tuererkennung, ...)"},{"$f":"'[1]040'!F29","v":"068"}]
[null,{"$f":"'[1]040'!A9","v":"Kurzschluss"},{"$f":"'[1]040'!B9","v":"034"},{"$f":"'[1]040'!E9","v":"Druckausgleichsventil"},{"$f":"'[1]040'!F9","v":"274"},{"$f":"'[1]040'!E30","v":"Regelthermostat"},{"$f":"'[1]040'!F30","v":"074"}]
[null,{"$f":"'[1]040'!A10","v":"Leitungen beschaedigt"},{"$f":"'[1]040'!B10","v":"036"},{"$f":"'[1]040'!E10","v":"Druckschalter"},{"$f":"'[1]040'!F10","v":"678"},{"$f":"'[1]040'!E31","v":"RS485-Modul"},{"$f":"'[1]040'!F31","v":"681"}]
[null,{"$f":"'[1]040'!A11","v":"Leitungen Verdrahtungsfehler"},{"$f":"'[1]040'!B11","v":"297"},{"$f":"'[1]040'!E11","v":"Eiswuerfelbereiter"},{"$f":"'[1]040'!F11","v":"265"},{"$f":"'[1]040'!E32","v":"Sicherheitstemperaturbegrenzer"},{"$f":"'[1]040'!F32","v":"277"}]
[null,{"$f":"'[1]040'!A12","v":"regelt falsch"},{"$f":"'[1]040'!B12","v":"039"},{"$f":"'[1]040'!E12","v":"Fehlerort nicht zuordenbar"},{"$f":"'[1]040'!F12","v":"999"},{"$f":"'[1]040'!E33","v":"Sicherheitsthermostat"},{"$f":"'[1]040'!F33","v":"517"}]
[null,{"$f":"'[1]040'!A13","v":"schaltet nicht"},{"$f":"'[1]040'!B13","v":"202"},{"$f":"'[1]040'!E13","v":"Fernschloss"},{"$f":"'[1]040'!F13","v":"527"},{"$f":"'[1]040'!E34","v":"Sicherung"},{"$f":"'[1]040'!F34","v":"680"}]
[null,{"$f":"'[1]040'!A14","v":"verschmort"},{"$f":"'[1]040'!B14","v":"040"},{"$f":"'[1]040'!E14","v":"Feuchtesensor"},{"$f":"'[1]040'!F14","v":"468"},{"$f":"'[1]040'!E35","v":"Stecker/ Schraubverbindung"},{"$f":"'[1]040'!F35","v":"071"}]
[null,{"$f":"'[1]040'!A15","v":"Wackelkontakt"},{"$f":"'[1]040'!B15","v":"041"},{"$f":"'[1]040'!E15","v":"Heizung"},{"$f":"'[1]040'!F15","v":"060"},{"$f":"'[1]040'!E36","v":"Taster/ Schalter"},{"$f":"'[1]040'!F36","v":"072"}]
[null,null,null,{"$f":"'[1]040'!E16","v":"Helligkeitssensor"},{"$f":"'[1]040'!F16","v":"682"},{"$f":"'[1]040'!E37","v":"Temperaturfuehler"},{"$f":"'[1]040'!F37","v":"073"}]
[null,null,null,{"$f":"'[1]040'!E17","v":"Humidifier (Hydrobreeze)"},{"$f":"'[1]040'!F17","v":"683"},{"$f":"'[1]040'!E38","v":"Thermometer"},{"$f":"'[1]040'!F38","v":"085"}]
[null,null,null,{"$f":"'[1]040'!E18","v":"Isolationsplatte"},{"$f":"'[1]040'!F18","v":"061"},{"$f":"'[1]040'!E39","v":"Tuerheizung"},{"$f":"'[1]040'!F39","v":"467"}]
[null,null,null,{"$f":"'[1]040'!E19","v":"Kabelstrang/ Leitung"},{"$f":"'[1]040'!F19","v":"062"},{"$f":"'[1]040'!E40","v":"Türöffnungsmodul"},{"$f":"'[1]040'!F40","v":"609"}]
[null,null,null,{"$f":"'[1]040'!E20","v":"Kompressor"},{"$f":"'[1]040'!F20","v":"063"},{"$f":"'[1]040'!E41","v":"Ventil Kaeltekreislauf"},{"$f":"'[1]040'!F41","v":"009"}]
[null,null,null,{"$f":"'[1]040'!E21","v":"Kompressor-Anlassvorrichtung"},{"$f":"'[1]040'!F21","v":"064"},{"$f":"'[1]040'!E42","v":"Ventil Wasserzulauf"},{"$f":"'[1]040'!F42","v":"252"}]
[null,null,null,{"$f":"'[1]040'!E22","v":"Kompressor-Motorschutzschalter"},{"$f":"'[1]040'!F22","v":"065"},{"$f":"'[1]040'!E43","v":"Ventilator - GT"},{"$f":"'[1]040'!F43","v":"523"}]
[null,null,null,{"$f":"'[1]040'!E23","v":"Kondensator"},{"$f":"'[1]040'!F23","v":"066"},{"$f":"'[1]040'!E44","v":"Ventilator - KT/ Biofresh"},{"$f":"'[1]040'!F44","v":"524"}]
[null,null,null,{"$f":"'[1]040'!E24","v":"Kontrollleuchten"},{"$f":"'[1]040'!F24","v":"067"},{"$f":"'[1]040'!E45","v":"Ventilator - Verfluessiger"},{"$f":"'[1]040'!F45","v":"522"}]
[null,null,null,{"$f":"'[1]040'!E25","v":"Kuehlkassette"},{"$f":"'[1]040'!F25","v":"525"},{"$f":"'[1]040'!E46","v":"Verteilerleiste"},{"$f":"'[1]040'!F46","v":"075"}]
["Elektronik",{"$f":"'[1]045'!A5","v":"Beleuchtung wird nicht / teilweise / unzureichend angesteuert"},{"$f":"'[1]045'!B5","v":"042"},{"$f":"'[1]045'!E5","v":"Bedienteil, -oberflaeche (User Interface)"},{"$f":"'[1]045'!F5","v":"612"}]
[45,{"$f":"'[1]045'!A6","v":"Fehlerart nicht zuordenbar"},{"$f":"'[1]045'!B6","v":"999"},{"$f":"'[1]045'!E6","v":"Dimmer"},{"$f":"'[1]045'!F6","v":"519"}]
[null,{"$f":"'[1]045'!A7","v":"fehlerhafte Anzeige / Display"},{"$f":"'[1]045'!B7","v":"043"},{"$f":"'[1]045'!E7","v":"Elektronik Eiswuerfelbereiter"},{"$f":"'[1]045'!F7","v":"264"}]
["(Fehler an elektronischen Baugruppen)",{"$f":"'[1]045'!A8","v":"Fehlfunktion allgemein"},{"$f":"'[1]045'!B8","v":"044"},{"$f":"'[1]045'!E8","v":"Elektronikplatine"},{"$f":"'[1]045'!F8","v":"172"}]
[null,{"$f":"'[1]045'!A9","v":"Heizung wird nicht angesteuert"},{"$f":"'[1]045'!B9","v":"045"},{"$f":"'[1]045'!E9","v":"Fehlerort nicht zuordenbar"},{"$f":"'[1]045'!F9","v":"999"}]
[null,{"$f":"'[1]045'!A10","v":"Kompressor wird nicht angesteuert"},{"$f":"'[1]045'!B10","v":"046"},{"$f":"'[1]045'!E10","v":"Halbleiterrelais"},{"$f":"'[1]045'!F10","v":"698"}]
[null,{"$f":"'[1]045'!A11","v":"Kontrollleuchte defekt"},{"$f":"'[1]045'!B11","v":"047"},{"$f":"'[1]045'!E11","v":"Inverterelektronik (VCC)"},{"$f":"'[1]045'!F11","v":"260"}]
[null,{"$f":"'[1]045'!A12","v":"Kurzschluss"},{"$f":"'[1]045'!B12","v":"034"},{"$f":"'[1]045'!E12","v":"Netzanschlussplatine"},{"$f":"'[1]045'!F12","v":"606"}]
[null,{"$f":"'[1]045'!A13","v":"Luftklappe wird nicht angesteuert"},{"$f":"'[1]045'!B13","v":"299"},{"$f":"'[1]045'!E13","v":"Netzfilter"},{"$f":"'[1]045'!F13","v":"684"}]
[null,{"$f":"'[1]045'!A14","v":"Magnetventil wird nicht angesteuert"},{"$f":"'[1]045'!B14","v":"048"},{"$f":"'[1]045'!E14","v":"Netzteil LED-Beleuchtung / Trafo"},{"$f":"'[1]045'!F14","v":"442"}]
[null,{"$f":"'[1]045'!A15","v":"Pumpe Wassertank wird nicht angesteuert"},{"$f":"'[1]045'!B15","v":"298"},{"$f":"'[1]045'!E15","v":"NFC, RFID Chip"},{"$f":"'[1]045'!F15","v":"685"}]
[null,{"$f":"'[1]045'!A16","v":"regelt falsch"},{"$f":"'[1]045'!B16","v":"039"},{"$f":"'[1]045'!E16","v":"Platinenstecker"},{"$f":"'[1]045'!F16","v":"082"}]
[null,{"$f":"'[1]045'!A17","v":"Softwarefehler (BUG)"},{"$f":"'[1]045'!B17","v":"588"},{"$f":"'[1]045'!E17","v":"RS485-Modul"},{"$f":"'[1]045'!F17","v":"681"}]
[null,{"$f":"'[1]045'!A18","v":"Taster oder Schalter defekt"},{"$f":"'[1]045'!B18","v":"049"},{"$f":"'[1]045'!E18","v":"Smartsensoren"},{"$f":"'[1]045'!F18","v":"686"}]
[null,{"$f":"'[1]045'!A19","v":"Temperaturschwankungen"},{"$f":"'[1]045'!B19","v":"050"},{"$f":"'[1]045'!E19","v":"Taster/ Schalter"},{"$f":"'[1]045'!F19","v":"072"}]
[null,{"$f":"'[1]045'!A20","v":"Tonwarner ohne Funktion"},{"$f":"'[1]045'!B20","v":"051"},{"$f":"'[1]045'!E20","v":"Temperaturwaechter"},{"$f":"'[1]045'!F20","v":"516"}]
[null,{"$f":"'[1]045'!A21","v":"unberechtigter Temperaturalarm"},{"$f":"'[1]045'!B21","v":"054"},{"$f":"'[1]045'!E21","v":"Verbindungsmodul"},{"$f":"'[1]045'!F21","v":"441"}]
[null,{"$f":"'[1]045'!A22","v":"Unterbrechung (Haarriss, Loetstelle usw.)"},{"$f":"'[1]045'!B22","v":"055"}]
[null,{"$f":"'[1]045'!A23","v":"Ventilator wird nicht angesteuert"},{"$f":"'[1]045'!B23","v":"056"}]
[null,{"$f":"'[1]045'!A24","v":"verschmort"},{"$f":"'[1]045'!B24","v":"040"}]
[null,{"$f":"'[1]045'!A25","v":"Wackelkontakt"},{"$f":"'[1]045'!B25","v":"041"}]
["Mechanik",{"$f":"'[1]050'!A5","v":"abgenutzt"},{"$f":"'[1]050'!B5","v":"057"},{"$f":"'[1]050'!E5","v":"Ausgabeeinheit Eis/ Wasser"},{"$f":"'[1]050'!F5","v":"432"},{"$f":"'[1]050'!E15","v":"Luftklappe"},{"$f":"'[1]050'!F15","v":"439"}]
[50,{"$f":"'[1]050'!A6","v":"blockiert / klemmt"},{"$f":"'[1]050'!B6","v":"058"},{"$f":"'[1]050'!E6","v":"Auszug-/ Teleskopschiene"},{"$f":"'[1]050'!F6","v":"259"},{"$f":"'[1]050'!E16","v":"Scharnier/ Tuerlagerung"},{"$f":"'[1]050'!F16","v":"418"}]
[null,{"$f":"'[1]050'!A7","v":"Bruch"},{"$f":"'[1]050'!B7","v":"010"},{"$f":"'[1]050'!E7","v":"Crushmodul"},{"$f":"'[1]050'!F7","v":"599"},{"$f":"'[1]050'!E17","v":"Schliessdaempfung"},{"$f":"'[1]050'!F17","v":"408"}]
[null,{"$f":"'[1]050'!A8","v":"falsche Anzeige"},{"$f":"'[1]050'!B8","v":"033"},{"$f":"'[1]050'!E8","v":"Eiswuerfelbereiter"},{"$f":"'[1]050'!F8","v":"265"},{"$f":"'[1]050'!E18","v":"Schloss"},{"$f":"'[1]050'!F18","v":"084"}]
[null,{"$f":"'[1]050'!A9","v":"Fehlerart nicht zuordenbar"},{"$f":"'[1]050'!B9","v":"999"},{"$f":"'[1]050'!E9","v":"Fehlerort nicht zuordenbar"},{"$f":"'[1]050'!F9","v":"999"},{"$f":"'[1]050'!E19","v":"Taster/ Schalter"},{"$f":"'[1]050'!F19","v":"072"}]
[null,{"$f":"'[1]050'!A10","v":"schwergaengig"},{"$f":"'[1]050'!B10","v":"023"},{"$f":"'[1]050'!E10","v":"Fernschloss"},{"$f":"'[1]050'!F10","v":"527"},{"$f":"'[1]050'!E20","v":"Thermometer"},{"$f":"'[1]050'!F20","v":"085"}]
[null,{"$f":"'[1]050'!A11","v":"Verbogen/Verzogen"},{"$f":"'[1]050'!B11","v":"025"},{"$f":"'[1]050'!E11","v":"Fuss/ Rolle"},{"$f":"'[1]050'!F11","v":"028"},{"$f":"'[1]050'!E21","v":"Türöffnungsmodul"},{"$f":"'[1]050'!F21","v":"609"}]
[null,{"$f":"'[1]050'!A12","v":"verstellt/versetzt"},{"$f":"'[1]050'!B12","v":"027"},{"$f":"'[1]050'!E12","v":"Fusspedaloeffner"},{"$f":"'[1]050'!F12","v":"600"},{"$f":"'[1]050'!E22","v":"Ventilator - GT"},{"$f":"'[1]050'!F22","v":"523"}]
[null,null,null,{"$f":"'[1]050'!E13","v":"Griff"},{"$f":"'[1]050'!F13","v":"030"},{"$f":"'[1]050'!E23","v":"Ventilator - KT/ Biofresh"},{"$f":"'[1]050'!F23","v":"524"}]
[null,null,null,{"$f":"'[1]050'!E14","v":"Humidifier (Hydrobreeze)"},{"$f":"'[1]050'!F14","v":"683"},{"$f":"'[1]050'!E24","v":"Ventilator - Verfluessiger"},{"$f":"'[1]050'!F24","v":"522"}]
["Geräusch",{"$f":"'[1]060'!A5","v":"Fehlerart nicht zuordenbar"},{"$f":"'[1]060'!B5","v":"999"},{"$f":"'[1]060'!E5","v":"Abdeckung Verdampfer"},{"$f":"'[1]060'!F5","v":"528"},{"$f":"'[1]060'!E18","v":"Schliessdaempfung"},{"$f":"'[1]060'!F18","v":"408"}]
[60,{"$f":"'[1]060'!A6","v":"Gluckern"},{"$f":"'[1]060'!B6","v":"687"},{"$f":"'[1]060'!E6","v":"Absorber"},{"$f":"'[1]060'!F6","v":"596"},{"$f":"'[1]060'!E19","v":"Syphon"},{"$f":"'[1]060'!F19","v":"688"}]
[null,{"$f":"'[1]060'!A7","v":"Klappergeräusch/Klopfgeräusch"},{"$f":"'[1]060'!B7","v":"089"},{"$f":"'[1]060'!E7","v":"Crushmodul"},{"$f":"'[1]060'!F7","v":"599"},{"$f":"'[1]060'!E20","v":"Tauwasserschale"},{"$f":"'[1]060'!F20","v":"052"}]
[null,{"$f":"'[1]060'!A8","v":"Knackgeraeusch"},{"$f":"'[1]060'!B8","v":"064"},{"$f":"'[1]060'!E8","v":"Druckausgleichsventil"},{"$f":"'[1]060'!F8","v":"274"},{"$f":"'[1]060'!E21","v":"Trennplatte vertikal"},{"$f":"'[1]060'!F21","v":"266"}]
[null,{"$f":"'[1]060'!A9","v":"Knarr-/ Quietschgeräusch"},{"$f":"'[1]060'!B9","v":"065"},{"$f":"'[1]060'!E9","v":"Eiswuerfelbereiter"},{"$f":"'[1]060'!F9","v":"265"},{"$f":"'[1]060'!E22","v":"Türöffnungsmodul"},{"$f":"'[1]060'!F22","v":"609"}]
[null,{"$f":"'[1]060'!A10","v":"Laufgeraeusch"},{"$f":"'[1]060'!B10","v":"066"},{"$f":"'[1]060'!E10","v":"Fehlerort nicht zuordenbar"},{"$f":"'[1]060'!F10","v":"999"},{"$f":"'[1]060'!E23","v":"Ventil Kaeltekreislauf"},{"$f":"'[1]060'!F23","v":"009"}]
[null,{"$f":"'[1]060'!A11","v":"Schaltgeraeusch"},{"$f":"'[1]060'!B11","v":"203"},{"$f":"'[1]060'!E11","v":"Inverterelektronik (VCC)"},{"$f":"'[1]060'!F11","v":"260"},{"$f":"'[1]060'!E24","v":"Ventil Wasserzulauf"},{"$f":"'[1]060'!F24","v":"252"}]
[null,{"$f":"'[1]060'!A12","v":"Strömungs-/Einspritzgeräusch"},{"$f":"'[1]060'!B12","v":"300"},{"$f":"'[1]060'!E12","v":"Kapillare"},{"$f":"'[1]060'!F12","v":"002"},{"$f":"'[1]060'!E25","v":"Ventilator - GT"},{"$f":"'[1]060'!F25","v":"523"}]
[null,{"$f":"'[1]060'!A13","v":"Vibrationsgeraeusch"},{"$f":"'[1]060'!B13","v":"069"},{"$f":"'[1]060'!E13","v":"Kompressor"},{"$f":"'[1]060'!F13","v":"063"},{"$f":"'[1]060'!E26","v":"Ventilator - KT/ Biofresh"},{"$f":"'[1]060'!F26","v":"524"}]
[null,null,null,{"$f":"'[1]060'!E14","v":"Kuehlkassette"},{"$f":"'[1]060'!F14","v":"525"},{"$f":"'[1]060'!E27","v":"Ventilator - Verfluessiger"},{"$f":"'[1]060'!F27","v":"522"}]
[null,null,null,{"$f":"'[1]060'!E15","v":"Regelthermostat"},{"$f":"'[1]060'!F15","v":"074"},{"$f":"'[1]060'!E28","v":"Verdampfer Gefrierteil"},{"$f":"'[1]060'!F28","v":"017"}]
[null,null,null,{"$f":"'[1]060'!E16","v":"Rohre"},{"$f":"'[1]060'!F16","v":"087"},{"$f":"'[1]060'!E29","v":"Verdampfer Kuehlteil"},{"$f":"'[1]060'!F29","v":"018"}]
[null,null,null,{"$f":"'[1]060'!E17","v":"Scharnier/ Tuerlagerung"},{"$f":"'[1]060'!F17","v":"418"},{"$f":"'[1]060'!E30","v":"Verfluessiger"},{"$f":"'[1]060'!F30","v":"020"}]
["Oberflächen",{"$f":"'[1]065'!A5","v":"Abdruck"},{"$f":"'[1]065'!B5","v":"070"},{"$f":"'[1]065'!E5","v":"Abdeckung Verdampfer"},{"$f":"'[1]065'!F5","v":"528"},{"$f":"'[1]065'!E22","v":"Innentür Kühlteil Edelstahlverkleidung"},{"$f":"'[1]065'!F22","v":"700"}]
[65,{"$f":"'[1]065'!A6","v":"abgeloest"},{"$f":"'[1]065'!B6","v":"405"},{"$f":"'[1]065'!E6","v":"Bedienoberflaeche"},{"$f":"'[1]065'!F6","v":"419"},{"$f":"'[1]065'!E23","v":"Kompressortraeger"},{"$f":"'[1]065'!F23","v":"309"}]
[null,{"$f":"'[1]065'!A7","v":"blaettert ab"},{"$f":"'[1]065'!B7","v":"087"},{"$f":"'[1]065'!E7","v":"Beleuchtung"},{"$f":"'[1]065'!F7","v":"059"},{"$f":"'[1]065'!E24","v":"Querverbindung"},{"$f":"'[1]065'!F24","v":"099"}]
["(Gerät oder Einzelteile/ Innen oder außen - \nkein Transport-schaden erkennbar!)",{"$f":"'[1]065'!A8","v":"Farbabweichung"},{"$f":"'[1]065'!B8","v":"165"},{"$f":"'[1]065'!E8","v":"Branding (Aufkleber, Logo, …)"},{"$f":"'[1]065'!F8","v":"530"},{"$f":"'[1]065'!E25","v":"Rueckseite"},{"$f":"'[1]065'!F25","v":"034"}]
[null,{"$f":"'[1]065'!A9","v":"Fehlerart nicht zuordenbar"},{"$f":"'[1]065'!B9","v":"999"},{"$f":"'[1]065'!E9","v":"Deckel (Truhe) / Schiebedeckel"},{"$f":"'[1]065'!F9","v":"026"},{"$f":"'[1]065'!E26","v":"Schublade"},{"$f":"'[1]065'!F26","v":"102"}]
[null,{"$f":"'[1]065'!A10","v":"Flecken"},{"$f":"'[1]065'!B10","v":"302"},{"$f":"'[1]065'!E10","v":"Dichtung Tuer Gefrierteil"},{"$f":"'[1]065'!F10","v":"531"},{"$f":"'[1]065'!E27","v":"Seitenwand allgemein"},{"$f":"'[1]065'!F27","v":"036"}]
[null,{"$f":"'[1]065'!A11","v":"Folienrueckstaende"},{"$f":"'[1]065'!B11","v":"303"},{"$f":"'[1]065'!E11","v":"Dichtung Tuer Kuehlteil"},{"$f":"'[1]065'!F11","v":"532"},{"$f":"'[1]065'!E28","v":"Seitenwand allgemein Dekorstreifen"},{"$f":"'[1]065'!F28","v":"689"}]
[null,{"$f":"'[1]065'!A12","v":"Korrosion"},{"$f":"'[1]065'!B12","v":"071"},{"$f":"'[1]065'!E12","v":"Dichtung Tuer Sterne-Fach"},{"$f":"'[1]065'!F12","v":"159"},{"$f":"'[1]065'!E29","v":"Thermostat-/ Lichtschaltergehaeuse"},{"$f":"'[1]065'!F29","v":"053"}]
[null,{"$f":"'[1]065'!A13","v":"Kratzer"},{"$f":"'[1]065'!B13","v":"013"},{"$f":"'[1]065'!E13","v":"Draht-/ Holzrost"},{"$f":"'[1]065'!F13","v":"336"},{"$f":"'[1]065'!E30","v":"Trennplatte Horizontal/ Zwischensteg"},{"$f":"'[1]065'!F30","v":"438"}]
[null,{"$f":"'[1]065'!A14","v":"Schliffbild Edelstahl"},{"$f":"'[1]065'!B14","v":"301"},{"$f":"'[1]065'!E14","v":"Fehlerort nicht zuordenbar"},{"$f":"'[1]065'!F14","v":"999"},{"$f":"'[1]065'!E31","v":"Trennplatte vertikal"},{"$f":"'[1]065'!F31","v":"266"}]
[null,{"$f":"'[1]065'!A15","v":"Wölbung/Beule"},{"$f":"'[1]065'!B15","v":"088"},{"$f":"'[1]065'!E15","v":"Geraetedecke/ Tischplatte"},{"$f":"'[1]065'!F15","v":"040"},{"$f":"'[1]065'!E32","v":"Truhenabdeckrahmen"},{"$f":"'[1]065'!F32","v":"041"}]
[null,{"$f":"'[1]065'!A16","v":"Zu viel Lack"},{"$f":"'[1]065'!B16","v":"030"},{"$f":"'[1]065'!E16","v":"Griff"},{"$f":"'[1]065'!F16","v":"030"},{"$f":"'[1]065'!E33","v":"Tuer Gefrierteil"},{"$f":"'[1]065'!F33","v":"042"}]
[null,{"$f":"'[1]065'!A17","v":"zu wenig Lack"},{"$f":"'[1]065'!B17","v":"072"},{"$f":"'[1]065'!E17","v":"Innenbehälter Gefrierteil"},{"$f":"'[1]065'!F17","v":"364"},{"$f":"'[1]065'!E34","v":"Tuer Kuehlteil"},{"$f":"'[1]065'!F34","v":"043"}]
[null,null,null,{"$f":"'[1]065'!E18","v":"Innenbehälter Kühlteil"},{"$f":"'[1]065'!F18","v":"701"},{"$f":"'[1]065'!E35","v":"Tür Gefrierteil Dekorstreifen"},{"$f":"'[1]065'!F35","v":"690"}]
[null,null,null,{"$f":"'[1]065'!E19","v":"Innenbehälter Kühlteil Edelstahlverkleidung"},{"$f":"'[1]065'!F19","v":"699"},{"$f":"'[1]065'!E36","v":"Tür Kühlteil Dekorstreifen"},{"$f":"'[1]065'!F36","v":"691"}]
[null,null,null,{"$f":"'[1]065'!E20","v":"Innentür Gefrierteil"},{"$f":"'[1]065'!F20","v":"374"},{"$f":"'[1]065'!E37","v":"Verdampfer Kuehlteil"},{"$f":"'[1]065'!F37","v":"018"}]
[null,null,null,{"$f":"'[1]065'!E21","v":"Innentür Kühlteil"},{"$f":"'[1]065'!F21","v":"702"},{"$f":"'[1]065'!E38","v":"Wildgehaenge"},{"$f":"'[1]065'!F38","v":"611"}]
["Transport-",{"$f":"'[1]025'!A5","v":"Bruch"},{"$f":"'[1]025'!B5","v":"010"},{"$f":"'[1]025'!E5","v":"Aussentuer, Mitte"},{"$f":"'[1]025'!F5","v":"421"},{"$f":"'[1]025'!E25","v":"Innentür Kühlteil"},{"$f":"'[1]025'!F25","v":"702"}]
["schaden",{"$f":"'[1]025'!A6","v":"Delle"},{"$f":"'[1]025'!B6","v":"011"},{"$f":"'[1]025'!E6","v":"Aussentuer, Oben"},{"$f":"'[1]025'!F6","v":"420"},{"$f":"'[1]025'!E26","v":"Kompartimenttür"},{"$f":"'[1]025'!F26","v":"692"}]
["Verpackung",{"$f":"'[1]025'!A7","v":"Knick"},{"$f":"'[1]025'!B7","v":"012"},{"$f":"'[1]025'!E7","v":"Aussentuer, Unten"},{"$f":"'[1]025'!F7","v":"422"},{"$f":"'[1]025'!E27","v":"Kompressorlagerung"},{"$f":"'[1]025'!F27","v":"033"}]
["beschädigt",{"$f":"'[1]025'!A8","v":"Kratzer"},{"$f":"'[1]025'!B8","v":"013"},{"$f":"'[1]025'!E8","v":"Bedienoberflaeche"},{"$f":"'[1]025'!F8","v":"419"},{"$f":"'[1]025'!E28","v":"Kompressortraeger"},{"$f":"'[1]025'!F28","v":"309"}]
[25,{"$f":"'[1]025'!A9","v":"lose"},{"$f":"'[1]025'!B9","v":"014"},{"$f":"'[1]025'!E9","v":"Beleuchtung"},{"$f":"'[1]025'!F9","v":"059"},{"$f":"'[1]025'!E29","v":"Querverbindung"},{"$f":"'[1]025'!F29","v":"099"}]
[null,{"$f":"'[1]025'!A10","v":"Riss"},{"$f":"'[1]025'!B10","v":"015"},{"$f":"'[1]025'!E10","v":"Branding (Aufkleber, Logo, …)"},{"$f":"'[1]025'!F10","v":"530"},{"$f":"'[1]025'!E30","v":"Rueckseite"},{"$f":"'[1]025'!F30","v":"034"}]
["Transport-",{"$f":"'[1]025'!A11","v":"Scheuerstelle"},{"$f":"'[1]025'!B11","v":"016"},{"$f":"'[1]025'!E11","v":"Deckel (Truhe) Links "},{"$f":"'[1]025'!F11","v":"428"},{"$f":"'[1]025'!E31","v":"Scharnier/ Tuerlagerung"},{"$f":"'[1]025'!F31","v":"418"}]
["schaden",{"$f":"'[1]025'!A12","v":"Stauchung"},{"$f":"'[1]025'!B12","v":"017"},{"$f":"'[1]025'!E12","v":"Deckel (Truhe) Mitte"},{"$f":"'[1]025'!F12","v":"429"},{"$f":"'[1]025'!E32","v":"Seitenwand links, Mitte"},{"$f":"'[1]025'!F32","v":"382"}]
["Verpackung",null,null,{"$f":"'[1]025'!E13","v":"Deckel (Truhe) Rechts"},{"$f":"'[1]025'!F13","v":"430"},{"$f":"'[1]025'!E33","v":"Seitenwand links, Oben"},{"$f":"'[1]025'!F33","v":"381"}]
["nicht mehr",null,null,{"$f":"'[1]025'!E14","v":"Fehlerort nicht zuordenbar"},{"$f":"'[1]025'!F14","v":"999"},{"$f":"'[1]025'!E34","v":"Seitenwand links, Unten"},{"$f":"'[1]025'!F34","v":"383"}]
["vorhanden",null,null,{"$f":"'[1]025'!E15","v":"Front Links (Truhe)"},{"$f":"'[1]025'!F15","v":"425"},{"$f":"'[1]025'!E35","v":"Seitenwand rechts, Mitte"},{"$f":"'[1]025'!F35","v":"379"}]
[26,null,null,{"$f":"'[1]025'!E16","v":"Front Mitte (Truhe)"},{"$f":"'[1]025'!F16","v":"426"},{"$f":"'[1]025'!E36","v":"Seitenwand rechts, Oben"},{"$f":"'[1]025'!F36","v":"378"}]
[null,null,null,{"$f":"'[1]025'!E17","v":"Front Rechts (Truhe)"},{"$f":"'[1]025'!F17","v":"427"},{"$f":"'[1]025'!E37","v":"Seitenwand rechts, Unten"},{"$f":"'[1]025'!F37","v":"380"}]
["Schadensur-",null,null,{"$f":"'[1]025'!E18","v":"Fuss/ Rolle"},{"$f":"'[1]025'!F18","v":"028"},{"$f":"'[1]025'!E38","v":"Sockelblende"},{"$f":"'[1]025'!F38","v":"038"}]
["sache unklar",null,null,{"$f":"'[1]025'!E19","v":"Geraetedecke/ Tischplatte"},{"$f":"'[1]025'!F19","v":"040"},{"$f":"'[1]025'!E39","v":"Teile der Innenausstattung"},{"$f":"'[1]025'!F39","v":"039"}]
["Verpackung",null,null,{"$f":"'[1]025'!E20","v":"Glasplatten, Absteller usw."},{"$f":"'[1]025'!F20","v":"029"},{"$f":"'[1]025'!E40","v":"Truhenabdeckrahmen"},{"$f":"'[1]025'!F40","v":"041"}]
["nicht",null,null,{"$f":"'[1]025'!E21","v":"Griff"},{"$f":"'[1]025'!F21","v":"030"},{"$f":"'[1]025'!E41","v":"untere Aussentuer, Oben"},{"$f":"'[1]025'!F41","v":"423"}]
[null,null,null,{"$f":"'[1]025'!E22","v":"Innenbehälter Gefrierteil"},{"$f":"'[1]025'!F22","v":"364"},{"$f":"'[1]025'!E42","v":"untere Aussentuer, Unten"},{"$f":"'[1]025'!F42","v":"424"}]
["beschädigt",null,null,{"$f":"'[1]025'!E23","v":"Innenbehälter Kühlteil"},{"$f":"'[1]025'!F23","v":"701"},{"$f":"'[1]025'!E43","v":"Verfluessiger"},{"$f":"'[1]025'!F43","v":"020"}]
[27,null,null,{"$f":"'[1]025'!E24","v":"Innentür Gefrierteil"},{"$f":"'[1]025'!F24","v":"374"}]
["Produkt-",{"$f":"'[1]030'!A5","v":"blockiert / klemmt"},{"$f":"'[1]030'!B5","v":"058"},{"$f":"'[1]030'!E5","v":"Abdeckung"},{"$f":"'[1]030'!F5","v":"105"},{"$f":"'[1]030'!E48","v":"Luftfuehrung"},{"$f":"'[1]030'!F48","v":"520"}]
["mangel",{"$f":"'[1]030'!A6","v":"Bruch"},{"$f":"'[1]030'!B6","v":"010"},{"$f":"'[1]030'!E6","v":"Abdeckung Verdampfer"},{"$f":"'[1]030'!F6","v":"528"},{"$f":"'[1]030'!E49","v":"Profilleiste (Price-tag, Scannerschiene,..)"},{"$f":"'[1]030'!F49","v":"607"}]
[30,{"$f":"'[1]030'!A7","v":"falsch montiert"},{"$f":"'[1]030'!B7","v":"091"},{"$f":"'[1]030'!E7","v":"Absorber"},{"$f":"'[1]030'!F7","v":"596"},{"$f":"'[1]030'!E50","v":"Querverbindung"},{"$f":"'[1]030'!F50","v":"099"}]
[null,{"$f":"'[1]030'!A8","v":"Fehlerart nicht zuordenbar"},{"$f":"'[1]030'!B8","v":"999"},{"$f":"'[1]030'!E8","v":"Ausgabeeinheit Eis/ Wasser"},{"$f":"'[1]030'!F8","v":"432"},{"$f":"'[1]030'!E51","v":"Regelknopf"},{"$f":"'[1]030'!F51","v":"050"}]
[null,{"$f":"'[1]030'!A9","v":"fehlt"},{"$f":"'[1]030'!B9","v":"018"},{"$f":"'[1]030'!E9","v":"Auszug-/ Teleskopschiene"},{"$f":"'[1]030'!F9","v":"259"},{"$f":"'[1]030'!E52","v":"Rollenplatte"},{"$f":"'[1]030'!F52","v":"437"}]
["(kein ",{"$f":"'[1]030'!A10","v":"Geruch"},{"$f":"'[1]030'!B10","v":"083"},{"$f":"'[1]030'!E10","v":"Bedienoberflaeche"},{"$f":"'[1]030'!F10","v":"419"},{"$f":"'[1]030'!E53","v":"Rueckseite"},{"$f":"'[1]030'!F53","v":"034"}]
["Transport-",{"$f":"'[1]030'!A11","v":"Isolationsfehler"},{"$f":"'[1]030'!B11","v":"296"},{"$f":"'[1]030'!E11","v":"Beipack"},{"$f":"'[1]030'!F11","v":"232"},{"$f":"'[1]030'!E54","v":"Schaltnocken/ Tuermagnet"},{"$f":"'[1]030'!F54","v":"104"}]
["schaden",{"$f":"'[1]030'!A12","v":"Knick"},{"$f":"'[1]030'!B12","v":"012"},{"$f":"'[1]030'!E12","v":"Blende Bedienteil, -oberflaeche (User Interface) "},{"$f":"'[1]030'!F12","v":"613"},{"$f":"'[1]030'!E55","v":"Scharnier/ Tuerlagerung"},{"$f":"'[1]030'!F55","v":"418"}]
["erkennbar)",{"$f":"'[1]030'!A13","v":"Kondenswasser"},{"$f":"'[1]030'!B13","v":"019"},{"$f":"'[1]030'!E13","v":"Branding (Aufkleber, Logo, …)"},{"$f":"'[1]030'!F13","v":"530"},{"$f":"'[1]030'!E56","v":"Schliessdaempfung"},{"$f":"'[1]030'!F56","v":"408"}]
[null,{"$f":"'[1]030'!A14","v":"laeuft ueber"},{"$f":"'[1]030'!B14","v":"020"},{"$f":"'[1]030'!E14","v":"CO2-Notkühlung"},{"$f":"'[1]030'!F14","v":"693"},{"$f":"'[1]030'!E57","v":"Schliessmechanismus"},{"$f":"'[1]030'!F57","v":"472"}]
[null,{"$f":"'[1]030'!A15","v":"lose"},{"$f":"'[1]030'!B15","v":"014"},{"$f":"'[1]030'!E15","v":"Crushmodul"},{"$f":"'[1]030'!F15","v":"599"},{"$f":"'[1]030'!E58","v":"Schublade"},{"$f":"'[1]030'!F58","v":"102"}]
[null,{"$f":"'[1]030'!A16","v":"Riss"},{"$f":"'[1]030'!B16","v":"015"},{"$f":"'[1]030'!E16","v":"Cryo-Racks"},{"$f":"'[1]030'!F16","v":"694"},{"$f":"'[1]030'!E59","v":"Seitenwand allgemein"},{"$f":"'[1]030'!F59","v":"036"}]
[null,{"$f":"'[1]030'!A17","v":"Schaumaustritt"},{"$f":"'[1]030'!B17","v":"103"},{"$f":"'[1]030'!E17","v":"Deckel (Truhe) / Schiebedeckel"},{"$f":"'[1]030'!F17","v":"026"},{"$f":"'[1]030'!E60","v":"Tauwasserablauf"},{"$f":"'[1]030'!F60","v":"051"}]
[null,{"$f":"'[1]030'!A18","v":"schief"},{"$f":"'[1]030'!B18","v":"022"},{"$f":"'[1]030'!E18","v":"Deckel Elektronikeinschub"},{"$f":"'[1]030'!F18","v":"434"},{"$f":"'[1]030'!E61","v":"Tauwasserablaufventil"},{"$f":"'[1]030'!F61","v":"276"}]
[null,{"$f":"'[1]030'!A19","v":"schwergaengig"},{"$f":"'[1]030'!B19","v":"023"},{"$f":"'[1]030'!E19","v":"Dekorrahmen"},{"$f":"'[1]030'!F19","v":"094"},{"$f":"'[1]030'!E62","v":"Tauwasserschale"},{"$f":"'[1]030'!F62","v":"052"}]
[null,{"$f":"'[1]030'!A20","v":"Teil falsch"},{"$f":"'[1]030'!B20","v":"079"},{"$f":"'[1]030'!E20","v":"Dichtung Tuer Gefrierteil"},{"$f":"'[1]030'!F20","v":"531"},{"$f":"'[1]030'!E63","v":"Tauwasserverschluss-Stopfen GT"},{"$f":"'[1]030'!F63","v":"096"}]
[null,{"$f":"'[1]030'!A21","v":"undicht"},{"$f":"'[1]030'!B21","v":"002"},{"$f":"'[1]030'!E21","v":"Dichtung Tuer Kuehlteil"},{"$f":"'[1]030'!F21","v":"532"},{"$f":"'[1]030'!E64","v":"Teile der Innenausstattung"},{"$f":"'[1]030'!F64","v":"039"}]
[null,{"$f":"'[1]030'!A22","v":"Verbogen/Verzogen"},{"$f":"'[1]030'!B22","v":"025"},{"$f":"'[1]030'!E22","v":"Dichtung Tuer Sterne-Fach"},{"$f":"'[1]030'!F22","v":"159"},{"$f":"'[1]030'!E65","v":"Temperaturfuehler"},{"$f":"'[1]030'!F65","v":"073"}]
[null,{"$f":"'[1]030'!A23","v":"Vereisung"},{"$f":"'[1]030'!B23","v":"024"},{"$f":"'[1]030'!E23","v":"Draht-/ Holzrost"},{"$f":"'[1]030'!F23","v":"336"},{"$f":"'[1]030'!E66","v":"Thermostat-/ Lichtschaltergehaeuse"},{"$f":"'[1]030'!F66","v":"053"}]
[null,{"$f":"'[1]030'!A24","v":"Verschmutzt"},{"$f":"'[1]030'!B24","v":"148"},{"$f":"'[1]030'!E24","v":"Druckausgleichsventil"},{"$f":"'[1]030'!F24","v":"274"},{"$f":"'[1]030'!E67","v":"Trennplatte Horizontal/ Zwischensteg"},{"$f":"'[1]030'!F67","v":"438"}]
[null,{"$f":"'[1]030'!A25","v":"verstellt/versetzt"},{"$f":"'[1]030'!B25","v":"027"},{"$f":"'[1]030'!E25","v":"Eiswuerfelbereiter"},{"$f":"'[1]030'!F25","v":"265"},{"$f":"'[1]030'!E68","v":"Trennplatte vertikal"},{"$f":"'[1]030'!F68","v":"266"}]
[null,{"$f":"'[1]030'!A26","v":"verstopft"},{"$f":"'[1]030'!B26","v":"028"},{"$f":"'[1]030'!E26","v":"Eiswuerfelschale"},{"$f":"'[1]030'!F26","v":"295"},{"$f":"'[1]030'!E69","v":"Truhenabdeckrahmen"},{"$f":"'[1]030'!F69","v":"041"}]
[null,{"$f":"'[1]030'!A27","v":"walkt"},{"$f":"'[1]030'!B27","v":"204"},{"$f":"'[1]030'!E27","v":"Fehlerort nicht zuordenbar"},{"$f":"'[1]030'!F27","v":"999"},{"$f":"'[1]030'!E70","v":"Tuer Gefrierteil"},{"$f":"'[1]030'!F70","v":"042"}]
[null,{"$f":"'[1]030'!A28","v":"zu stark angezogen"},{"$f":"'[1]030'!B28","v":"029"},{"$f":"'[1]030'!E28","v":"Fusspedaloeffner"},{"$f":"'[1]030'!F28","v":"600"},{"$f":"'[1]030'!E71","v":"Tuer Kuehlteil"},{"$f":"'[1]030'!F71","v":"043"}]
[null,null,null,{"$f":"'[1]030'!E29","v":"Gehaeusedurchfuehrung"},{"$f":"'[1]030'!F29","v":"047"},{"$f":"'[1]030'!E72","v":"Tuer Sterne-Fach"},{"$f":"'[1]030'!F72","v":"056"}]
[null,null,null,{"$f":"'[1]030'!E30","v":"Geraetedecke/ Tischplatte"},{"$f":"'[1]030'!F30","v":"040"},{"$f":"'[1]030'!E73","v":"Tuerkoppelungssatz"},{"$f":"'[1]030'!F73","v":"097"}]
[null,null,null,{"$f":"'[1]030'!E31","v":"Griff"},{"$f":"'[1]030'!F31","v":"030"},{"$f":"'[1]030'!E74","v":"Türöffnungsmodul"},{"$f":"'[1]030'!F74","v":"609"}]
[null,null,null,{"$f":"'[1]030'!E32","v":"Griffbefestigung (Nietmutter, …)"},{"$f":"'[1]030'!F32","v":"526"},{"$f":"'[1]030'!E75","v":"Ventil Wasserzulauf"},{"$f":"'[1]030'!F75","v":"252"}]
[null,null,null,{"$f":"'[1]030'!E33","v":"Halter fuer Auszug-/ Teleskopschiene"},{"$f":"'[1]030'!F33","v":"431"},{"$f":"'[1]030'!E76","v":"Ventilator - GT"},{"$f":"'[1]030'!F76","v":"523"}]
[null,null,null,{"$f":"'[1]030'!E34","v":"Heizung"},{"$f":"'[1]030'!F34","v":"060"},{"$f":"'[1]030'!E77","v":"Ventilator - KT/ Biofresh"},{"$f":"'[1]030'!F77","v":"524"}]
[null,null,null,{"$f":"'[1]030'!E35","v":"Humidifier (Hydrobreeze)"},{"$f":"'[1]030'!F35","v":"683"},{"$f":"'[1]030'!E78","v":"Ventilator - Verfluessiger"},{"$f":"'[1]030'!F78","v":"522"}]
[null,null,null,{"$f":"'[1]030'!E36","v":"Innenbehälter Gefrierteil"},{"$f":"'[1]030'!F36","v":"364"},{"$f":"'[1]030'!E79","v":"Verbindungsbausatz SBS"},{"$f":"'[1]030'!F79","v":"273"}]
[null,null,null,{"$f":"'[1]030'!E37","v":"Innenbehälter Kühlteil"},{"$f":"'[1]030'!F37","v":"701"},{"$f":"'[1]030'!E80","v":"Verdampfer Gefrierteil"},{"$f":"'[1]030'!F80","v":"017"}]
[null,null,null,{"$f":"'[1]030'!E38","v":"Innenbehälter Kühlteil Edelstahlverkleidung"},{"$f":"'[1]030'!F38","v":"699"},{"$f":"'[1]030'!E81","v":"Verdampfer Kuehlteil"},{"$f":"'[1]030'!F81","v":"018"}]
[null,null,null,{"$f":"'[1]030'!E39","v":"Innentür Gefrierteil"},{"$f":"'[1]030'!F39","v":"374"},{"$f":"'[1]030'!E82","v":"Verdampferwanne"},{"$f":"'[1]030'!F82","v":"257"}]
[null,null,null,{"$f":"'[1]030'!E40","v":"Innentür Kühlteil"},{"$f":"'[1]030'!F40","v":"702"},{"$f":"'[1]030'!E83","v":"Verfluessiger"},{"$f":"'[1]030'!F83","v":"020"}]
[null,null,null,{"$f":"'[1]030'!E41","v":"Innentür Kühlteil Edelstahlverkleidung"},{"$f":"'[1]030'!F41","v":"700"},{"$f":"'[1]030'!E84","v":"Wandabstandhalter"},{"$f":"'[1]030'!F84","v":"529"}]
[null,null,null,{"$f":"'[1]030'!E42","v":"Kaelteakku"},{"$f":"'[1]030'!F42","v":"272"},{"$f":"'[1]030'!E85","v":"Wasserfilter"},{"$f":"'[1]030'!F85","v":"471"}]
[null,null,null,{"$f":"'[1]030'!E43","v":"Kompartimenttür"},{"$f":"'[1]030'!F43","v":"692"},{"$f":"'[1]030'!E86","v":"Wasserschlauch"},{"$f":"'[1]030'!F86","v":"275"}]
[null,null,null,{"$f":"'[1]030'!E44","v":"Kompressortraeger"},{"$f":"'[1]030'!F44","v":"309"},{"$f":"'[1]030'!E87","v":"Wassertank"},{"$f":"'[1]030'!F87","v":"436"}]
[null,null,null,{"$f":"'[1]030'!E45","v":"Kuehlkassette"},{"$f":"'[1]030'!F45","v":"525"},{"$f":"'[1]030'!E88","v":"Wasserzulauf (Eiswuerfelbereiter)"},{"$f":"'[1]030'!F88","v":"521"}]
[null,null,null,{"$f":"'[1]030'!E46","v":"Lichtschalter"},{"$f":"'[1]030'!F46","v":"049"},{"$f":"'[1]030'!E89","v":"Wildgehaenge"},{"$f":"'[1]030'!F89","v":"611"}]
[null,null,null,{"$f":"'[1]030'!E47","v":"Luftfilter"},{"$f":"'[1]030'!F47","v":"604"}]
["kein Fehler",{"$f":"'[1]080'!A5","v":"Bedienungsfehler/nicht Beachtung BDA"},{"$f":"'[1]080'!B5","v":"343"},{"$f":"'[1]080'!E5","v":"Beleuchtung"},{"$f":"'[1]080'!F5","v":"059"},{"$f":"'[1]080'!E27","v":"Technische Klaerung (Funktionsbeschreibung)"},{"$f":"'[1]080'!F27","v":"208"}]
[80,{"$f":"'[1]080'!A6","v":"Demomode bei Inbetriebnahme"},{"$f":"'[1]080'!B6","v":"339"},{"$f":"'[1]080'!E6","v":"Elektronikplatine"},{"$f":"'[1]080'!F6","v":"172"},{"$f":"'[1]080'!E28","v":"Tuer Gefrierteil"},{"$f":"'[1]080'!F28","v":"042"}]
[null,{"$f":"'[1]080'!A7","v":"Einbau-/Aufstellfehler"},{"$f":"'[1]080'!B7","v":"081"},{"$f":"'[1]080'!E7","v":"Fehlerort nicht zuordenbar"},{"$f":"'[1]080'!F7","v":"999"},{"$f":"'[1]080'!E29","v":"Tuer Kuehlteil"},{"$f":"'[1]080'!F29","v":"043"}]
[null,{"$f":"'[1]080'!A8","v":"falsches Geraet"},{"$f":"'[1]080'!B8","v":"346"},{"$f":"'[1]080'!E8","v":"Gehaeuse"},{"$f":"'[1]080'!F8","v":"223"},{"$f":"'[1]080'!E30","v":"Türöffnungsmodul"},{"$f":"'[1]080'!F30","v":"609"}]
[null,{"$f":"'[1]080'!A9","v":"Fehler tritt z. Zt. nicht auf"},{"$f":"'[1]080'!B9","v":"082"},{"$f":"'[1]080'!E9","v":"Geraetebelueftung"},{"$f":"'[1]080'!F9","v":"474"},{"$f":"'[1]080'!E31","v":"Ventil Kaeltekreislauf"},{"$f":"'[1]080'!F31","v":"009"}]
[null,{"$f":"'[1]080'!A10","v":"Fehlerart nicht zuordenbar"},{"$f":"'[1]080'!B10","v":"999"},{"$f":"'[1]080'!E10","v":"Geraetemerkmale"},{"$f":"'[1]080'!F10","v":"206"},{"$f":"'[1]080'!E32","v":"Ventil Wasserzulauf"},{"$f":"'[1]080'!F32","v":"252"}]
[null,{"$f":"'[1]080'!A11","v":"Geruch"},{"$f":"'[1]080'!B11","v":"083"},{"$f":"'[1]080'!E11","v":"Griff"},{"$f":"'[1]080'!F11","v":"030"},{"$f":"'[1]080'!E33","v":"Ventilator - GT"},{"$f":"'[1]080'!F33","v":"523"}]
[null,{"$f":"'[1]080'!A12","v":"Inkompatibel (z.B. Tablet, Smartphone)"},{"$f":"'[1]080'!B12","v":"410"},{"$f":"'[1]080'!E12","v":"Hausinstallation"},{"$f":"'[1]080'!F12","v":"473"},{"$f":"'[1]080'!E34","v":"Ventilator - KT/ Biofresh"},{"$f":"'[1]080'!F34","v":"524"}]
[null,{"$f":"'[1]080'!A13","v":"normale Betriebsgeraeusche"},{"$f":"'[1]080'!B13","v":"304"},{"$f":"'[1]080'!E13","v":"Humidifier (Hydrobreeze)"},{"$f":"'[1]080'!F13","v":"683"},{"$f":"'[1]080'!E35","v":"Ventilator - Verfluessiger"},{"$f":"'[1]080'!F35","v":"522"}]
[null,{"$f":"'[1]080'!A14","v":"normale Laufzeit"},{"$f":"'[1]080'!B14","v":"407"},{"$f":"'[1]080'!E14","v":"Innenbehälter Gefrierteil"},{"$f":"'[1]080'!F14","v":"364"},{"$f":"'[1]080'!E36","v":"Verbrauchsartikel (Filter, ..)"},{"$f":"'[1]080'!F36","v":"610"}]
[null,{"$f":"'[1]080'!A15","v":"Normale Temperaturdifferenzen/ -schwankungen"},{"$f":"'[1]080'!B15","v":"345"},{"$f":"'[1]080'!E15","v":"Innenbehälter Kühlteil"},{"$f":"'[1]080'!F15","v":"701"},{"$f":"'[1]080'!E37","v":"Wandabstandhalter"},{"$f":"'[1]080'!F37","v":"529"}]
[null,{"$f":"'[1]080'!A16","v":"normale Vereisung, Bereifung"},{"$f":"'[1]080'!B16","v":"408"},{"$f":"'[1]080'!E16","v":"Ist/ Sollwertanzeige"},{"$f":"'[1]080'!F16","v":"479"},{"$f":"'[1]080'!E38","v":"Winterheizung"},{"$f":"'[1]080'!F38","v":"199"}]
[null,{"$f":"'[1]080'!A17","v":"normaler Energieverbrauch"},{"$f":"'[1]080'!B17","v":"406"},{"$f":"'[1]080'!E17","v":"Kaeltekreislauf"},{"$f":"'[1]080'!F17","v":"245"}]
[null,{"$f":"'[1]080'!A18","v":"Oxidation"},{"$f":"'[1]080'!B18","v":"344"},{"$f":"'[1]080'!E18","v":"Kompressor"},{"$f":"'[1]080'!F18","v":"063"}]
[null,{"$f":"'[1]080'!A19","v":"Prospektangaben nicht eindeutig"},{"$f":"'[1]080'!B19","v":"342"},{"$f":"'[1]080'!E19","v":"Loetstellen"},{"$f":"'[1]080'!F19","v":"475"}]
[null,{"$f":"'[1]080'!A20","v":"Signalstaerke"},{"$f":"'[1]080'!B20","v":"412"},{"$f":"'[1]080'!E20","v":"Luft-, Kerntemperatur"},{"$f":"'[1]080'!F20","v":"476"}]
[null,{"$f":"'[1]080'!A21","v":"Spannungsversorgung fehlt"},{"$f":"'[1]080'!B21","v":"340"},{"$f":"'[1]080'!E21","v":"Prospektangaben"},{"$f":"'[1]080'!F21","v":"207"}]
[null,{"$f":"'[1]080'!A22","v":"Teil nicht mehr vorhanden"},{"$f":"'[1]080'!B22","v":"305"},{"$f":"'[1]080'!E22","v":"Rueckseite"},{"$f":"'[1]080'!F22","v":"034"}]
[null,{"$f":"'[1]080'!A23","v":"Tueranschlag wechsel"},{"$f":"'[1]080'!B23","v":"341"},{"$f":"'[1]080'!E23","v":"Schliessdaempfung"},{"$f":"'[1]080'!F23","v":"408"}]
[null,{"$f":"'[1]080'!A24","v":"Umgebungstemperatur zu kalt"},{"$f":"'[1]080'!B24","v":"085"},{"$f":"'[1]080'!E24","v":"Smart Device Box"},{"$f":"'[1]080'!F24","v":"608"}]
[null,{"$f":"'[1]080'!A25","v":"Umgebungstemperatur zu warm"},{"$f":"'[1]080'!B25","v":"086"},{"$f":"'[1]080'!E25","v":"Tauwasserablauf"},{"$f":"'[1]080'!F25","v":"051"}]
[null,{"$f":"'[1]080'!A26","v":"Verschmutzt"},{"$f":"'[1]080'!B26","v":"148"},{"$f":"'[1]080'!E26","v":"Tauwasserschale"},{"$f":"'[1]080'!F26","v":"052"}]
["Fehler tritt zur",{"$f":"'[1]101'!A5","v":"Keine Verbindung"},{"$f":"'[1]101'!B5","v":"488"},{"$f":"'[1]101'!E5","v":"Ausgabeeinheit Eis/ Wasser"},{"$f":"'[1]101'!F5","v":"432"},{"$f":"'[1]101'!E19","v":"Scharnier/ Tuerlagerung"},{"$f":"'[1]101'!F19","v":"418"}]
["Zeit nicht auf",{"$f":"'[1]101'!A6","v":"Zeitweise Alarmmeldung "},{"$f":"'[1]101'!B6","v":"485"},{"$f":"'[1]101'!E6","v":"Beleuchtung"},{"$f":"'[1]101'!F6","v":"059"},{"$f":"'[1]101'!E20","v":"Schliessdaempfung"},{"$f":"'[1]101'!F20","v":"408"}]
[101,{"$f":"'[1]101'!A7","v":"Zeitweise Blockiert / Schwergängig"},{"$f":"'[1]101'!B7","v":"492"},{"$f":"'[1]101'!E7","v":"Deckel (Truhe) / Schiebedeckel"},{"$f":"'[1]101'!F7","v":"026"},{"$f":"'[1]101'!E21","v":"Schliessmechanismus"},{"$f":"'[1]101'!F21","v":"472"}]
[null,{"$f":"'[1]101'!A8","v":"Zeitweise Kondensat / Betauung"},{"$f":"'[1]101'!B8","v":"489"},{"$f":"'[1]101'!E8","v":"Dichtung Tuer Gefrierteil"},{"$f":"'[1]101'!F8","v":"531"},{"$f":"'[1]101'!E22","v":"Schublade"},{"$f":"'[1]101'!F22","v":"102"}]
[null,{"$f":"'[1]101'!A9","v":"Zeitweise Temperaturabweichung"},{"$f":"'[1]101'!B9","v":"484"},{"$f":"'[1]101'!E9","v":"Dichtung Tuer Kuehlteil"},{"$f":"'[1]101'!F9","v":"532"},{"$f":"'[1]101'!E23","v":"Seitenwand allgemein"},{"$f":"'[1]101'!F23","v":"036"}]
[null,{"$f":"'[1]101'!A10","v":"Zeitweise zu niedrige / hohe  Luftfeuchtigkeit"},{"$f":"'[1]101'!B10","v":"487"},{"$f":"'[1]101'!E10","v":"Dichtung Tuer Sterne-Fach"},{"$f":"'[1]101'!F10","v":"159"},{"$f":"'[1]101'!E24","v":"Tauwasserablauf"},{"$f":"'[1]101'!F24","v":"051"}]
[null,{"$f":"'[1]101'!A11","v":"Zeitweiser Fehler der Beleuchtung"},{"$f":"'[1]101'!B11","v":"491"},{"$f":"'[1]101'!E11","v":"Eiswuerfelbereiter"},{"$f":"'[1]101'!F11","v":"265"},{"$f":"'[1]101'!E25","v":"Tauwasserablaufventil"},{"$f":"'[1]101'!F25","v":"276"}]
[null,{"$f":"'[1]101'!A12","v":"Zeitweiser Totalausfall"},{"$f":"'[1]101'!B12","v":"490"},{"$f":"'[1]101'!E12","v":"Elektronikplatine"},{"$f":"'[1]101'!F12","v":"172"},{"$f":"'[1]101'!E26","v":"Tuer Gefrierteil"},{"$f":"'[1]101'!F26","v":"042"}]
[null,{"$f":"'[1]101'!A13","v":"Zeitweises Auslösen der Sicherheitseinrichtung"},{"$f":"'[1]101'!B13","v":"486"},{"$f":"'[1]101'!E13","v":"Fehlerort nicht zuordenbar"},{"$f":"'[1]101'!F13","v":"999"},{"$f":"'[1]101'!E27","v":"Tuer Kuehlteil"},{"$f":"'[1]101'!F27","v":"043"}]
[null,{"$f":"'[1]101'!A14","v":"Zeitweises Geräusch"},{"$f":"'[1]101'!B14","v":"483"},{"$f":"'[1]101'!E14","v":"Fusspedaloeffner"},{"$f":"'[1]101'!F14","v":"600"},{"$f":"'[1]101'!E28","v":"Türöffnungsmodul"},{"$f":"'[1]101'!F28","v":"609"}]
[null,null,null,{"$f":"'[1]101'!E15","v":"Geraetedecke/ Tischplatte"},{"$f":"'[1]101'!F15","v":"040"},{"$f":"'[1]101'!E29","v":"Verdampfer Gefrierteil"},{"$f":"'[1]101'!F29","v":"017"}]
[null,null,null,{"$f":"'[1]101'!E16","v":"Glasplatten, Absteller usw."},{"$f":"'[1]101'!F16","v":"029"},{"$f":"'[1]101'!E30","v":"Verdampfer Kuehlteil"},{"$f":"'[1]101'!F30","v":"018"}]
[null,null,null,{"$f":"'[1]101'!E17","v":"Innenbehälter Gefrierteil"},{"$f":"'[1]101'!F17","v":"364"},{"$f":"'[1]101'!E31","v":"Wassertank"},{"$f":"'[1]101'!F31","v":"436"}]
[null,null,null,{"$f":"'[1]101'!E18","v":"Innenbehälter Kühlteil"},{"$f":"'[1]101'!F18","v":"701"}]
["Vernetzung/",{"$f":"'[1]046'!A5","v":"Fehlerart nicht zuordenbar"},{"$f":"'[1]046'!B5","v":"999"},{"$f":"'[1]046'!E5","v":"Abschlusswiderstand"},{"$f":"'[1]046'!F5","v":"595"},{"$f":"'[1]046'!E12","v":"NFC, RFID Chip"},{"$f":"'[1]046'!F12","v":"685"}]
["Kommunikation",{"$f":"'[1]046'!A6","v":"Inkompatibel (z.B. Tablet, Smartphone)"},{"$f":"'[1]046'!B6","v":"410"},{"$f":"'[1]046'!E6","v":"APP / Software"},{"$f":"'[1]046'!F6","v":"597"},{"$f":"'[1]046'!E13","v":"Schnittstelle (RS 485, RS 232, CAN BUS, MOD BUS, Ethernet, IR-Schluessel, WLAN, BT, USB …)"},{"$f":"'[1]046'!F13","v":"470"}]
[46,{"$f":"'[1]046'!A7","v":"Keine Verbindung"},{"$f":"'[1]046'!B7","v":"488"},{"$f":"'[1]046'!E7","v":"Infrarot-Schluessel"},{"$f":"'[1]046'!F7","v":"601"},{"$f":"'[1]046'!E14","v":"Smart Device Box"},{"$f":"'[1]046'!F14","v":"608"}]
[null,{"$f":"'[1]046'!A8","v":"Konfigurationsfehler"},{"$f":"'[1]046'!B8","v":"411"},{"$f":"'[1]046'!E8","v":"Konverter für seriellen Anschluss (EVCO, Carel)"},{"$f":"'[1]046'!F8","v":"602"},{"$f":"'[1]046'!E15","v":"SmartCoolingHub"},{"$f":"'[1]046'!F15","v":"697"}]
[null,{"$f":"'[1]046'!A9","v":"Leitungen Verdrahtungsfehler"},{"$f":"'[1]046'!B9","v":"297"},{"$f":"'[1]046'!E9","v":"LAN-Kabel"},{"$f":"'[1]046'!F9","v":"603"},{"$f":"'[1]046'!E16","v":"SmartMonitoring"},{"$f":"'[1]046'!F16","v":"696"}]
[null,{"$f":"'[1]046'!A10","v":"Signalstaerke"},{"$f":"'[1]046'!B10","v":"412"},{"$f":"'[1]046'!E10","v":"Lizenzshop"},{"$f":"'[1]046'!F10","v":"695"},{"$f":"'[1]046'!E17","v":"Smartsensoren"},{"$f":"'[1]046'!F17","v":"686"}]
[null,{"$f":"'[1]046'!A11","v":"Softwarefehler (BUG)"},{"$f":"'[1]046'!B11","v":"588"},{"$f":"'[1]046'!E11","v":"Master / Slave Modul (Homedialog)"},{"$f":"'[1]046'!F11","v":"605"}]

{"sheet":"Codes d'erreur","index":2,"n_rows":211,"n_cols":7,"rows_kept":211,"cut":false,"hidden":false,"merged":[[10,0,22,0],[0,2,0,4],[2,0,2,6],[5,1,5,2],[5,3,5,6],[6,0,8,0],[47,0,55,0],[91,0,104,0],[118,0,119,0],[170,0,171,0],[224,1,224,6]]}
[null,null,"Code d'erreur SAV"]
[null,null,null,null,null,"Etat : 01.10.2020"]
[]
["|",null,"|",null,"|",null,"|"]
[]
["Groupe d'erreur","Type d'erreur",null,"Lieu d'erreur"]
["Circuit de refroidissement",{"$f":"'[2]005'!A5","v":"Bouché"},{"$f":"'[2]005'!B5","v":"028"},{"$f":"'[2]005'!E5","v":"Cadre chauffant"},{"$f":"'[2]005'!F5","v":"011"},{"$f":"'[2]005'!E22","v":"Entrée conduite d’aspiration–capillaires (liaison)"},{"$f":"'[2]005'!F22","v":"013"}]
[null,{"$f":"'[2]005'!A6","v":"Givrage de la conduite d’aspiration"},{"$f":"'[2]005'!B6","v":"409"},{"$f":"'[2]005'!E6","v":"Cadre chauffant–condenseur (liaison)"},{"$f":"'[2]005'!F6","v":"012"},{"$f":"'[2]005'!E23","v":"Évaporateur compartiment congélateur"},{"$f":"'[2]005'!F23","v":"017"}]
[null,{"$f":"'[2]005'!A7","v":"Grippé"},{"$f":"'[2]005'!B7","v":"023"},{"$f":"'[2]005'!E7","v":"Capillaires"},{"$f":"'[2]005'!F7","v":"002"},{"$f":"'[2]005'!E24","v":"Évaporateur compartiment réfrigérateur"},{"$f":"'[2]005'!F24","v":"018"}]
[5,{"$f":"'[2]005'!A8","v":"Matériau / tuyau non étanche"},{"$f":"'[2]005'!B8","v":"292"},{"$f":"'[2]005'!E8","v":"Cascade"},{"$f":"'[2]005'!F8","v":"679"},{"$f":"'[2]005'!E25","v":"Évaporateur compartiment réfrigérateur–Module d’évaporateur compartiment congélateur (liaison)"},{"$f":"'[2]005'!F25","v":"412"}]
["(Fuite/ engorgement/ quantité de remplissage)",{"$f":"'[2]005'!A9","v":"Pas de puissance"},{"$f":"'[2]005'!B9","v":"060"},{"$f":"'[2]005'!E9","v":"Cassette de refroidissement"},{"$f":"'[2]005'!F9","v":"525"},{"$f":"'[2]005'!E26","v":"Lieu d’erreur non imputable"},{"$f":"'[2]005'!F26","v":"999"}]
[null,{"$f":"'[2]005'!A10","v":"Pli"},{"$f":"'[2]005'!B10","v":"012"},{"$f":"'[2]005'!E10","v":"Chauffage bac d’évaporateur"},{"$f":"'[2]005'!F10","v":"416"},{"$f":"'[2]005'!E27","v":"Module d’évaporateur–conduite d’aspiration\n(liaison)"},{"$f":"'[2]005'!F27","v":"413"}]
[null,{"$f":"'[2]005'!A11","v":"Raccord Lokring non étanche"},{"$f":"'[2]005'!B11","v":"291"},{"$f":"'[2]005'!E11","v":"Chauffage bac d’évaporation – compresseur (liaison)"},{"$f":"'[2]005'!F11","v":"414"},{"$f":"'[2]005'!E28","v":"Point d’injection évaporateur (liaison)"},{"$f":"'[2]005'!F28","v":"019"}]
[null,{"$f":"'[2]005'!A12","v":"Se bloque / coince"},{"$f":"'[2]005'!B12","v":"058"},{"$f":"'[2]005'!E12","v":"Chauffage bac d’évaporation – condenseur (liaison)"},{"$f":"'[2]005'!F12","v":"415"},{"$f":"'[2]005'!E29","v":"Pressostat"},{"$f":"'[2]005'!F29","v":"678"}]
[null,{"$f":"'[2]005'!A13","v":"Soudure bouchée"},{"$f":"'[2]005'!B13","v":"293"},{"$f":"'[2]005'!E13","v":"Collecteur"},{"$f":"'[2]005'!F13","v":"533"},{"$f":"'[2]005'!E30","v":"Raccord de dérivation – conduite d’aspiration et de refoulement (liaison)"},{"$f":"'[2]005'!F30","v":"518"}]
[null,{"$f":"'[2]005'!A14","v":"Soudure non étanche"},{"$f":"'[2]005'!B14","v":"001"},{"$f":"'[2]005'!E14","v":"Compresseur"},{"$f":"'[2]005'!F14","v":"063"},{"$f":"'[2]005'!E31","v":"Raccord de remplissage du compresseur (liaison)"},{"$f":"'[2]005'!F31","v":"003"}]
[null,{"$f":"'[2]005'!A15","v":"Type d’erreur non imputable"},{"$f":"'[2]005'!B15","v":"999"},{"$f":"'[2]005'!E15","v":"Compresseur–cadre chauffant (liaison)"},{"$f":"'[2]005'!F15","v":"004"},{"$f":"'[2]005'!E32","v":"Sécheur"},{"$f":"'[2]005'!F32","v":"015"}]
[null,{"$f":"'[2]005'!A16","v":0},{"$f":"'[2]005'!B16","v":0},{"$f":"'[2]005'!E16","v":"Compresseur–condenseur (liaison)"},{"$f":"'[2]005'!F16","v":"007"},{"$f":"'[2]005'!E33","v":"Sécheur–capillaires (liaison)"},{"$f":"'[2]005'!F33","v":"016"}]
[null,null,null,{"$f":"'[2]005'!E17","v":"Compresseur–conduite d’aspiration (liaison)"},{"$f":"'[2]005'!F17","v":"005"},{"$f":"'[2]005'!E34","v":"Séparateur d’huile"},{"$f":"'[2]005'!F34","v":"676"}]
[null,null,null,{"$f":"'[2]005'!E18","v":"Condenseur"},{"$f":"'[2]005'!F18","v":"020"},{"$f":"'[2]005'!E35","v":"Soupape pour refroidissement externe (circuit fermé, refroidissement à l’eau, ..)"},{"$f":"'[2]005'!F35","v":"677"}]
[null,null,null,{"$f":"'[2]005'!E19","v":"Condenseur–sécheur (liaison)"},{"$f":"'[2]005'!F19","v":"021"},{"$f":"'[2]005'!E36","v":"Vanne circuit réfrigérant"},{"$f":"'[2]005'!F36","v":"009"}]
[null,null,null,{"$f":"'[2]005'!E20","v":"Conduite d’aspiration–évaporateur (liaison)"},{"$f":"'[2]005'!F20","v":"014"},{"$f":"'[2]005'!E37","v":"Vanne d'expansion"},{"$f":"'[2]005'!F37","v":"675"}]
[null,{"$f":"'[2]005'!A17","v":0},{"$f":"'[2]005'!B17","v":0},{"$f":"'[2]005'!E21","v":"Echangeur de chaleur ( à eau)"},{"$f":"'[2]005'!F21","v":"395"}]
["Electricité",{"$f":"'[2]040'!A5","v":"Affichage incorrect"},{"$f":"'[2]040'!B5","v":"033"},{"$f":"'[2]040'!E5","v":"Bande de distribution"},{"$f":"'[2]040'!F5","v":"075"},{"$f":"'[2]040'!E26","v":"Lieu d’erreur non imputable"},{"$f":"'[2]040'!F26","v":"999"}]
[40,{"$f":"'[2]040'!A6","v":"Câbles endommagés"},{"$f":"'[2]040'!B6","v":"036"},{"$f":"'[2]040'!E6","v":"Batterie/ accu"},{"$f":"'[2]040'!F6","v":"103"},{"$f":"'[2]040'!E27","v":"Limiteur de température de sécurité"},{"$f":"'[2]040'!F27","v":"277"}]
[null,{"$f":"'[2]040'!A7","v":"Câbles erreur de câblage"},{"$f":"'[2]040'!B7","v":"297"},{"$f":"'[2]040'!E7","v":"Capteur d’humidité"},{"$f":"'[2]040'!F7","v":"468"},{"$f":"'[2]040'!E28","v":"Module crush"},{"$f":"'[2]040'!F28","v":"599"}]
[null,{"$f":"'[2]040'!A8","v":"Coupure électrique"},{"$f":"'[2]040'!B8","v":"032"},{"$f":"'[2]040'!E8","v":"Capteur de luminosité"},{"$f":"'[2]040'!F8","v":"682"},{"$f":"'[2]040'!E29","v":"Module de charge de la batterie"},{"$f":"'[2]040'!F29","v":"598"}]
[null,{"$f":"'[2]040'!A9","v":"Court-circuit"},{"$f":"'[2]040'!B9","v":"034"},{"$f":"'[2]040'!E9","v":"Capteur de température"},{"$f":"'[2]040'!F9","v":"073"},{"$f":"'[2]040'!E30","v":"Module d'ouverture de porte"},{"$f":"'[2]040'!F30","v":"609"}]
[null,{"$f":"'[2]040'!A10","v":"Faux-contact"},{"$f":"'[2]040'!B10","v":"041"},{"$f":"'[2]040'!E10","v":"Cassette de refroidissement"},{"$f":"'[2]040'!F10","v":"525"},{"$f":"'[2]040'!E31","v":"Module RS485"},{"$f":"'[2]040'!F31","v":"681"}]
[null,{"$f":"'[2]040'!A11","v":"Grillé"},{"$f":"'[2]040'!B11","v":"040"},{"$f":"'[2]040'!E11","v":"Chauffage"},{"$f":"'[2]040'!F11","v":"060"},{"$f":"'[2]040'!E32","v":"Panneau isolant"},{"$f":"'[2]040'!F32","v":"061"}]
[null,{"$f":"'[2]040'!A12","v":"Hors tolérance (capteur etc.)"},{"$f":"'[2]040'!B12","v":"031"},{"$f":"'[2]040'!E12","v":"Chauffage de porte"},{"$f":"'[2]040'!F12","v":"467"},{"$f":"'[2]040'!E33","v":"Pompe réservoir d’eau"},{"$f":"'[2]040'!F33","v":"440"}]
[null,{"$f":"'[2]040'!A13","v":"Ne commute pas"},{"$f":"'[2]040'!B13","v":"202"},{"$f":"'[2]040'!E13","v":"Compresseur"},{"$f":"'[2]040'!F13","v":"063"},{"$f":"'[2]040'!E34","v":"Pressostat"},{"$f":"'[2]040'!F34","v":"678"}]
[null,{"$f":"'[2]040'!A14","v":"Règle mal"},{"$f":"'[2]040'!B14","v":"039"},{"$f":"'[2]040'!E14","v":"Compresseur–disjoncteur-protecteur"},{"$f":"'[2]040'!F14","v":"065"},{"$f":"'[2]040'!E35","v":"Prise/ raccord à vis"},{"$f":"'[2]040'!F35","v":"071"}]
[null,{"$f":"'[2]040'!A15","v":"Type d’erreur non imputable"},{"$f":"'[2]040'!B15","v":"999"},{"$f":"'[2]040'!E15","v":"Compresseur–dispositif de démarrage"},{"$f":"'[2]040'!F15","v":"064"},{"$f":"'[2]040'!E36","v":"Thermomètre"},{"$f":"'[2]040'!F36","v":"085"}]
[null,null,null,{"$f":"'[2]040'!E16","v":"Condenseur"},{"$f":"'[2]040'!F16","v":"066"},{"$f":"'[2]040'!E37","v":"Thermostat de réglage"},{"$f":"'[2]040'!F37","v":"074"}]
[null,null,null,{"$f":"'[2]040'!E17","v":"Contact Reed (reconnaissance de porte, ...)"},{"$f":"'[2]040'!F17","v":"068"},{"$f":"'[2]040'!E38","v":"Thermostat de sécurité"},{"$f":"'[2]040'!F38","v":"517"}]
[null,null,null,{"$f":"'[2]040'!E18","v":"Contact sans potentiel"},{"$f":"'[2]040'!F18","v":"469"},{"$f":"'[2]040'!E39","v":"Touche/interrupteur"},{"$f":"'[2]040'!F39","v":"072"}]
[null,null,null,{"$f":"'[2]040'!E19","v":"Distributeur de glaçons"},{"$f":"'[2]040'!F19","v":"265"},{"$f":"'[2]040'!E40","v":"Valve de compensation de pression"},{"$f":"'[2]040'!F40","v":"274"}]
[null,null,null,{"$f":"'[2]040'!E20","v":"Éclairage"},{"$f":"'[2]040'!F20","v":"059"},{"$f":"'[2]040'!E41","v":"Vanne arrivée d’eau"},{"$f":"'[2]040'!F41","v":"252"}]
[null,null,null,{"$f":"'[2]040'!E21","v":"Faisceau de câbles / cordon"},{"$f":"'[2]040'!F21","v":"062"},{"$f":"'[2]040'!E42","v":"Vanne circuit réfrigérant"},{"$f":"'[2]040'!F42","v":"009"}]
[null,null,null,{"$f":"'[2]040'!E22","v":"Fermeture à distance"},{"$f":"'[2]040'!F22","v":"527"},{"$f":"'[2]040'!E43","v":"Ventilateur – compartiment congélateur"},{"$f":"'[2]040'!F43","v":"523"}]
[null,null,null,{"$f":"'[2]040'!E23","v":"Fusible"},{"$f":"'[2]040'!F23","v":"680"},{"$f":"'[2]040'!E44","v":"Ventilateur – compartiment réfrigérateur/ BioFresh"},{"$f":"'[2]040'!F44","v":"524"}]
[null,null,null,{"$f":"'[2]040'!E24","v":"Humidificateur (Hydrobreeze)"},{"$f":"'[2]040'!F24","v":"683"},{"$f":"'[2]040'!E45","v":"Ventilateur – condenseur"},{"$f":"'[2]040'!F45","v":"522"}]
[null,null,null,{"$f":"'[2]040'!E25","v":"Lampes témoin"},{"$f":"'[2]040'!F25","v":"067"},{"$f":"'[2]040'!E46","v":"Volet d’aération"},{"$f":"'[2]040'!F46","v":"439"}]
["Electronique",{"$f":"'[2]045'!A5","v":"Affichage / écran défectueux"},{"$f":"'[2]045'!B5","v":"043"},{"$f":"'[2]045'!E5","v":"Alimentation éclairage LED / transformateur"},{"$f":"'[2]045'!F5","v":"442"}]
[45,{"$f":"'[2]045'!A6","v":"Alarme de température injustifiée"},{"$f":"'[2]045'!B6","v":"054"},{"$f":"'[2]045'!E6","v":"Bornier de platine"},{"$f":"'[2]045'!F6","v":"082"}]
[null,{"$f":"'[2]045'!A7","v":"Avertisseur sonore sans fonction"},{"$f":"'[2]045'!B7","v":"051"},{"$f":"'[2]045'!E7","v":"Capteurs intelligents"},{"$f":"'[2]045'!F7","v":"686"}]
["(erreur au niveau de composants électroniques)",{"$f":"'[2]045'!A8","v":"Chauffage ne démarre pas"},{"$f":"'[2]045'!B8","v":"045"},{"$f":"'[2]045'!E8","v":"Filtre réseau"},{"$f":"'[2]045'!F8","v":"684"}]
[null,{"$f":"'[2]045'!A9","v":"Compresseur ne démarre pas"},{"$f":"'[2]045'!B9","v":"046"},{"$f":"'[2]045'!E9","v":"Inverter"},{"$f":"'[2]045'!F9","v":"260"}]
[null,{"$f":"'[2]045'!A10","v":"Court-circuit"},{"$f":"'[2]045'!B10","v":"034"},{"$f":"'[2]045'!E10","v":"Lieu d’erreur non imputable"},{"$f":"'[2]045'!F10","v":"999"}]
[null,{"$f":"'[2]045'!A11","v":"Défaillance générale"},{"$f":"'[2]045'!B11","v":"044"},{"$f":"'[2]045'!E11","v":"Limiteur de température"},{"$f":"'[2]045'!F11","v":"516"}]
[null,{"$f":"'[2]045'!A12","v":"Éclairage ne démarre pas / partiellement / insuffisamment"},{"$f":"'[2]045'!B12","v":"042"},{"$f":"'[2]045'!E12","v":"Module de liaison"},{"$f":"'[2]045'!F12","v":"441"}]
[null,{"$f":"'[2]045'!A13","v":"Électrovanne n’est pas activée"},{"$f":"'[2]045'!B13","v":"048"},{"$f":"'[2]045'!E13","v":"Module RS485"},{"$f":"'[2]045'!F13","v":"681"}]
[null,{"$f":"'[2]045'!A14","v":"Erreur de logiciel (bug)"},{"$f":"'[2]045'!B14","v":"588"},{"$f":"'[2]045'!E14","v":"NFC, puce RFID"},{"$f":"'[2]045'!F14","v":"685"}]
[null,{"$f":"'[2]045'!A15","v":"Faux-contact"},{"$f":"'[2]045'!B15","v":"041"},{"$f":"'[2]045'!E15","v":"Platine de connexion réseau"},{"$f":"'[2]045'!F15","v":"606"}]
[null,{"$f":"'[2]045'!A16","v":"Grillé"},{"$f":"'[2]045'!B16","v":"040"},{"$f":"'[2]045'!E16","v":"Platine électronique"},{"$f":"'[2]045'!F16","v":"172"}]
[null,{"$f":"'[2]045'!A17","v":"Interruption (fissure capillaire, joint soudé, etc.)"},{"$f":"'[2]045'!B17","v":"055"},{"$f":"'[2]045'!E17","v":"Relais semi-conducteur"},{"$f":"'[2]045'!F17","v":"698"}]
[null,{"$f":"'[2]045'!A18","v":"Lampe témoin défectueuse"},{"$f":"'[2]045'!B18","v":"047"},{"$f":"'[2]045'!E18","v":"Système électronique distributeur de glaçons"},{"$f":"'[2]045'!F18","v":"264"}]
[null,{"$f":"'[2]045'!A19","v":"Pompe réservoir à eau ne démarre pas"},{"$f":"'[2]045'!B19","v":"298"},{"$f":"'[2]045'!E19","v":"Touche/interrupteur"},{"$f":"'[2]045'!F19","v":"072"}]
[null,{"$f":"'[2]045'!A20","v":"Règle mal"},{"$f":"'[2]045'!B20","v":"039"},{"$f":"'[2]045'!E20","v":"Unité de commande, interface utilisateur (User Interface)"},{"$f":"'[2]045'!F20","v":"612"}]
[null,{"$f":"'[2]045'!A21","v":"Touche ou interrupteur défectueux"},{"$f":"'[2]045'!B21","v":"049"},{"$f":"'[2]045'!E21","v":"Variateur d’intensité"},{"$f":"'[2]045'!F21","v":"519"}]
[null,{"$f":"'[2]045'!A22","v":"Type d’erreur non imputable"},{"$f":"'[2]045'!B22","v":"999"}]
[null,{"$f":"'[2]045'!A23","v":"Variations de température"},{"$f":"'[2]045'!B23","v":"050"}]
[null,{"$f":"'[2]045'!A24","v":"Ventilateur ne démarre pas"},{"$f":"'[2]045'!B24","v":"056"}]
[null,{"$f":"'[2]045'!A25","v":"Volet d’aération n’est pas activé"},{"$f":"'[2]045'!B25","v":"299"}]
["Mécanique",{"$f":"'[2]050'!A5","v":"Affichage incorrect"},{"$f":"'[2]050'!B5","v":"033"},{"$f":"'[2]050'!E5","v":"Amortisseur de fermeture"},{"$f":"'[2]050'!F5","v":"408"},{"$f":"'[2]050'!E15","v":"Poignée"},{"$f":"'[2]050'!F15","v":"030"}]
[50,{"$f":"'[2]050'!A6","v":"Casse"},{"$f":"'[2]050'!B6","v":"010"},{"$f":"'[2]050'!E6","v":"Charnière/ gond de porte"},{"$f":"'[2]050'!F6","v":"418"},{"$f":"'[2]050'!E16","v":"Rail coulissant / télescopique"},{"$f":"'[2]050'!F16","v":"259"}]
[null,{"$f":"'[2]050'!A7","v":"Décalé / déplacé"},{"$f":"'[2]050'!B7","v":"027"},{"$f":"'[2]050'!E7","v":"Distributeur de glaçons"},{"$f":"'[2]050'!F7","v":"265"},{"$f":"'[2]050'!E17","v":"Serrure"},{"$f":"'[2]050'!F17","v":"084"}]
[null,{"$f":"'[2]050'!A8","v":"Grippé"},{"$f":"'[2]050'!B8","v":"023"},{"$f":"'[2]050'!E8","v":"Fermeture à distance"},{"$f":"'[2]050'!F8","v":"527"},{"$f":"'[2]050'!E18","v":"Thermomètre"},{"$f":"'[2]050'!F18","v":"085"}]
[null,{"$f":"'[2]050'!A9","v":"Se bloque / coince"},{"$f":"'[2]050'!B9","v":"058"},{"$f":"'[2]050'!E9","v":"Humidificateur (Hydrobreeze)"},{"$f":"'[2]050'!F9","v":"683"},{"$f":"'[2]050'!E19","v":"Touche/interrupteur"},{"$f":"'[2]050'!F19","v":"072"}]
[null,{"$f":"'[2]050'!A10","v":"Tordu / gondolé"},{"$f":"'[2]050'!B10","v":"025"},{"$f":"'[2]050'!E10","v":"Lieu d’erreur non imputable"},{"$f":"'[2]050'!F10","v":"999"},{"$f":"'[2]050'!E20","v":"Unité de sortie glace/ eau"},{"$f":"'[2]050'!F20","v":"432"}]
[null,{"$f":"'[2]050'!A11","v":"Type d’erreur non imputable"},{"$f":"'[2]050'!B11","v":"999"},{"$f":"'[2]050'!E11","v":"Module crush"},{"$f":"'[2]050'!F11","v":"599"},{"$f":"'[2]050'!E21","v":"Ventilateur – compartiment congélateur"},{"$f":"'[2]050'!F21","v":"523"}]
[null,{"$f":"'[2]050'!A12","v":"Usé"},{"$f":"'[2]050'!B12","v":"057"},{"$f":"'[2]050'!E12","v":"Module d'ouverture de porte"},{"$f":"'[2]050'!F12","v":"609"},{"$f":"'[2]050'!E22","v":"Ventilateur – compartiment réfrigérateur/ BioFresh"},{"$f":"'[2]050'!F22","v":"524"}]
[null,null,null,{"$f":"'[2]050'!E13","v":"Ouverture à pédale"},{"$f":"'[2]050'!F13","v":"600"},{"$f":"'[2]050'!E23","v":"Ventilateur – condenseur"},{"$f":"'[2]050'!F23","v":"522"}]
[null,null,null,{"$f":"'[2]050'!E14","v":"Pied/ roulette"},{"$f":"'[2]050'!F14","v":"028"},{"$f":"'[2]050'!E24","v":"Volet d’aération"},{"$f":"'[2]050'!F24","v":"439"}]
["Bruit",{"$f":"'[2]060'!A5","v":"Bruit d’injection / de circulation"},{"$f":"'[2]060'!B5","v":"300"},{"$f":"'[2]060'!E5","v":"Absorbeur"},{"$f":"'[2]060'!F5","v":"596"},{"$f":"'[2]060'!E18","v":"Module crush"},{"$f":"'[2]060'!F18","v":"599"}]
[60,{"$f":"'[2]060'!A6","v":"Bruit de cliquetis / tapotement"},{"$f":"'[2]060'!B6","v":"089"},{"$f":"'[2]060'!E6","v":"Amortisseur de fermeture"},{"$f":"'[2]060'!F6","v":"408"},{"$f":"'[2]060'!E19","v":"Module d'ouverture de porte"},{"$f":"'[2]060'!F19","v":"609"}]
[null,{"$f":"'[2]060'!A7","v":"Bruit de commutation"},{"$f":"'[2]060'!B7","v":"203"},{"$f":"'[2]060'!E7","v":"Cache évaporateur"},{"$f":"'[2]060'!F7","v":"528"},{"$f":"'[2]060'!E20","v":"Récipient d’eau de dégivrage"},{"$f":"'[2]060'!F20","v":"052"}]
[null,{"$f":"'[2]060'!A8","v":"Bruit de couinement/ grincement"},{"$f":"'[2]060'!B8","v":"065"},{"$f":"'[2]060'!E8","v":"Capillaires"},{"$f":"'[2]060'!F8","v":"002"},{"$f":"'[2]060'!E21","v":"Siphon"},{"$f":"'[2]060'!F21","v":"688"}]
[null,{"$f":"'[2]060'!A9","v":"Bruit de craquement"},{"$f":"'[2]060'!B9","v":"064"},{"$f":"'[2]060'!E9","v":"Cassette de refroidissement"},{"$f":"'[2]060'!F9","v":"525"},{"$f":"'[2]060'!E22","v":"Tablette de séparation verticale"},{"$f":"'[2]060'!F22","v":"266"}]
[null,{"$f":"'[2]060'!A10","v":"Bruit de fonctionnement"},{"$f":"'[2]060'!B10","v":"066"},{"$f":"'[2]060'!E10","v":"Charnière/ gond de porte"},{"$f":"'[2]060'!F10","v":"418"},{"$f":"'[2]060'!E23","v":"Thermostat de réglage"},{"$f":"'[2]060'!F23","v":"074"}]
[null,{"$f":"'[2]060'!A11","v":"Bruit de vibration"},{"$f":"'[2]060'!B11","v":"069"},{"$f":"'[2]060'!E11","v":"Compresseur"},{"$f":"'[2]060'!F11","v":"063"},{"$f":"'[2]060'!E24","v":"Tuyaux"},{"$f":"'[2]060'!F24","v":"087"}]
[null,{"$f":"'[2]060'!A12","v":"Glouglou"},{"$f":"'[2]060'!B12","v":"687"},{"$f":"'[2]060'!E12","v":"Condenseur"},{"$f":"'[2]060'!F12","v":"020"},{"$f":"'[2]060'!E25","v":"Valve de compensation de pression"},{"$f":"'[2]060'!F25","v":"274"}]
[null,{"$f":"'[2]060'!A13","v":"Type d’erreur non imputable"},{"$f":"'[2]060'!B13","v":"999"},{"$f":"'[2]060'!E13","v":"Distributeur de glaçons"},{"$f":"'[2]060'!F13","v":"265"},{"$f":"'[2]060'!E26","v":"Vanne arrivée d’eau"},{"$f":"'[2]060'!F26","v":"252"}]
[null,null,null,{"$f":"'[2]060'!E14","v":"Évaporateur compartiment congélateur"},{"$f":"'[2]060'!F14","v":"017"},{"$f":"'[2]060'!E27","v":"Vanne circuit réfrigérant"},{"$f":"'[2]060'!F27","v":"009"}]
[null,null,null,{"$f":"'[2]060'!E15","v":"Évaporateur compartiment réfrigérateur"},{"$f":"'[2]060'!F15","v":"018"},{"$f":"'[2]060'!E28","v":"Ventilateur – compartiment congélateur"},{"$f":"'[2]060'!F28","v":"523"}]
[null,null,null,{"$f":"'[2]060'!E16","v":"Inverter"},{"$f":"'[2]060'!F16","v":"260"},{"$f":"'[2]060'!E29","v":"Ventilateur – compartiment réfrigérateur/ BioFresh"},{"$f":"'[2]060'!F29","v":"524"}]
[null,null,null,{"$f":"'[2]060'!E17","v":"Lieu d’erreur non imputable"},{"$f":"'[2]060'!F17","v":"999"},{"$f":"'[2]060'!E30","v":"Ventilateur – condenseur"},{"$f":"'[2]060'!F30","v":"522"}]
["Surfaces",{"$f":"'[2]065'!A5","v":"Bombement / bosse"},{"$f":"'[2]065'!B5","v":"088"},{"$f":"'[2]065'!E5","v":"\u0090Joint de porte compartiment congélateur"},{"$f":"'[2]065'!F5","v":"531"},{"$f":"'[2]065'!E22","v":"Esse"},{"$f":"'[2]065'!F22","v":"611"}]
[65,{"$f":"'[2]065'!A6","v":"Corrosion"},{"$f":"'[2]065'!B6","v":"071"},{"$f":"'[2]065'!E6","v":"\u0090Joint de porte compartiment étoiles"},{"$f":"'[2]065'!F6","v":"159"},{"$f":"'[2]065'!E23","v":"Évaporateur compartiment réfrigérateur"},{"$f":"'[2]065'!F23","v":"018"}]
[null,{"$f":"'[2]065'!A7","v":"Décollé"},{"$f":"'[2]065'!B7","v":"405"},{"$f":"'[2]065'!E7","v":"\u0090Joint de porte compartiment réfrigérateur"},{"$f":"'[2]065'!F7","v":"532"},{"$f":"'[2]065'!E24","v":"Face arrière"},{"$f":"'[2]065'!F24","v":"034"}]
["Appareil ou pièces détachées/ intérieur ou extérieur - \npas d'avarie de transport perceptible !",{"$f":"'[2]065'!A8","v":"Empreinte"},{"$f":"'[2]065'!B8","v":"070"},{"$f":"'[2]065'!E8","v":"Boîtier de thermostat / interrupteur d’éclairage"},{"$f":"'[2]065'!F8","v":"053"},{"$f":"'[2]065'!E25","v":"Interface utilisateur"},{"$f":"'[2]065'!F25","v":"419"}]
[null,{"$f":"'[2]065'!A9","v":"Éraflure"},{"$f":"'[2]065'!B9","v":"013"},{"$f":"'[2]065'!E9","v":"Branding (autocollant, logo, …)"},{"$f":"'[2]065'!F9","v":"530"},{"$f":"'[2]065'!E26","v":"Liaison transversale"},{"$f":"'[2]065'!F26","v":"099"}]
[null,{"$f":"'[2]065'!A10","v":"Microsection acier inox"},{"$f":"'[2]065'!B10","v":"301"},{"$f":"'[2]065'!E10","v":"Cache évaporateur"},{"$f":"'[2]065'!F10","v":"528"},{"$f":"'[2]065'!E27","v":"Lieu d’erreur non imputable"},{"$f":"'[2]065'!F27","v":"999"}]
[null,{"$f":"'[2]065'!A11","v":"Pas assez de vernis"},{"$f":"'[2]065'!B11","v":"072"},{"$f":"'[2]065'!E11","v":"Cadre de protection du coffre"},{"$f":"'[2]065'!F11","v":"041"},{"$f":"'[2]065'!E28","v":"Paroi latérale général"},{"$f":"'[2]065'!F28","v":"036"}]
[null,{"$f":"'[2]065'!A12","v":"Résidus de film"},{"$f":"'[2]065'!B12","v":"303"},{"$f":"'[2]065'!E12","v":"Clayette fil/en bois"},{"$f":"'[2]065'!F12","v":"336"},{"$f":"'[2]065'!E29","v":"Paroi latérale général bandes décoratives"},{"$f":"'[2]065'!F29","v":"689"}]
[null,{"$f":"'[2]065'!A13","v":"S’écaille"},{"$f":"'[2]065'!B13","v":"087"},{"$f":"'[2]065'!E13","v":"Contre-porte compartiment congélateur"},{"$f":"'[2]065'!F13","v":"374"},{"$f":"'[2]065'!E30","v":"Poignée"},{"$f":"'[2]065'!F30","v":"030"}]
[null,{"$f":"'[2]065'!A14","v":"Taches"},{"$f":"'[2]065'!B14","v":"302"},{"$f":"'[2]065'!E14","v":"Contre-porte compartiment réfrigérateur"},{"$f":"'[2]065'!F14","v":"702"},{"$f":"'[2]065'!E31","v":"Porte compartiment congélateur"},{"$f":"'[2]065'!F31","v":"042"}]
[null,{"$f":"'[2]065'!A15","v":"Trop de vernis"},{"$f":"'[2]065'!B15","v":"030"},{"$f":"'[2]065'!E15","v":"Contre-porte compartiment réfrigérateur revêtement inox"},{"$f":"'[2]065'!F15","v":"700"},{"$f":"'[2]065'!E32","v":"Porte compartiment réfrigérateur"},{"$f":"'[2]065'!F32","v":"043"}]
[null,{"$f":"'[2]065'!A16","v":"Type d’erreur non imputable"},{"$f":"'[2]065'!B16","v":"999"},{"$f":"'[2]065'!E16","v":"Couvercle (coffre) / couvercle coulissant"},{"$f":"'[2]065'!F16","v":"026"},{"$f":"'[2]065'!E33","v":"Porte du compartiment congélateur bandes décoratives"},{"$f":"'[2]065'!F33","v":"690"}]
[null,{"$f":"'[2]065'!A17","v":"Variation de couleur"},{"$f":"'[2]065'!B17","v":"165"},{"$f":"'[2]065'!E17","v":"Cuve intérieure compartiment congélateur"},{"$f":"'[2]065'!F17","v":"364"},{"$f":"'[2]065'!E34","v":"Porte du compartiment réfrigérateur bandes décoratives"},{"$f":"'[2]065'!F34","v":"691"}]
[null,null,null,{"$f":"'[2]065'!E18","v":"Cuve intérieure compartiment réfrigérateur"},{"$f":"'[2]065'!F18","v":"701"},{"$f":"'[2]065'!E35","v":"Support de compresseur"},{"$f":"'[2]065'!F35","v":"309"}]
[null,null,null,{"$f":"'[2]065'!E19","v":"Cuve intérieure compartiment réfrigérateur revêtement inox"},{"$f":"'[2]065'!F19","v":"699"},{"$f":"'[2]065'!E36","v":"Tablette de séparation horizontale/ séparateur"},{"$f":"'[2]065'!F36","v":"438"}]
[null,null,null,{"$f":"'[2]065'!E20","v":"Dessus"},{"$f":"'[2]065'!F20","v":"040"},{"$f":"'[2]065'!E37","v":"Tablette de séparation verticale"},{"$f":"'[2]065'!F37","v":"266"}]
[null,null,null,{"$f":"'[2]065'!E21","v":"Éclairage"},{"$f":"'[2]065'!F21","v":"059"},{"$f":"'[2]065'!E38","v":"Tiroir"},{"$f":"'[2]065'!F38","v":"102"}]
["Avarie de ",{"$f":"'[2]025'!A5","v":"Casse"},{"$f":"'[2]025'!B5","v":"010"},{"$f":"'[2]025'!E5","v":"Avant droit (coffre)"},{"$f":"'[2]025'!F5","v":"427"},{"$f":"'[2]025'!E25","v":"Lieu d’erreur non imputable"},{"$f":"'[2]025'!F25","v":"999"}]
["transport",{"$f":"'[2]025'!A6","v":"Creux"},{"$f":"'[2]025'!B6","v":"011"},{"$f":"'[2]025'!E6","v":"Avant gauche (coffre)"},{"$f":"'[2]025'!F6","v":"425"},{"$f":"'[2]025'!E26","v":"Logement du compresseur"},{"$f":"'[2]025'!F26","v":"033"}]
["Emballage",{"$f":"'[2]025'!A7","v":"Écrasement"},{"$f":"'[2]025'!B7","v":"017"},{"$f":"'[2]025'!E7","v":"Avant milieu (coffre)"},{"$f":"'[2]025'!F7","v":"426"},{"$f":"'[2]025'!E27","v":"Paroi latérale à droite, au milieu"},{"$f":"'[2]025'!F27","v":"379"}]
["endommagé",{"$f":"'[2]025'!A8","v":"Éraflure"},{"$f":"'[2]025'!B8","v":"013"},{"$f":"'[2]025'!E8","v":"Branding (autocollant, logo, …)"},{"$f":"'[2]025'!F8","v":"530"},{"$f":"'[2]025'!E28","v":"Paroi latérale à droite, en bas"},{"$f":"'[2]025'!F28","v":"380"}]
[25,{"$f":"'[2]025'!A9","v":"Fissure"},{"$f":"'[2]025'!B9","v":"015"},{"$f":"'[2]025'!E9","v":"Cache socle"},{"$f":"'[2]025'!F9","v":"038"},{"$f":"'[2]025'!E29","v":"Paroi latérale à droite, en haut"},{"$f":"'[2]025'!F29","v":"378"}]
[null,{"$f":"'[2]025'!A10","v":"Lâche"},{"$f":"'[2]025'!B10","v":"014"},{"$f":"'[2]025'!E10","v":"Cadre de protection du coffre"},{"$f":"'[2]025'!F10","v":"041"},{"$f":"'[2]025'!E30","v":"Paroi latérale à gauche, au milieu"},{"$f":"'[2]025'!F30","v":"382"}]
["Avarie de ",{"$f":"'[2]025'!A11","v":"Pli"},{"$f":"'[2]025'!B11","v":"012"},{"$f":"'[2]025'!E11","v":"Charnière/ gond de porte"},{"$f":"'[2]025'!F11","v":"418"},{"$f":"'[2]025'!E31","v":"Paroi latérale à gauche, en bas"},{"$f":"'[2]025'!F31","v":"383"}]
["transport",{"$f":"'[2]025'!A12","v":"Trace de frottement"},{"$f":"'[2]025'!B12","v":"016"},{"$f":"'[2]025'!E12","v":"Condenseur"},{"$f":"'[2]025'!F12","v":"020"},{"$f":"'[2]025'!E32","v":"Paroi latérale à gauche, en haut"},{"$f":"'[2]025'!F32","v":"381"}]
["Plus d'",null,null,{"$f":"'[2]025'!E13","v":"Contre-porte compartiment congélateur"},{"$f":"'[2]025'!F13","v":"374"},{"$f":"'[2]025'!E33","v":"Pièces de l’équipement intérieur"},{"$f":"'[2]025'!F33","v":"039"}]
["emballage",null,null,{"$f":"'[2]025'!E14","v":"Contre-porte compartiment réfrigérateur"},{"$f":"'[2]025'!F14","v":"702"},{"$f":"'[2]025'!E34","v":"Pied/ roulette"},{"$f":"'[2]025'!F34","v":"028"}]
[null,null,null,{"$f":"'[2]025'!E15","v":"Couvercle (coffre) à droite"},{"$f":"'[2]025'!F15","v":"430"},{"$f":"'[2]025'!E35","v":"Poignée"},{"$f":"'[2]025'!F35","v":"030"}]
[26,null,null,{"$f":"'[2]025'!E16","v":"Couvercle (coffre) à gauche "},{"$f":"'[2]025'!F16","v":"428"},{"$f":"'[2]025'!E36","v":"Porte du compartiment"},{"$f":"'[2]025'!F36","v":"692"}]
[null,null,null,{"$f":"'[2]025'!E17","v":"Couvercle (coffre) au milieu"},{"$f":"'[2]025'!F17","v":"429"},{"$f":"'[2]025'!E37","v":"Porte extérieure inférieure, en bas"},{"$f":"'[2]025'!F37","v":"424"}]
["Cause de dommage indéterminée",null,null,{"$f":"'[2]025'!E18","v":"Cuve intérieure compartiment congélateur"},{"$f":"'[2]025'!F18","v":"364"},{"$f":"'[2]025'!E38","v":"Porte extérieure inférieure, en haut"},{"$f":"'[2]025'!F38","v":"423"}]
[null,null,null,{"$f":"'[2]025'!E19","v":"Cuve intérieure compartiment réfrigérateur"},{"$f":"'[2]025'!F19","v":"701"},{"$f":"'[2]025'!E39","v":"Porte extérieure, au milieu"},{"$f":"'[2]025'!F39","v":"421"}]
["Emballage",null,null,{"$f":"'[2]025'!E20","v":"Dessus"},{"$f":"'[2]025'!F20","v":"040"},{"$f":"'[2]025'!E40","v":"Porte extérieure, en bas"},{"$f":"'[2]025'!F40","v":"422"}]
["pas",null,null,{"$f":"'[2]025'!E21","v":"Éclairage"},{"$f":"'[2]025'!F21","v":"059"},{"$f":"'[2]025'!E41","v":"Porte extérieure, en haut"},{"$f":"'[2]025'!F41","v":"420"}]
[" endommagé",null,null,{"$f":"'[2]025'!E22","v":"Face arrière"},{"$f":"'[2]025'!F22","v":"034"},{"$f":"'[2]025'!E42","v":"Support de compresseur"},{"$f":"'[2]025'!F42","v":"309"}]
[27,null,null,{"$f":"'[2]025'!E23","v":"Interface utilisateur"},{"$f":"'[2]025'!F23","v":"419"},{"$f":"'[2]025'!E43","v":"Tablettes en verre, balconnets, etc."},{"$f":"'[2]025'!F43","v":"029"}]
[null,null,null,{"$f":"'[2]025'!E24","v":"Liaison transversale"},{"$f":"'[2]025'!F24","v":"099"}]
["Défaut",{"$f":"'[2]030'!A5","v":"Bouché"},{"$f":"'[2]030'!B5","v":"028"},{"$f":"'[2]030'!E5","v":"\u0090Joint de porte compartiment congélateur"},{"$f":"'[2]030'!F5","v":"531"},{"$f":"'[2]030'!E48","v":"Face arrière"},{"$f":"'[2]030'!F48","v":"034"}]
["produit",{"$f":"'[2]030'!A6","v":"Casse"},{"$f":"'[2]030'!B6","v":"010"},{"$f":"'[2]030'!E6","v":"\u0090Joint de porte compartiment étoiles"},{"$f":"'[2]030'!F6","v":"159"},{"$f":"'[2]030'!E49","v":"Filtre à air"},{"$f":"'[2]030'!F49","v":"604"}]
[30,{"$f":"'[2]030'!A7","v":"Chute"},{"$f":"'[2]030'!B7","v":"204"},{"$f":"'[2]030'!E7","v":"\u0090Joint de porte compartiment réfrigérateur"},{"$f":"'[2]030'!F7","v":"532"},{"$f":"'[2]030'!E50","v":"Filtre à eau"},{"$f":"'[2]030'!F50","v":"471"}]
[null,{"$f":"'[2]030'!A8","v":"De travers"},{"$f":"'[2]030'!B8","v":"022"},{"$f":"'[2]030'!E8","v":"Absorbeur"},{"$f":"'[2]030'!F8","v":"596"},{"$f":"'[2]030'!E51","v":"Fixation de la poignée (écrou à sertir, ...)"},{"$f":"'[2]030'!F51","v":"526"}]
[null,{"$f":"'[2]030'!A9","v":"Déborde"},{"$f":"'[2]030'!B9","v":"020"},{"$f":"'[2]030'!E9","v":"Accu de froid"},{"$f":"'[2]030'!F9","v":"272"},{"$f":"'[2]030'!E52","v":"Humidificateur (Hydrobreeze)"},{"$f":"'[2]030'!F52","v":"683"}]
["(pas d'avarie ",{"$f":"'[2]030'!A10","v":"Décalé / déplacé"},{"$f":"'[2]030'!B10","v":"027"},{"$f":"'[2]030'!E10","v":"Amortisseur de fermeture"},{"$f":"'[2]030'!F10","v":"408"},{"$f":"'[2]030'!E53","v":"Interface utilisateur"},{"$f":"'[2]030'!F53","v":"419"}]
["de transport",{"$f":"'[2]030'!A11","v":"Eau de condensation"},{"$f":"'[2]030'!B11","v":"019"},{"$f":"'[2]030'!E11","v":"Arrivée d’eau (distributeur de glaçons)"},{"$f":"'[2]030'!F11","v":"521"},{"$f":"'[2]030'!E54","v":"Kit d’accessoires"},{"$f":"'[2]030'!F54","v":"232"}]
["perceptible)",{"$f":"'[2]030'!A12","v":"Encrassé"},{"$f":"'[2]030'!B12","v":"148"},{"$f":"'[2]030'!E12","v":"Bac à glaçons"},{"$f":"'[2]030'!F12","v":"295"},{"$f":"'[2]030'!E55","v":"Kit de liaison SBS"},{"$f":"'[2]030'!F55","v":"273"}]
[null,{"$f":"'[2]030'!A13","v":"Erreur d’isolation"},{"$f":"'[2]030'!B13","v":"296"},{"$f":"'[2]030'!E13","v":"Bac d’évaporateur"},{"$f":"'[2]030'!F13","v":"257"},{"$f":"'[2]030'!E56","v":"Liaison transversale"},{"$f":"'[2]030'!F56","v":"099"}]
[null,{"$f":"'[2]030'!A14","v":"Fissure"},{"$f":"'[2]030'!B14","v":"015"},{"$f":"'[2]030'!E14","v":"Barre profilée (étiquette de prix, rail porte-étiquette,..)"},{"$f":"'[2]030'!F14","v":"607"},{"$f":"'[2]030'!E57","v":"Lieu d’erreur non imputable"},{"$f":"'[2]030'!F57","v":"999"}]
[null,{"$f":"'[2]030'!A15","v":"Givrage"},{"$f":"'[2]030'!B15","v":"024"},{"$f":"'[2]030'!E15","v":"Boîtier de thermostat / interrupteur d’éclairage"},{"$f":"'[2]030'!F15","v":"053"},{"$f":"'[2]030'!E58","v":"Mécanisme de fermeture"},{"$f":"'[2]030'!F58","v":"472"}]
[null,{"$f":"'[2]030'!A16","v":"Grippé"},{"$f":"'[2]030'!B16","v":"023"},{"$f":"'[2]030'!E16","v":"Bouchon de fermeture de l’eau de dégivrage du compartiment congélateur"},{"$f":"'[2]030'!F16","v":"096"},{"$f":"'[2]030'!E59","v":"Module crush"},{"$f":"'[2]030'!F59","v":"599"}]
[null,{"$f":"'[2]030'!A17","v":"Lâche"},{"$f":"'[2]030'!B17","v":"014"},{"$f":"'[2]030'!E17","v":"Bouton de réglage"},{"$f":"'[2]030'!F17","v":"050"},{"$f":"'[2]030'!E60","v":"Module d'ouverture de porte"},{"$f":"'[2]030'!F60","v":"609"}]
[null,{"$f":"'[2]030'!A18","v":"Manquant"},{"$f":"'[2]030'!B18","v":"018"},{"$f":"'[2]030'!E18","v":"Branding (autocollant, logo, …)"},{"$f":"'[2]030'!F18","v":"530"},{"$f":"'[2]030'!E61","v":"Ouverture à pédale"},{"$f":"'[2]030'!F61","v":"600"}]
[null,{"$f":"'[2]030'!A19","v":"Mauvaise pièce"},{"$f":"'[2]030'!B19","v":"079"},{"$f":"'[2]030'!E19","v":"Cache"},{"$f":"'[2]030'!F19","v":"105"},{"$f":"'[2]030'!E62","v":"Paroi latérale général"},{"$f":"'[2]030'!F62","v":"036"}]
[null,{"$f":"'[2]030'!A20","v":"Montage incorrect"},{"$f":"'[2]030'!B20","v":"091"},{"$f":"'[2]030'!E20","v":"Cache évaporateur"},{"$f":"'[2]030'!F20","v":"528"},{"$f":"'[2]030'!E63","v":"Passage de boîtier"},{"$f":"'[2]030'!F63","v":"047"}]
[null,{"$f":"'[2]030'!A21","v":"Non étanche"},{"$f":"'[2]030'!B21","v":"002"},{"$f":"'[2]030'!E21","v":"Cache unité de commande, interface utilisateur (User Interface) "},{"$f":"'[2]030'!F21","v":"613"},{"$f":"'[2]030'!E64","v":"Pièces de l’équipement intérieur"},{"$f":"'[2]030'!F64","v":"039"}]
[null,{"$f":"'[2]030'!A22","v":"Odeur"},{"$f":"'[2]030'!B22","v":"083"},{"$f":"'[2]030'!E22","v":"Cadre de protection du coffre"},{"$f":"'[2]030'!F22","v":"041"},{"$f":"'[2]030'!E65","v":"Plateau de roulettes"},{"$f":"'[2]030'!F65","v":"437"}]
[null,{"$f":"'[2]030'!A23","v":"Pli"},{"$f":"'[2]030'!B23","v":"012"},{"$f":"'[2]030'!E23","v":"Cadre décoratif"},{"$f":"'[2]030'!F23","v":"094"},{"$f":"'[2]030'!E66","v":"Poignée"},{"$f":"'[2]030'!F66","v":"030"}]
[null,{"$f":"'[2]030'!A24","v":"Se bloque / coince"},{"$f":"'[2]030'!B24","v":"058"},{"$f":"'[2]030'!E24","v":"Capteur de température"},{"$f":"'[2]030'!F24","v":"073"},{"$f":"'[2]030'!E67","v":"Porte compartiment congélateur"},{"$f":"'[2]030'!F67","v":"042"}]
[null,{"$f":"'[2]030'!A25","v":"Serré trop fort"},{"$f":"'[2]030'!B25","v":"029"},{"$f":"'[2]030'!E25","v":"Cassette de refroidissement"},{"$f":"'[2]030'!F25","v":"525"},{"$f":"'[2]030'!E68","v":"Porte compartiment congélation"},{"$f":"'[2]030'!F68","v":"056"}]
[null,{"$f":"'[2]030'!A26","v":"Sortie de mousse"},{"$f":"'[2]030'!B26","v":"103"},{"$f":"'[2]030'!E26","v":"Charnière/ gond de porte"},{"$f":"'[2]030'!F26","v":"418"},{"$f":"'[2]030'!E69","v":"Porte compartiment réfrigérateur"},{"$f":"'[2]030'!F69","v":"043"}]
[null,{"$f":"'[2]030'!A27","v":"Tordu / gondolé"},{"$f":"'[2]030'!B27","v":"025"},{"$f":"'[2]030'!E27","v":"Chauffage"},{"$f":"'[2]030'!F27","v":"060"},{"$f":"'[2]030'!E70","v":"Porte du compartiment"},{"$f":"'[2]030'!F70","v":"692"}]
[null,{"$f":"'[2]030'!A28","v":"Type d’erreur non imputable"},{"$f":"'[2]030'!B28","v":"999"},{"$f":"'[2]030'!E28","v":"Clayette fil/en bois"},{"$f":"'[2]030'!F28","v":"336"},{"$f":"'[2]030'!E71","v":"Racks de stockage cryogénique"},{"$f":"'[2]030'!F71","v":"694"}]
[null,null,null,{"$f":"'[2]030'!E29","v":"Commutateur à cames/ aimant de porte"},{"$f":"'[2]030'!F29","v":"104"},{"$f":"'[2]030'!E72","v":"Rail coulissant / télescopique"},{"$f":"'[2]030'!F72","v":"259"}]
[null,null,null,{"$f":"'[2]030'!E30","v":"Commutateur d’éclairage"},{"$f":"'[2]030'!F30","v":"049"},{"$f":"'[2]030'!E73","v":"Récipient d’eau de dégivrage"},{"$f":"'[2]030'!F73","v":"052"}]
[null,null,null,{"$f":"'[2]030'!E31","v":"Condenseur"},{"$f":"'[2]030'!F31","v":"020"},{"$f":"'[2]030'!E74","v":"Refroidissement d’urgence CO2"},{"$f":"'[2]030'!F74","v":"693"}]
[null,null,null,{"$f":"'[2]030'!E32","v":"Conduit d’air"},{"$f":"'[2]030'!F32","v":"520"},{"$f":"'[2]030'!E75","v":"Réservoir d’eau"},{"$f":"'[2]030'!F75","v":"436"}]
[null,null,null,{"$f":"'[2]030'!E33","v":"Contre-porte compartiment congélateur"},{"$f":"'[2]030'!F33","v":"374"},{"$f":"'[2]030'!E76","v":"Set d’accouplement pour porte"},{"$f":"'[2]030'!F76","v":"097"}]
[null,null,null,{"$f":"'[2]030'!E34","v":"Contre-porte compartiment réfrigérateur"},{"$f":"'[2]030'!F34","v":"702"},{"$f":"'[2]030'!E77","v":"Support de compresseur"},{"$f":"'[2]030'!F77","v":"309"}]
[null,null,null,{"$f":"'[2]030'!E35","v":"Contre-porte compartiment réfrigérateur revêtement inox"},{"$f":"'[2]030'!F35","v":"700"},{"$f":"'[2]030'!E78","v":"Support pour rail coulissant / télescopique"},{"$f":"'[2]030'!F78","v":"431"}]
[null,null,null,{"$f":"'[2]030'!E36","v":"Couvercle (coffre) / couvercle coulissant"},{"$f":"'[2]030'!F36","v":"026"},{"$f":"'[2]030'!E79","v":"Tablette de séparation horizontale/ séparateur"},{"$f":"'[2]030'!F79","v":"438"}]
[null,null,null,{"$f":"'[2]030'!E37","v":"Couvercle tiroir électronique"},{"$f":"'[2]030'!F37","v":"434"},{"$f":"'[2]030'!E80","v":"Tablette de séparation verticale"},{"$f":"'[2]030'!F80","v":"266"}]
[null,null,null,{"$f":"'[2]030'!E38","v":"Cuve intérieure compartiment congélateur"},{"$f":"'[2]030'!F38","v":"364"},{"$f":"'[2]030'!E81","v":"Tiroir"},{"$f":"'[2]030'!F81","v":"102"}]
[null,null,null,{"$f":"'[2]030'!E39","v":"Cuve intérieure compartiment réfrigérateur"},{"$f":"'[2]030'!F39","v":"701"},{"$f":"'[2]030'!E82","v":"Tuyau d’eau"},{"$f":"'[2]030'!F82","v":"275"}]
[null,null,null,{"$f":"'[2]030'!E40","v":"Cuve intérieure compartiment réfrigérateur revêtement inox"},{"$f":"'[2]030'!F40","v":"699"},{"$f":"'[2]030'!E83","v":"Unité de sortie glace/ eau"},{"$f":"'[2]030'!F83","v":"432"}]
[null,null,null,{"$f":"'[2]030'!E41","v":"Dessus"},{"$f":"'[2]030'!F41","v":"040"},{"$f":"'[2]030'!E84","v":"Valve de compensation de pression"},{"$f":"'[2]030'!F84","v":"274"}]
[null,null,null,{"$f":"'[2]030'!E42","v":"Distributeur de glaçons"},{"$f":"'[2]030'!F42","v":"265"},{"$f":"'[2]030'!E85","v":"Vanne arrivée d’eau"},{"$f":"'[2]030'!F85","v":"252"}]
[null,null,null,{"$f":"'[2]030'!E43","v":"Écoulement de l’eau de dégivrage"},{"$f":"'[2]030'!F43","v":"051"},{"$f":"'[2]030'!E86","v":"Vanne de sortie de l’eau de dégivrage"},{"$f":"'[2]030'!F86","v":"276"}]
[null,null,null,{"$f":"'[2]030'!E44","v":"Entretoise murale"},{"$f":"'[2]030'!F44","v":"529"},{"$f":"'[2]030'!E87","v":"Ventilateur – compartiment congélateur"},{"$f":"'[2]030'!F87","v":"523"}]
[null,null,null,{"$f":"'[2]030'!E45","v":"Esse"},{"$f":"'[2]030'!F45","v":"611"},{"$f":"'[2]030'!E88","v":"Ventilateur – compartiment réfrigérateur/ BioFresh"},{"$f":"'[2]030'!F88","v":"524"}]
[null,null,null,{"$f":"'[2]030'!E46","v":"Évaporateur compartiment congélateur"},{"$f":"'[2]030'!F46","v":"017"},{"$f":"'[2]030'!E89","v":"Ventilateur – condenseur"},{"$f":"'[2]030'!F89","v":"522"}]
[null,null,null,{"$f":"'[2]030'!E47","v":"Évaporateur compartiment réfrigérateur"},{"$f":"'[2]030'!F47","v":"018"}]
["pas d'erreur",{"$f":"'[2]080'!A5","v":"Bruits de fonctionnement normaux"},{"$f":"'[2]080'!B5","v":"304"},{"$f":"'[2]080'!E5","v":"Aération de l’appareil"},{"$f":"'[2]080'!F5","v":"474"},{"$f":"'[2]080'!E27","v":"Points de soudure"},{"$f":"'[2]080'!F27","v":"475"}]
[80,{"$f":"'[2]080'!A6","v":"Congélation, givrage normal"},{"$f":"'[2]080'!B6","v":"408"},{"$f":"'[2]080'!E6","v":"Affichage de la valeur réelle/ valeur de consigne"},{"$f":"'[2]080'!F6","v":"479"},{"$f":"'[2]080'!E28","v":"Porte compartiment congélateur"},{"$f":"'[2]080'!F28","v":"042"}]
[null,{"$f":"'[2]080'!A7","v":"Consommation électrique normale"},{"$f":"'[2]080'!B7","v":"406"},{"$f":"'[2]080'!E7","v":"Amortisseur de fermeture"},{"$f":"'[2]080'!F7","v":"408"},{"$f":"'[2]080'!E29","v":"Porte compartiment réfrigérateur"},{"$f":"'[2]080'!F29","v":"043"}]
[null,{"$f":"'[2]080'!A8","v":"Différences / variations de températures normales"},{"$f":"'[2]080'!B8","v":"345"},{"$f":"'[2]080'!E8","v":"Boîtier"},{"$f":"'[2]080'!F8","v":"223"},{"$f":"'[2]080'!E30","v":"Précision technique (description du fonctionnement)"},{"$f":"'[2]080'!F30","v":"208"}]
[null,{"$f":"'[2]080'!A9","v":"Durée de fonctionnement normale"},{"$f":"'[2]080'!B9","v":"407"},{"$f":"'[2]080'!E9","v":"Caractéristiques de l’appareil"},{"$f":"'[2]080'!F9","v":"206"},{"$f":"'[2]080'!E31","v":"Récipient d’eau de dégivrage"},{"$f":"'[2]080'!F31","v":"052"}]
[null,{"$f":"'[2]080'!A10","v":"Encrassé"},{"$f":"'[2]080'!B10","v":"148"},{"$f":"'[2]080'!E10","v":"Chauffage d’hiver"},{"$f":"'[2]080'!F10","v":"199"},{"$f":"'[2]080'!E32","v":"Smart Device Box"},{"$f":"'[2]080'!F32","v":"608"}]
[null,{"$f":"'[2]080'!A11","v":"Erreur d’utilisation / non respect manuel d’utilisation"},{"$f":"'[2]080'!B11","v":"343"},{"$f":"'[2]080'!E11","v":"Circuit réfrigérant"},{"$f":"'[2]080'!F11","v":"245"},{"$f":"'[2]080'!E33","v":"Température de l’air, du noyau"},{"$f":"'[2]080'!F33","v":"476"}]
[null,{"$f":"'[2]080'!A12","v":"Erreur de montage/ de mise en place"},{"$f":"'[2]080'!B12","v":"081"},{"$f":"'[2]080'!E12","v":"Compresseur"},{"$f":"'[2]080'!F12","v":"063"},{"$f":"'[2]080'!E34","v":"Vanne arrivée d’eau"},{"$f":"'[2]080'!F34","v":"252"}]
[null,{"$f":"'[2]080'!A13","v":"Erreur ne se produit actuellement pas"},{"$f":"'[2]080'!B13","v":"082"},{"$f":"'[2]080'!E13","v":"Consommable (filtre, ..)"},{"$f":"'[2]080'!F13","v":"610"},{"$f":"'[2]080'!E35","v":"Vanne circuit réfrigérant"},{"$f":"'[2]080'!F35","v":"009"}]
[null,{"$f":"'[2]080'!A14","v":"Incompatible (p. ex. tablette, smartphone)"},{"$f":"'[2]080'!B14","v":"410"},{"$f":"'[2]080'!E14","v":"Cuve intérieure compartiment congélateur"},{"$f":"'[2]080'!F14","v":"364"},{"$f":"'[2]080'!E36","v":"Ventilateur – compartiment congélateur"},{"$f":"'[2]080'!F36","v":"523"}]
[null,{"$f":"'[2]080'!A15","v":"Informations non précises"},{"$f":"'[2]080'!B15","v":"342"},{"$f":"'[2]080'!E15","v":"Cuve intérieure compartiment réfrigérateur"},{"$f":"'[2]080'!F15","v":"701"},{"$f":"'[2]080'!E37","v":"Ventilateur – compartiment réfrigérateur/ BioFresh"},{"$f":"'[2]080'!F37","v":"524"}]
[null,{"$f":"'[2]080'!A16","v":"Inversion du sens d’ouverture de la porte"},{"$f":"'[2]080'!B16","v":"341"},{"$f":"'[2]080'!E16","v":"Éclairage"},{"$f":"'[2]080'!F16","v":"059"},{"$f":"'[2]080'!E38","v":"Ventilateur – condenseur"},{"$f":"'[2]080'!F38","v":"522"}]
[null,{"$f":"'[2]080'!A17","v":"Mauvais appareil"},{"$f":"'[2]080'!B17","v":"346"},{"$f":"'[2]080'!E17","v":"Écoulement de l’eau de dégivrage"},{"$f":"'[2]080'!F17","v":"051"}]
[null,{"$f":"'[2]080'!A18","v":"Mode démo lors de mise en service"},{"$f":"'[2]080'!B18","v":"339"},{"$f":"'[2]080'!E18","v":"Entretoise murale"},{"$f":"'[2]080'!F18","v":"529"}]
[null,{"$f":"'[2]080'!A19","v":"Odeur"},{"$f":"'[2]080'!B19","v":"083"},{"$f":"'[2]080'!E19","v":"Face arrière"},{"$f":"'[2]080'!F19","v":"034"}]
[null,{"$f":"'[2]080'!A20","v":"Oxydation"},{"$f":"'[2]080'!B20","v":"344"},{"$f":"'[2]080'!E20","v":"Humidificateur (Hydrobreeze)"},{"$f":"'[2]080'!F20","v":"683"}]
[null,{"$f":"'[2]080'!A21","v":"Pièce plus disponible"},{"$f":"'[2]080'!B21","v":"305"},{"$f":"'[2]080'!E21","v":"Informations"},{"$f":"'[2]080'!F21","v":"207"}]
[null,{"$f":"'[2]080'!A22","v":"Puissance du signal"},{"$f":"'[2]080'!B22","v":"412"},{"$f":"'[2]080'!E22","v":"Installation domestique"},{"$f":"'[2]080'!F22","v":"473"}]
[null,{"$f":"'[2]080'!A23","v":"Température ambiante trop chaude"},{"$f":"'[2]080'!B23","v":"086"},{"$f":"'[2]080'!E23","v":"Lieu d’erreur non imputable"},{"$f":"'[2]080'!F23","v":"999"}]
[null,{"$f":"'[2]080'!A24","v":"Température ambiante trop froide"},{"$f":"'[2]080'!B24","v":"085"},{"$f":"'[2]080'!E24","v":"Module d'ouverture de porte"},{"$f":"'[2]080'!F24","v":"609"}]
[null,{"$f":"'[2]080'!A25","v":"Tension d’alimentation manquante"},{"$f":"'[2]080'!B25","v":"340"},{"$f":"'[2]080'!E25","v":"Platine électronique"},{"$f":"'[2]080'!F25","v":"172"}]
[null,{"$f":"'[2]080'!A26","v":"Type d’erreur non imputable"},{"$f":"'[2]080'!B26","v":"999"},{"$f":"'[2]080'!E26","v":"Poignée"},{"$f":"'[2]080'!F26","v":"030"}]
["Erreur ne",{"$f":"'[2]101'!A5","v":"Aucune connexion"},{"$f":"'[2]101'!B5","v":"488"},{"$f":"'[2]101'!E5","v":"\u0090Joint de porte compartiment congélateur"},{"$f":"'[2]101'!F5","v":"531"},{"$f":"'[2]101'!E19","v":"Lieu d’erreur non imputable"},{"$f":"'[2]101'!F19","v":"999"}]
["se produit",{"$f":"'[2]101'!A6","v":"Bruit occasionnel"},{"$f":"'[2]101'!B6","v":"483"},{"$f":"'[2]101'!E6","v":"\u0090Joint de porte compartiment étoiles"},{"$f":"'[2]101'!F6","v":"159"},{"$f":"'[2]101'!E20","v":"Mécanisme de fermeture"},{"$f":"'[2]101'!F20","v":"472"}]
["actuellement",{"$f":"'[2]101'!A7","v":"Condensation temporaire / rosée"},{"$f":"'[2]101'!B7","v":"489"},{"$f":"'[2]101'!E7","v":"\u0090Joint de porte compartiment réfrigérateur"},{"$f":"'[2]101'!F7","v":"532"},{"$f":"'[2]101'!E21","v":"Module d'ouverture de porte"},{"$f":"'[2]101'!F21","v":"609"}]
[" pas",{"$f":"'[2]101'!A8","v":"Déclenchement temporaire du dispositif de sécurité"},{"$f":"'[2]101'!B8","v":"486"},{"$f":"'[2]101'!E8","v":"Amortisseur de fermeture"},{"$f":"'[2]101'!F8","v":"408"},{"$f":"'[2]101'!E22","v":"Ouverture à pédale"},{"$f":"'[2]101'!F22","v":"600"}]
[101,{"$f":"'[2]101'!A9","v":"Défaillance totale occasionnelle"},{"$f":"'[2]101'!B9","v":"490"},{"$f":"'[2]101'!E9","v":"Charnière/ gond de porte"},{"$f":"'[2]101'!F9","v":"418"},{"$f":"'[2]101'!E23","v":"Paroi latérale général"},{"$f":"'[2]101'!F23","v":"036"}]
[null,{"$f":"'[2]101'!A10","v":"Erreur d'éclairage occasionnelle"},{"$f":"'[2]101'!B10","v":"491"},{"$f":"'[2]101'!E10","v":"Couvercle (coffre) / couvercle coulissant"},{"$f":"'[2]101'!F10","v":"026"},{"$f":"'[2]101'!E24","v":"Platine électronique"},{"$f":"'[2]101'!F24","v":"172"}]
[null,{"$f":"'[2]101'!A11","v":"Message d'alarme occasionnel "},{"$f":"'[2]101'!B11","v":"485"},{"$f":"'[2]101'!E11","v":"Cuve intérieure compartiment congélateur"},{"$f":"'[2]101'!F11","v":"364"},{"$f":"'[2]101'!E25","v":"Porte compartiment congélateur"},{"$f":"'[2]101'!F25","v":"042"}]
[null,{"$f":"'[2]101'!A12","v":"Occasionnellement bloqué/grippé"},{"$f":"'[2]101'!B12","v":"492"},{"$f":"'[2]101'!E12","v":"Cuve intérieure compartiment réfrigérateur"},{"$f":"'[2]101'!F12","v":"701"},{"$f":"'[2]101'!E26","v":"Porte compartiment réfrigérateur"},{"$f":"'[2]101'!F26","v":"043"}]
[null,{"$f":"'[2]101'!A13","v":"Taux d'humidité parfois trop élevé / trop faible"},{"$f":"'[2]101'!B13","v":"487"},{"$f":"'[2]101'!E13","v":"Dessus"},{"$f":"'[2]101'!F13","v":"040"},{"$f":"'[2]101'!E27","v":"Réservoir d’eau"},{"$f":"'[2]101'!F27","v":"436"}]
[null,{"$f":"'[2]101'!A14","v":"Variation occasionnelle de la température"},{"$f":"'[2]101'!B14","v":"484"},{"$f":"'[2]101'!E14","v":"Distributeur de glaçons"},{"$f":"'[2]101'!F14","v":"265"},{"$f":"'[2]101'!E28","v":"Tablettes en verre, balconnets, etc."},{"$f":"'[2]101'!F28","v":"029"}]
[null,null,null,{"$f":"'[2]101'!E15","v":"Éclairage"},{"$f":"'[2]101'!F15","v":"059"},{"$f":"'[2]101'!E29","v":"Tiroir"},{"$f":"'[2]101'!F29","v":"102"}]
[null,null,null,{"$f":"'[2]101'!E16","v":"Écoulement de l’eau de dégivrage"},{"$f":"'[2]101'!F16","v":"051"},{"$f":"'[2]101'!E30","v":"Unité de sortie glace/ eau"},{"$f":"'[2]101'!F30","v":"432"}]
[null,null,null,{"$f":"'[2]101'!E17","v":"Évaporateur compartiment congélateur"},{"$f":"'[2]101'!F17","v":"017"},{"$f":"'[2]101'!E31","v":"Vanne de sortie de l’eau de dégivrage"},{"$f":"'[2]101'!F31","v":"276"}]
[null,null,null,{"$f":"'[2]101'!E18","v":"Évaporateur compartiment réfrigérateur"},{"$f":"'[2]101'!F18","v":"018"}]
["Système ",{"$f":"'[2]046'!A5","v":"Aucune connexion"},{"$f":"'[2]046'!B5","v":"488"},{"$f":"'[2]046'!E5","v":"APP / logiciel"},{"$f":"'[2]046'!F5","v":"597"},{"$f":"'[2]046'!E12","v":"Module maître / esclave (HomeDialog)"},{"$f":"'[2]046'!F12","v":"605"}]
["électronique",{"$f":"'[2]046'!A6","v":"Câbles erreur de câblage"},{"$f":"'[2]046'!B6","v":"297"},{"$f":"'[2]046'!E6","v":"Boutique de licences"},{"$f":"'[2]046'!F6","v":"695"},{"$f":"'[2]046'!E13","v":"NFC, puce RFID"},{"$f":"'[2]046'!F13","v":"685"}]
[46,{"$f":"'[2]046'!A7","v":"Erreur de configuration"},{"$f":"'[2]046'!B7","v":"411"},{"$f":"'[2]046'!E7","v":"Câble LAN"},{"$f":"'[2]046'!F7","v":"603"},{"$f":"'[2]046'!E14","v":"Résistance de terminaison"},{"$f":"'[2]046'!F14","v":"595"}]
[null,{"$f":"'[2]046'!A8","v":"Erreur de logiciel (bug)"},{"$f":"'[2]046'!B8","v":"588"},{"$f":"'[2]046'!E8","v":"Capteurs intelligents"},{"$f":"'[2]046'!F8","v":"686"},{"$f":"'[2]046'!E15","v":"Smart Device Box"},{"$f":"'[2]046'!F15","v":"608"}]
[null,{"$f":"'[2]046'!A9","v":"Incompatible (p. ex. tablette, smartphone)"},{"$f":"'[2]046'!B9","v":"410"},{"$f":"'[2]046'!E9","v":"Clé infrarouge"},{"$f":"'[2]046'!F9","v":"601"},{"$f":"'[2]046'!E16","v":"SmartCoolingHub"},{"$f":"'[2]046'!F16","v":"697"}]
[null,{"$f":"'[2]046'!A10","v":"Puissance du signal"},{"$f":"'[2]046'!B10","v":"412"},{"$f":"'[2]046'!E10","v":"Convertisseur pour port série (EVCO, Carel)"},{"$f":"'[2]046'!F10","v":"602"},{"$f":"'[2]046'!E17","v":"SmartMonitoring"},{"$f":"'[2]046'!F17","v":"696"}]
[null,{"$f":"'[2]046'!A11","v":"Type d’erreur non imputable"},{"$f":"'[2]046'!B11","v":"999"},{"$f":"'[2]046'!E11","v":"Interface (RS 485, RS 232, CAN BUS, MOD BUS, Ethernet, clé IR, Wi-Fi, BT, USB, …)"},{"$f":"'[2]046'!F11","v":"470"}]

{"sheet":"Codici di errore","index":3,"n_rows":211,"n_cols":7,"rows_kept":211,"cut":false,"hidden":false,"merged":[[9,0,22,0],[0,2,0,4],[2,0,2,6],[5,1,5,2],[5,3,5,6],[6,0,7,0],[23,0,24,0],[47,0,55,0],[91,0,104,0],[170,0,171,0],[224,1,224,6]]}
[null,null,"Codici di errore incarico servizio assistenza"]
[null,null,null,null,null,"Ultimo aggiornamento: 01/10/2020"]
[]
["|",null,"|",null,"|",null,"|"]
[]
["Categorie di errori","Tipo di errore",null,"Ubicazione dell'errore"]
["Ciclo frigorigeno",{"$f":"'[3]005'!A5","v":"Bloccato / incastrato"},{"$f":"'[3]005'!B5","v":"058"},{"$f":"'[3]005'!E5","v":"Anticondensa /condensatore (collegamento)"},{"$f":"'[3]005'!F5","v":"012"},{"$f":"'[3]005'!E22","v":"Filtro essiccatore /capillare (connessione)"},{"$f":"'[3]005'!F22","v":"016"}]
[null,{"$f":"'[3]005'!A6","v":"Brinatura del tubo di aspirazione"},{"$f":"'[3]005'!B6","v":"409"},{"$f":"'[3]005'!E6","v":"Cascata"},{"$f":"'[3]005'!F6","v":"679"},{"$f":"'[3]005'!E23","v":"Modulo evaporatore /tubo di aspirazione"},{"$f":"'[3]005'!F23","v":"413"}]
[5,{"$f":"'[3]005'!A7","v":"Collegamento saldato non a tenuta stagna"},{"$f":"'[3]005'!B7","v":"001"},{"$f":"'[3]005'!E7","v":"cassetta di refrigerazione"},{"$f":"'[3]005'!F7","v":"525"},{"$f":"'[3]005'!E24","v":"Pressostato"},{"$f":"'[3]005'!F24","v":"678"}]
["(Perdita/ Occlusione/ Capacità)",{"$f":"'[3]005'!A8","v":"Giuntura saldata chiusa"},{"$f":"'[3]005'!B8","v":"293"},{"$f":"'[3]005'!E8","v":"Collettore"},{"$f":"'[3]005'!F8","v":"533"},{"$f":"'[3]005'!E25","v":"Riscaldatore , vaschetta evaporatore"},{"$f":"'[3]005'!F25","v":"416"}]
[null,{"$f":"'[3]005'!A9","v":"Giunzione Lokring non a tenuta stagna"},{"$f":"'[3]005'!B9","v":"291"},{"$f":"'[3]005'!E9","v":"Compressore"},{"$f":"'[3]005'!F9","v":"063"},{"$f":"'[3]005'!E26","v":"Riscaldatore , vaschetta evaporatore/Compressore (connessione)"},{"$f":"'[3]005'!F26","v":"414"}]
[null,{"$f":"'[3]005'!A10","v":"Materiale / tubo non a tenuta"},{"$f":"'[3]005'!B10","v":"292"},{"$f":"'[3]005'!E10","v":"Compressore /tubo di servizio (connessione)"},{"$f":"'[3]005'!F10","v":"003"},{"$f":"'[3]005'!E27","v":"Riscaldatore , vaschetta evaporatore/Condensatore (connessione)"},{"$f":"'[3]005'!F27","v":"415"}]
[null,{"$f":"'[3]005'!A11","v":"Nessuna uscita"},{"$f":"'[3]005'!B11","v":"060"},{"$f":"'[3]005'!E11","v":"Compressore/condensatore (connessione)"},{"$f":"'[3]005'!F11","v":"007"},{"$f":"'[3]005'!E28","v":"Riscaldatore anticondensa"},{"$f":"'[3]005'!F28","v":"011"}]
[null,{"$f":"'[3]005'!A12","v":"Ostruito"},{"$f":"'[3]005'!B12","v":"028"},{"$f":"'[3]005'!E12","v":"Compressore/tubo anticondensa (connessione)"},{"$f":"'[3]005'!F12","v":"004"},{"$f":"'[3]005'!E29","v":"Scambiatore di calore (ad acqua)"},{"$f":"'[3]005'!F29","v":"395"}]
[null,{"$f":"'[3]005'!A13","v":"Piega"},{"$f":"'[3]005'!B13","v":"012"},{"$f":"'[3]005'!E13","v":"Compressore/tubo di aspirazione (connessione)"},{"$f":"'[3]005'!F13","v":"005"},{"$f":"'[3]005'!E30","v":"Separatore dell’olio"},{"$f":"'[3]005'!F30","v":"676"}]
[null,{"$f":"'[3]005'!A14","v":"Rigido"},{"$f":"'[3]005'!B14","v":"023"},{"$f":"'[3]005'!E14","v":"Condensatore"},{"$f":"'[3]005'!F14","v":"020"},{"$f":"'[3]005'!E31","v":"Tubi capillari"},{"$f":"'[3]005'!F31","v":"002"}]
[null,{"$f":"'[3]005'!A15","v":"Tipo di errore non classificabile"},{"$f":"'[3]005'!B15","v":"999"},{"$f":"'[3]005'!E15","v":"Condensatore/filtro essiccatore (connessione)"},{"$f":"'[3]005'!F15","v":"021"},{"$f":"'[3]005'!E32","v":"Tubo di aspirazione/evaporatore (connessione)"},{"$f":"'[3]005'!F32","v":"014"}]
[null,{"$f":"'[3]005'!A16","v":0},{"$f":"'[3]005'!B16","v":0},{"$f":"'[3]005'!E16","v":"Diramazione – tubo di aspirazione / tubo di mandata (collegamento)"},{"$f":"'[3]005'!F16","v":"518"},{"$f":"'[3]005'!E33","v":"Tubo di aspirazione/ingresso tubi capillari (connessione)"},{"$f":"'[3]005'!F33","v":"013"}]
[null,null,null,{"$f":"'[3]005'!E17","v":"Evaporatore vano congelatore"},{"$f":"'[3]005'!F17","v":"017"},{"$f":"'[3]005'!E34","v":"Ubicazione dell’errore non classificabile"},{"$f":"'[3]005'!F34","v":"999"}]
[null,null,null,{"$f":"'[3]005'!E18","v":"Evaporatore vano frigorifero"},{"$f":"'[3]005'!F18","v":"018"},{"$f":"'[3]005'!E35","v":"Valvola circuito di raffreddamento"},{"$f":"'[3]005'!F35","v":"009"}]
[null,null,null,{"$f":"'[3]005'!E19","v":"Evaporatore vano frigorifero/modulo evaporatore vano congelatore (connessione)"},{"$f":"'[3]005'!F19","v":"412"},{"$f":"'[3]005'!E36","v":"Valvola di espansione"},{"$f":"'[3]005'!F36","v":"675"}]
[null,null,null,{"$f":"'[3]005'!E20","v":"Evaporatore/punto d’iniezione (connessione)"},{"$f":"'[3]005'!F20","v":"019"},{"$f":"'[3]005'!E37","v":"Valvola per raffreddamento esterno (circuito idrico, raffreddamento ad acqua ...)"},{"$f":"'[3]005'!F37","v":"677"}]
[null,{"$f":"'[3]005'!A17","v":0},{"$f":"'[3]005'!B17","v":0},{"$f":"'[3]005'!E21","v":"Filtro essiccatore"},{"$f":"'[3]005'!F21","v":"015"}]
["Impianto elettrico",{"$f":"'[3]040'!A5","v":"Cavi danneggiati"},{"$f":"'[3]040'!B5","v":"036"},{"$f":"'[3]040'!E5","v":"Batteria/ batteria ricaricabile"},{"$f":"'[3]040'!F5","v":"103"},{"$f":"'[3]040'!E26","v":"Pompa tanica acqua"},{"$f":"'[3]040'!F26","v":"440"}]
[null,{"$f":"'[3]040'!A6","v":"Contatto allentato"},{"$f":"'[3]040'!B6","v":"041"},{"$f":"'[3]040'!E6","v":"Blocchetto di distribuzione"},{"$f":"'[3]040'!F6","v":"075"},{"$f":"'[3]040'!E27","v":"Pressostato"},{"$f":"'[3]040'!F27","v":"678"}]
[40,{"$f":"'[3]040'!A7","v":"Cortocircuito"},{"$f":"'[3]040'!B7","v":"034"},{"$f":"'[3]040'!E7","v":"Cablaggio/ cavo"},{"$f":"'[3]040'!F7","v":"062"},{"$f":"'[3]040'!E28","v":"Pulsante/ Interruttore"},{"$f":"'[3]040'!F28","v":"072"}]
[null,{"$f":"'[3]040'!A8","v":"Difetto cavi/cablaggio"},{"$f":"'[3]040'!B8","v":"297"},{"$f":"'[3]040'!E8","v":"cassetta di refrigerazione"},{"$f":"'[3]040'!F8","v":"525"},{"$f":"'[3]040'!E29","v":"Riscaldamento porta"},{"$f":"'[3]040'!F29","v":"467"}]
[null,{"$f":"'[3]040'!A9","v":"Fuori tolleranza (sonda etc.)"},{"$f":"'[3]040'!B9","v":"031"},{"$f":"'[3]040'!E9","v":"Chiusura remota"},{"$f":"'[3]040'!F9","v":"527"},{"$f":"'[3]040'!E30","v":"Riscaldatore"},{"$f":"'[3]040'!F30","v":"060"}]
[null,{"$f":"'[3]040'!A10","v":"Fuso"},{"$f":"'[3]040'!B10","v":"040"},{"$f":"'[3]040'!E10","v":"Compressore"},{"$f":"'[3]040'!F10","v":"063"},{"$f":"'[3]040'!E31","v":"Salvamotore del compressore"},{"$f":"'[3]040'!F31","v":"065"}]
[null,{"$f":"'[3]040'!A11","v":"Interruzione elettrica"},{"$f":"'[3]040'!B11","v":"032"},{"$f":"'[3]040'!E11","v":"Condensatore"},{"$f":"'[3]040'!F11","v":"066"},{"$f":"'[3]040'!E32","v":"Sensore di luminosità"},{"$f":"'[3]040'!F32","v":"682"}]
[null,{"$f":"'[3]040'!A12","v":"Non commuta"},{"$f":"'[3]040'!B12","v":"202"},{"$f":"'[3]040'!E12","v":"Connettore / connettore a vite"},{"$f":"'[3]040'!F12","v":"071"},{"$f":"'[3]040'!E33","v":"Sensore umidità"},{"$f":"'[3]040'!F33","v":"468"}]
[null,{"$f":"'[3]040'!A13","v":"Regola in modo non corretto"},{"$f":"'[3]040'!B13","v":"039"},{"$f":"'[3]040'!E13","v":"Contatto a potenziale zero"},{"$f":"'[3]040'!F13","v":"469"},{"$f":"'[3]040'!E34","v":"Sonda di temperatura"},{"$f":"'[3]040'!F34","v":"073"}]
[null,{"$f":"'[3]040'!A14","v":"Tipo di errore non classificabile"},{"$f":"'[3]040'!B14","v":"999"},{"$f":"'[3]040'!E14","v":"Contatto reed (riconoscimento porta aperta, ...)"},{"$f":"'[3]040'!F14","v":"068"},{"$f":"'[3]040'!E35","v":"Spie luminose"},{"$f":"'[3]040'!F35","v":"067"}]
[null,{"$f":"'[3]040'!A15","v":"Visualizzazione non corretta"},{"$f":"'[3]040'!B15","v":"033"},{"$f":"'[3]040'!E15","v":"Deflettore aria"},{"$f":"'[3]040'!F15","v":"439"},{"$f":"'[3]040'!E36","v":"Termometro"},{"$f":"'[3]040'!F36","v":"085"}]
[null,null,null,{"$f":"'[3]040'!E16","v":"Dispositivo di avviamento del compressore"},{"$f":"'[3]040'!F16","v":"064"},{"$f":"'[3]040'!E37","v":"Termostato di regolazione"},{"$f":"'[3]040'!F37","v":"074"}]
[null,null,null,{"$f":"'[3]040'!E17","v":"IceMaker"},{"$f":"'[3]040'!F17","v":"265"},{"$f":"'[3]040'!E38","v":"Termostato di sicurezza"},{"$f":"'[3]040'!F38","v":"517"}]
[null,null,null,{"$f":"'[3]040'!E18","v":"Illuminazione"},{"$f":"'[3]040'!F18","v":"059"},{"$f":"'[3]040'!E39","v":"Ubicazione dell’errore non classificabile"},{"$f":"'[3]040'!F39","v":"999"}]
[null,null,null,{"$f":"'[3]040'!E19","v":"Limitatore di temperatura di sicurezza"},{"$f":"'[3]040'!F19","v":"277"},{"$f":"'[3]040'!E40","v":"Umidificatore (hydrobreeze)"},{"$f":"'[3]040'!F40","v":"683"}]
[null,null,null,{"$f":"'[3]040'!E20","v":"Meccanismo di arresto"},{"$f":"'[3]040'!F20","v":"680"},{"$f":"'[3]040'!E41","v":"Valvola afflusso acqua"},{"$f":"'[3]040'!F41","v":"252"}]
[null,null,null,{"$f":"'[3]040'!E21","v":"Modulo apriporta "},{"$f":"'[3]040'!F21","v":"609"},{"$f":"'[3]040'!E42","v":"Valvola circuito di raffreddamento"},{"$f":"'[3]040'!F42","v":"009"}]
[null,null,null,{"$f":"'[3]040'!E22","v":"Modulo caricabatterie"},{"$f":"'[3]040'!F22","v":"598"},{"$f":"'[3]040'!E43","v":"Valvola di compensazione della pressione"},{"$f":"'[3]040'!F43","v":"274"}]
[null,null,null,{"$f":"'[3]040'!E23","v":"Modulo RS485"},{"$f":"'[3]040'!F23","v":"681"},{"$f":"'[3]040'!E44","v":"Ventilatore – Condensatore"},{"$f":"'[3]040'!F44","v":"522"}]
[null,null,null,{"$f":"'[3]040'!E24","v":"Modulo trita ghiaccio"},{"$f":"'[3]040'!F24","v":"599"},{"$f":"'[3]040'!E45","v":"Ventilatore – vano congelatore"},{"$f":"'[3]040'!F45","v":"523"}]
[null,null,null,{"$f":"'[3]040'!E25","v":"Pannello isolante"},{"$f":"'[3]040'!F25","v":"061"},{"$f":"'[3]040'!E46","v":"Ventilatore – vano frigorifero/ BioFresh"},{"$f":"'[3]040'!F46","v":"524"}]
["Elettronica",{"$f":"'[3]045'!A5","v":"Allarme acustico non funziona"},{"$f":"'[3]045'!B5","v":"051"},{"$f":"'[3]045'!E5","v":"Alimentatore / trasformatore illuminazione a LED"},{"$f":"'[3]045'!F5","v":"442"}]
[45,{"$f":"'[3]045'!A6","v":"Allarme temperatura ingiustificato"},{"$f":"'[3]045'!B6","v":"054"},{"$f":"'[3]045'!E6","v":"Chip NFC, RFID"},{"$f":"'[3]045'!F6","v":"685"}]
[null,{"$f":"'[3]045'!A7","v":"Compressore non si attiva"},{"$f":"'[3]045'!B7","v":"046"},{"$f":"'[3]045'!E7","v":"Connettore scheda elettronica"},{"$f":"'[3]045'!F7","v":"082"}]
["(Errore dei componenti elettronici)",{"$f":"'[3]045'!A8","v":"Contatto allentato"},{"$f":"'[3]045'!B8","v":"041"},{"$f":"'[3]045'!E8","v":"Dimmer"},{"$f":"'[3]045'!F8","v":"519"}]
[null,{"$f":"'[3]045'!A9","v":"Cortocircuito"},{"$f":"'[3]045'!B9","v":"034"},{"$f":"'[3]045'!E9","v":"Elettronica inverter (VCC)"},{"$f":"'[3]045'!F9","v":"260"}]
[null,{"$f":"'[3]045'!A10","v":"Deflettore aria non si attiva"},{"$f":"'[3]045'!B10","v":"299"},{"$f":"'[3]045'!E10","v":"Elettronica, IceMaker"},{"$f":"'[3]045'!F10","v":"264"}]
[null,{"$f":"'[3]045'!A11","v":"Difetto spia luminosa"},{"$f":"'[3]045'!B11","v":"047"},{"$f":"'[3]045'!E11","v":"Filtro di rete"},{"$f":"'[3]045'!F11","v":"684"}]
[null,{"$f":"'[3]045'!A12","v":"Errore software (BUG)"},{"$f":"'[3]045'!B12","v":"588"},{"$f":"'[3]045'!E12","v":"Modulo di collegamento"},{"$f":"'[3]045'!F12","v":"441"}]
[null,{"$f":"'[3]045'!A13","v":"Fuso"},{"$f":"'[3]045'!B13","v":"040"},{"$f":"'[3]045'!E13","v":"Modulo RS485"},{"$f":"'[3]045'!F13","v":"681"}]
[null,{"$f":"'[3]045'!A14","v":"Indicazione errata / errore su display"},{"$f":"'[3]045'!B14","v":"043"},{"$f":"'[3]045'!E14","v":"Morsettiera di alimentazione elettrica"},{"$f":"'[3]045'!F14","v":"606"}]
[null,{"$f":"'[3]045'!A15","v":"Interruzione (fessura capillare, punto saldato etc.)"},{"$f":"'[3]045'!B15","v":"055"},{"$f":"'[3]045'!E15","v":"Pannello di controllo, Interfaccia utente"},{"$f":"'[3]045'!F15","v":"612"}]
[null,{"$f":"'[3]045'!A16","v":"L’illuminazione non si attiva / si attiva in parte / si attiva in modo insufficiente"},{"$f":"'[3]045'!B16","v":"042"},{"$f":"'[3]045'!E16","v":"Pulsante/ Interruttore"},{"$f":"'[3]045'!F16","v":"072"}]
[null,{"$f":"'[3]045'!A17","v":"Malfunzionamento generale"},{"$f":"'[3]045'!B17","v":"044"},{"$f":"'[3]045'!E17","v":"Relè semiconduttore"},{"$f":"'[3]045'!F17","v":"698"}]
[null,{"$f":"'[3]045'!A18","v":"Non si attiva il ventilatore"},{"$f":"'[3]045'!B18","v":"056"},{"$f":"'[3]045'!E18","v":"Scheda elettronica"},{"$f":"'[3]045'!F18","v":"172"}]
[null,{"$f":"'[3]045'!A19","v":"Non si attiva la pompa del serbatoio dell’acqua"},{"$f":"'[3]045'!B19","v":"298"},{"$f":"'[3]045'!E19","v":"Sensori smart"},{"$f":"'[3]045'!F19","v":"686"}]
[null,{"$f":"'[3]045'!A20","v":"Non si attiva la valvola magnetica"},{"$f":"'[3]045'!B20","v":"048"},{"$f":"'[3]045'!E20","v":"Termostato"},{"$f":"'[3]045'!F20","v":"516"}]
[null,{"$f":"'[3]045'!A21","v":"Pulsante o interruttore difettoso"},{"$f":"'[3]045'!B21","v":"049"},{"$f":"'[3]045'!E21","v":"Ubicazione dell’errore non classificabile"},{"$f":"'[3]045'!F21","v":"999"}]
[null,{"$f":"'[3]045'!A22","v":"Regola in modo non corretto"},{"$f":"'[3]045'!B22","v":"039"}]
[null,{"$f":"'[3]045'!A23","v":"Riscaldatore non si attivata"},{"$f":"'[3]045'!B23","v":"045"}]
[null,{"$f":"'[3]045'!A24","v":"Tipo di errore non classificabile"},{"$f":"'[3]045'!B24","v":"999"}]
[null,{"$f":"'[3]045'!A25","v":"Variazioni della temperatura"},{"$f":"'[3]045'!B25","v":"050"}]
["Meccanica",{"$f":"'[3]050'!A5","v":"Bloccato / incastrato"},{"$f":"'[3]050'!B5","v":"058"},{"$f":"'[3]050'!E5","v":"Cerniera/ fissaggio porta"},{"$f":"'[3]050'!F5","v":"418"},{"$f":"'[3]050'!E15","v":"Pedale d’apertura"},{"$f":"'[3]050'!F15","v":"600"}]
[50,{"$f":"'[3]050'!A6","v":"Curvo / deformato"},{"$f":"'[3]050'!B6","v":"025"},{"$f":"'[3]050'!E6","v":"Chiusura remota"},{"$f":"'[3]050'!F6","v":"527"},{"$f":"'[3]050'!E16","v":"Piedino/ rotella"},{"$f":"'[3]050'!F16","v":"028"}]
[null,{"$f":"'[3]050'!A7","v":"Disallineato / sfalsato"},{"$f":"'[3]050'!B7","v":"027"},{"$f":"'[3]050'!E7","v":"Deflettore aria"},{"$f":"'[3]050'!F7","v":"439"},{"$f":"'[3]050'!E17","v":"Pulsante/ Interruttore"},{"$f":"'[3]050'!F17","v":"072"}]
[null,{"$f":"'[3]050'!A8","v":"Logoro"},{"$f":"'[3]050'!B8","v":"057"},{"$f":"'[3]050'!E8","v":"Erogatore Ghiaccio/Acqua"},{"$f":"'[3]050'!F8","v":"432"},{"$f":"'[3]050'!E18","v":"Serratura"},{"$f":"'[3]050'!F18","v":"084"}]
[null,{"$f":"'[3]050'!A9","v":"Rigido"},{"$f":"'[3]050'!B9","v":"023"},{"$f":"'[3]050'!E9","v":"Guida estraibile/telescopica"},{"$f":"'[3]050'!F9","v":"259"},{"$f":"'[3]050'!E19","v":"Termometro"},{"$f":"'[3]050'!F19","v":"085"}]
[null,{"$f":"'[3]050'!A10","v":"Rottura"},{"$f":"'[3]050'!B10","v":"010"},{"$f":"'[3]050'!E10","v":"IceMaker"},{"$f":"'[3]050'!F10","v":"265"},{"$f":"'[3]050'!E20","v":"Ubicazione dell’errore non classificabile"},{"$f":"'[3]050'!F20","v":"999"}]
[null,{"$f":"'[3]050'!A11","v":"Tipo di errore non classificabile"},{"$f":"'[3]050'!B11","v":"999"},{"$f":"'[3]050'!E11","v":"Maniglia"},{"$f":"'[3]050'!F11","v":"030"},{"$f":"'[3]050'!E21","v":"Umidificatore (hydrobreeze)"},{"$f":"'[3]050'!F21","v":"683"}]
[null,{"$f":"'[3]050'!A12","v":"Visualizzazione non corretta"},{"$f":"'[3]050'!B12","v":"033"},{"$f":"'[3]050'!E12","v":"Meccanismo Soft System "},{"$f":"'[3]050'!F12","v":"408"},{"$f":"'[3]050'!E22","v":"Ventilatore – Condensatore"},{"$f":"'[3]050'!F22","v":"522"}]
[null,null,null,{"$f":"'[3]050'!E13","v":"Modulo apriporta "},{"$f":"'[3]050'!F13","v":"609"},{"$f":"'[3]050'!E23","v":"Ventilatore – vano congelatore"},{"$f":"'[3]050'!F23","v":"523"}]
[null,null,null,{"$f":"'[3]050'!E14","v":"Modulo trita ghiaccio"},{"$f":"'[3]050'!F14","v":"599"},{"$f":"'[3]050'!E24","v":"Ventilatore – vano frigorifero/ BioFresh"},{"$f":"'[3]050'!F24","v":"524"}]
["Rumore",{"$f":"'[3]060'!A5","v":"Gorgoglio"},{"$f":"'[3]060'!B5","v":"687"},{"$f":"'[3]060'!E5","v":"Assorbitore"},{"$f":"'[3]060'!F5","v":"596"},{"$f":"'[3]060'!E18","v":"Pannello di separazione verticale"},{"$f":"'[3]060'!F18","v":"266"}]
[60,{"$f":"'[3]060'!A6","v":"Rumore di commutazione"},{"$f":"'[3]060'!B6","v":"203"},{"$f":"'[3]060'!E6","v":"cassetta di refrigerazione"},{"$f":"'[3]060'!F6","v":"525"},{"$f":"'[3]060'!E19","v":"Sifone"},{"$f":"'[3]060'!F19","v":"688"}]
[null,{"$f":"'[3]060'!A7","v":"Rumore di funzionamento"},{"$f":"'[3]060'!B7","v":"066"},{"$f":"'[3]060'!E7","v":"Cerniera/ fissaggio porta"},{"$f":"'[3]060'!F7","v":"418"},{"$f":"'[3]060'!E20","v":"Termostato di regolazione"},{"$f":"'[3]060'!F20","v":"074"}]
[null,{"$f":"'[3]060'!A8","v":"Rumore iniezione / flusso"},{"$f":"'[3]060'!B8","v":"300"},{"$f":"'[3]060'!E8","v":"Compressore"},{"$f":"'[3]060'!F8","v":"063"},{"$f":"'[3]060'!E21","v":"Tubi capillari"},{"$f":"'[3]060'!F21","v":"002"}]
[null,{"$f":"'[3]060'!A9","v":"Rumore simile a un clic"},{"$f":"'[3]060'!B9","v":"064"},{"$f":"'[3]060'!E9","v":"Condensatore"},{"$f":"'[3]060'!F9","v":"020"},{"$f":"'[3]060'!E22","v":"Tubo"},{"$f":"'[3]060'!F22","v":"087"}]
[null,{"$f":"'[3]060'!A10","v":"Rumore simile ad un fruscio/cigolio"},{"$f":"'[3]060'!B10","v":"065"},{"$f":"'[3]060'!E10","v":"Copertura evaporatore"},{"$f":"'[3]060'!F10","v":"528"},{"$f":"'[3]060'!E23","v":"Ubicazione dell’errore non classificabile"},{"$f":"'[3]060'!F23","v":"999"}]
[null,{"$f":"'[3]060'!A11","v":"Rumore simile ad un ticchettio/crepitio"},{"$f":"'[3]060'!B11","v":"089"},{"$f":"'[3]060'!E11","v":"Elettronica inverter (VCC)"},{"$f":"'[3]060'!F11","v":"260"},{"$f":"'[3]060'!E24","v":"Valvola afflusso acqua"},{"$f":"'[3]060'!F24","v":"252"}]
[null,{"$f":"'[3]060'!A12","v":"Tipo di errore non classificabile"},{"$f":"'[3]060'!B12","v":"999"},{"$f":"'[3]060'!E12","v":"Evaporatore vano congelatore"},{"$f":"'[3]060'!F12","v":"017"},{"$f":"'[3]060'!E25","v":"Valvola circuito di raffreddamento"},{"$f":"'[3]060'!F25","v":"009"}]
[null,{"$f":"'[3]060'!A13","v":"Vibrazione"},{"$f":"'[3]060'!B13","v":"069"},{"$f":"'[3]060'!E13","v":"Evaporatore vano frigorifero"},{"$f":"'[3]060'!F13","v":"018"},{"$f":"'[3]060'!E26","v":"Valvola di compensazione della pressione"},{"$f":"'[3]060'!F26","v":"274"}]
[null,null,null,{"$f":"'[3]060'!E14","v":"IceMaker"},{"$f":"'[3]060'!F14","v":"265"},{"$f":"'[3]060'!E27","v":"Vaschetta per la condensa"},{"$f":"'[3]060'!F27","v":"052"}]
[null,null,null,{"$f":"'[3]060'!E15","v":"Meccanismo Soft System "},{"$f":"'[3]060'!F15","v":"408"},{"$f":"'[3]060'!E28","v":"Ventilatore – Condensatore"},{"$f":"'[3]060'!F28","v":"522"}]
[null,null,null,{"$f":"'[3]060'!E16","v":"Modulo apriporta "},{"$f":"'[3]060'!F16","v":"609"},{"$f":"'[3]060'!E29","v":"Ventilatore – vano congelatore"},{"$f":"'[3]060'!F29","v":"523"}]
[null,null,null,{"$f":"'[3]060'!E17","v":"Modulo trita ghiaccio"},{"$f":"'[3]060'!F17","v":"599"},{"$f":"'[3]060'!E30","v":"Ventilatore – vano frigorifero/ BioFresh"},{"$f":"'[3]060'!F30","v":"524"}]
["Superfici",{"$f":"'[3]065'!A5","v":"Corrosione"},{"$f":"'[3]065'!B5","v":"071"},{"$f":"'[3]065'!E5","v":"Alloggiamento termostato/interruttore luce"},{"$f":"'[3]065'!F5","v":"053"},{"$f":"'[3]065'!E22","v":"Illuminazione"},{"$f":"'[3]065'!F22","v":"059"}]
[65,{"$f":"'[3]065'!A6","v":"Graffi"},{"$f":"'[3]065'!B6","v":"013"},{"$f":"'[3]065'!E6","v":"Branding (adesivi, logo, …)"},{"$f":"'[3]065'!F6","v":"530"},{"$f":"'[3]065'!E23","v":"Interfaccia utente"},{"$f":"'[3]065'!F23","v":"419"}]
[null,{"$f":"'[3]065'!A7","v":"Impronta"},{"$f":"'[3]065'!B7","v":"070"},{"$f":"'[3]065'!E7","v":"Cassetto"},{"$f":"'[3]065'!F7","v":"102"},{"$f":"'[3]065'!E24","v":"Maniglia"},{"$f":"'[3]065'!F24","v":"030"}]
["Nessun danno di trasporto identificabile sull'apparecchio o sue parti / né all'interno né all'esterno!",{"$f":"'[3]065'!A8","v":"Macchie"},{"$f":"'[3]065'!B8","v":"302"},{"$f":"'[3]065'!E8","v":"Cielo apparecchiatura/ piano d'appoggio"},{"$f":"'[3]065'!F8","v":"040"},{"$f":"'[3]065'!E25","v":"Pannello di separazione verticale"},{"$f":"'[3]065'!F25","v":"266"}]
[null,{"$f":"'[3]065'!A9","v":"Parte lucida / acciaio inox"},{"$f":"'[3]065'!B9","v":"301"},{"$f":"'[3]065'!E9","v":"Connettore incrociato"},{"$f":"'[3]065'!F9","v":"099"},{"$f":"'[3]065'!E26","v":"Pannello di separazione, orizzontale/intermedio"},{"$f":"'[3]065'!F26","v":"438"}]
[null,{"$f":"'[3]065'!A10","v":"Protuberanza / ammaccatura"},{"$f":"'[3]065'!B10","v":"088"},{"$f":"'[3]065'!E10","v":"Controporta vano congelatore"},{"$f":"'[3]065'!F10","v":"374"},{"$f":"'[3]065'!E27","v":"Parete laterale in generale"},{"$f":"'[3]065'!F27","v":"036"}]
[null,{"$f":"'[3]065'!A11","v":"Residui di pellicola"},{"$f":"'[3]065'!B11","v":"303"},{"$f":"'[3]065'!E11","v":"Controporta vano frigorifero"},{"$f":"'[3]065'!F11","v":"702"},{"$f":"'[3]065'!E28","v":"Parete posteriore"},{"$f":"'[3]065'!F28","v":"034"}]
[null,{"$f":"'[3]065'!A12","v":"Scostamento cromatico"},{"$f":"'[3]065'!B12","v":"165"},{"$f":"'[3]065'!E12","v":"Controporta vano frigorifero rivestimento in acciaio inox"},{"$f":"'[3]065'!F12","v":"700"},{"$f":"'[3]065'!E29","v":"Porta vano congelatore"},{"$f":"'[3]065'!F29","v":"042"}]
[null,{"$f":"'[3]065'!A13","v":"Sfaldatura"},{"$f":"'[3]065'!B13","v":"087"},{"$f":"'[3]065'!E13","v":"Coperchio (congelatore orizzontale) / coperchio scorrevole"},{"$f":"'[3]065'!F13","v":"026"},{"$f":"'[3]065'!E30","v":"Porta vano frigorifero"},{"$f":"'[3]065'!F30","v":"043"}]
[null,{"$f":"'[3]065'!A14","v":"Staccato"},{"$f":"'[3]065'!B14","v":"405"},{"$f":"'[3]065'!E14","v":"Copertura evaporatore"},{"$f":"'[3]065'!F14","v":"528"},{"$f":"'[3]065'!E31","v":"Rivestimento interno vano congelatore"},{"$f":"'[3]065'!F31","v":"364"}]
[null,{"$f":"'[3]065'!A15","v":"Tipo di errore non classificabile"},{"$f":"'[3]065'!B15","v":"999"},{"$f":"'[3]065'!E15","v":"Cornice congelatore orizzontale"},{"$f":"'[3]065'!F15","v":"041"},{"$f":"'[3]065'!E32","v":"Rivestimento interno vano frigorifero"},{"$f":"'[3]065'!F32","v":"701"}]
[null,{"$f":"'[3]065'!A16","v":"Troppa vernice"},{"$f":"'[3]065'!B16","v":"030"},{"$f":"'[3]065'!E16","v":"Evaporatore vano frigorifero"},{"$f":"'[3]065'!F16","v":"018"},{"$f":"'[3]065'!E33","v":"Rivestimento interno vano frigorifero rivestimento in acciaio inox"},{"$f":"'[3]065'!F33","v":"699"}]
[null,{"$f":"'[3]065'!A17","v":"Troppo poca vernice"},{"$f":"'[3]065'!B17","v":"072"},{"$f":"'[3]065'!E17","v":"Ganci per selvaggina"},{"$f":"'[3]065'!F17","v":"611"},{"$f":"'[3]065'!E34","v":"Strisce decorative parete laterale generale"},{"$f":"'[3]065'!F34","v":"689"}]
[null,null,null,{"$f":"'[3]065'!E18","v":"Griglia in metallo/legno"},{"$f":"'[3]065'!F18","v":"336"},{"$f":"'[3]065'!E35","v":"Strisce decorative porta vano congelatore"},{"$f":"'[3]065'!F35","v":"690"}]
[null,null,null,{"$f":"'[3]065'!E19","v":"Guarnizione porta vano congelatore"},{"$f":"'[3]065'!F19","v":"531"},{"$f":"'[3]065'!E36","v":"Strisce decorative porta vano frigorifero"},{"$f":"'[3]065'!F36","v":"691"}]
[null,null,null,{"$f":"'[3]065'!E20","v":"Guarnizione porta vano freezer 4 stelle"},{"$f":"'[3]065'!F20","v":"159"},{"$f":"'[3]065'!E37","v":"Supporto del compressore"},{"$f":"'[3]065'!F37","v":"309"}]
[null,null,null,{"$f":"'[3]065'!E21","v":"Guarnizione porta vano frigorifero"},{"$f":"'[3]065'!F21","v":"532"},{"$f":"'[3]065'!E38","v":"Ubicazione dell’errore non classificabile"},{"$f":"'[3]065'!F38","v":"999"}]
["Danni di",{"$f":"'[3]025'!A5","v":"Allentato"},{"$f":"'[3]025'!B5","v":"014"},{"$f":"'[3]025'!E5","v":"Branding (adesivi, logo, …)"},{"$f":"'[3]025'!F5","v":"530"},{"$f":"'[3]025'!E25","v":"Parete laterale destra, sotto"},{"$f":"'[3]025'!F25","v":"380"}]
["trasporto",{"$f":"'[3]025'!A6","v":"Ammaccatura"},{"$f":"'[3]025'!B6","v":"011"},{"$f":"'[3]025'!E6","v":"Cerniera/ fissaggio porta"},{"$f":"'[3]025'!F6","v":"418"},{"$f":"'[3]025'!E26","v":"Parete laterale sinistra, al centro"},{"$f":"'[3]025'!F26","v":"382"}]
["Imballaggio",{"$f":"'[3]025'!A7","v":"Compressione"},{"$f":"'[3]025'!B7","v":"017"},{"$f":"'[3]025'!E7","v":"Cielo apparecchiatura/ piano d'appoggio"},{"$f":"'[3]025'!F7","v":"040"},{"$f":"'[3]025'!E27","v":"Parete laterale sinistra, sopra"},{"$f":"'[3]025'!F27","v":"381"}]
["danneggiato",{"$f":"'[3]025'!A8","v":"Crepa"},{"$f":"'[3]025'!B8","v":"015"},{"$f":"'[3]025'!E8","v":"Condensatore"},{"$f":"'[3]025'!F8","v":"020"},{"$f":"'[3]025'!E28","v":"Parete laterale sinistra, sotto"},{"$f":"'[3]025'!F28","v":"383"}]
[25,{"$f":"'[3]025'!A9","v":"Graffi"},{"$f":"'[3]025'!B9","v":"013"},{"$f":"'[3]025'!E9","v":"Connettore incrociato"},{"$f":"'[3]025'!F9","v":"099"},{"$f":"'[3]025'!E29","v":"Parete posteriore"},{"$f":"'[3]025'!F29","v":"034"}]
[null,{"$f":"'[3]025'!A10","v":"Piega"},{"$f":"'[3]025'!B10","v":"012"},{"$f":"'[3]025'!E10","v":"Controporta vano congelatore"},{"$f":"'[3]025'!F10","v":"374"},{"$f":"'[3]025'!E30","v":"Parti delle dotazioni interne"},{"$f":"'[3]025'!F30","v":"039"}]
["Danni di",{"$f":"'[3]025'!A11","v":"Rottura"},{"$f":"'[3]025'!B11","v":"010"},{"$f":"'[3]025'!E11","v":"Controporta vano frigorifero"},{"$f":"'[3]025'!F11","v":"702"},{"$f":"'[3]025'!E31","v":"Piedino/ rotella"},{"$f":"'[3]025'!F31","v":"028"}]
["trasporto",{"$f":"'[3]025'!A12","v":"Superficie abrasa"},{"$f":"'[3]025'!B12","v":"016"},{"$f":"'[3]025'!E12","v":"Coperchio (congelatore orizzontale) , Destro"},{"$f":"'[3]025'!F12","v":"430"},{"$f":"'[3]025'!E32","v":"Porta compartimentata"},{"$f":"'[3]025'!F32","v":"692"}]
["Imballaggio",null,null,{"$f":"'[3]025'!E13","v":"Coperchio (congelatore orizzontale), centrale"},{"$f":"'[3]025'!F13","v":"429"},{"$f":"'[3]025'!E33","v":"Porta esterna inferiore, sopra"},{"$f":"'[3]025'!F33","v":"423"}]
["non più",null,null,{"$f":"'[3]025'!E14","v":"Cornice congelatore orizzontale"},{"$f":"'[3]025'!F14","v":"041"},{"$f":"'[3]025'!E34","v":"Porta esterna inferiore, sotto"},{"$f":"'[3]025'!F34","v":"424"}]
["presente",null,null,{"$f":"'[3]025'!E15","v":"Fascia di compensazione per lo zoccolo"},{"$f":"'[3]025'!F15","v":"038"},{"$f":"'[3]025'!E35","v":"Porta esterna, al centro"},{"$f":"'[3]025'!F35","v":"421"}]
[26,null,null,{"$f":"'[3]025'!E16","v":"Fissaggio compressore"},{"$f":"'[3]025'!F16","v":"033"},{"$f":"'[3]025'!E36","v":"Porta esterna, sopra"},{"$f":"'[3]025'!F36","v":"420"}]
[null,null,null,{"$f":"'[3]025'!E17","v":"Frontale, a destra (congelatore orizzontale)"},{"$f":"'[3]025'!F17","v":"427"},{"$f":"'[3]025'!E37","v":"Porta esterna, sotto"},{"$f":"'[3]025'!F37","v":"422"}]
["Causa del ",null,null,{"$f":"'[3]025'!E18","v":"Frontale, a sinistra (congelatore orizzontale)"},{"$f":"'[3]025'!F18","v":"425"},{"$f":"'[3]025'!E38","v":"Porzione sinistra del coperchio (congelatore orizzontale) "},{"$f":"'[3]025'!F38","v":"428"}]
["danno non",null,null,{"$f":"'[3]025'!E19","v":"Frontale, al centro (congelatore orizzontale)"},{"$f":"'[3]025'!F19","v":"426"},{"$f":"'[3]025'!E39","v":"Ripiani in vetro, mensole etc."},{"$f":"'[3]025'!F39","v":"029"}]
["chiara",null,null,{"$f":"'[3]025'!E20","v":"Illuminazione"},{"$f":"'[3]025'!F20","v":"059"},{"$f":"'[3]025'!E40","v":"Rivestimento interno vano congelatore"},{"$f":"'[3]025'!F40","v":"364"}]
["Imballaggio ",null,null,{"$f":"'[3]025'!E21","v":"Interfaccia utente"},{"$f":"'[3]025'!F21","v":"419"},{"$f":"'[3]025'!E41","v":"Rivestimento interno vano frigorifero"},{"$f":"'[3]025'!F41","v":"701"}]
["non",null,null,{"$f":"'[3]025'!E22","v":"Maniglia"},{"$f":"'[3]025'!F22","v":"030"},{"$f":"'[3]025'!E42","v":"Supporto del compressore"},{"$f":"'[3]025'!F42","v":"309"}]
["danneggiato",null,null,{"$f":"'[3]025'!E23","v":"Parete laterale destra, al centro"},{"$f":"'[3]025'!F23","v":"379"},{"$f":"'[3]025'!E43","v":"Ubicazione dell’errore non classificabile"},{"$f":"'[3]025'!F43","v":"999"}]
[27,null,null,{"$f":"'[3]025'!E24","v":"Parete laterale destra, sopra"},{"$f":"'[3]025'!F24","v":"378"}]
["Difetto",{"$f":"'[3]030'!A5","v":"Acqua di condensa"},{"$f":"'[3]030'!B5","v":"019"},{"$f":"'[3]030'!E5","v":"(connessione)"},{"$f":"'[3]030'!F5","v":"257"},{"$f":"'[3]030'!E48","v":"Meccanismo di chiusura"},{"$f":"'[3]030'!F48","v":"472"}]
["del prodotto",{"$f":"'[3]030'!A6","v":"Allentato"},{"$f":"'[3]030'!B6","v":"014"},{"$f":"'[3]030'!E6","v":"Accumulatore di freddo"},{"$f":"'[3]030'!F6","v":"272"},{"$f":"'[3]030'!E49","v":"Meccanismo Soft System "},{"$f":"'[3]030'!F49","v":"408"}]
[30,{"$f":"'[3]030'!A7","v":"Assemblato in modo non corretto"},{"$f":"'[3]030'!B7","v":"091"},{"$f":"'[3]030'!E7","v":"Alloggiamento termostato/interruttore luce"},{"$f":"'[3]030'!F7","v":"053"},{"$f":"'[3]030'!E50","v":"Modulo apriporta "},{"$f":"'[3]030'!F50","v":"609"}]
[null,{"$f":"'[3]030'!A8","v":"Bloccato / incastrato"},{"$f":"'[3]030'!B8","v":"058"},{"$f":"'[3]030'!E8","v":"Assorbitore"},{"$f":"'[3]030'!F8","v":"596"},{"$f":"'[3]030'!E51","v":"Modulo trita ghiaccio"},{"$f":"'[3]030'!F51","v":"599"}]
[null,{"$f":"'[3]030'!A9","v":"Componente errato"},{"$f":"'[3]030'!B9","v":"079"},{"$f":"'[3]030'!E9","v":"Branding (adesivi, logo, …)"},{"$f":"'[3]030'!F9","v":"530"},{"$f":"'[3]030'!E52","v":"Pannello di controllo frontale/interfaccia utente"},{"$f":"'[3]030'!F52","v":"613"}]
["(nessun ",{"$f":"'[3]030'!A10","v":"Crepa"},{"$f":"'[3]030'!B10","v":"015"},{"$f":"'[3]030'!E10","v":"Carico acqua IiceMaker)"},{"$f":"'[3]030'!F10","v":"521"},{"$f":"'[3]030'!E53","v":"Pannello di separazione verticale"},{"$f":"'[3]030'!F53","v":"266"}]
["danno di",{"$f":"'[3]030'!A11","v":"Curvo / deformato"},{"$f":"'[3]030'!B11","v":"025"},{"$f":"'[3]030'!E11","v":"cassetta di refrigerazione"},{"$f":"'[3]030'!F11","v":"525"},{"$f":"'[3]030'!E54","v":"Pannello di separazione, orizzontale/intermedio"},{"$f":"'[3]030'!F54","v":"438"}]
["trasporto",{"$f":"'[3]030'!A12","v":"Difetto di isolamento"},{"$f":"'[3]030'!B12","v":"296"},{"$f":"'[3]030'!E12","v":"Cassetto"},{"$f":"'[3]030'!F12","v":"102"},{"$f":"'[3]030'!E55","v":"Parete laterale in generale"},{"$f":"'[3]030'!F55","v":"036"}]
["riconoscibile)",{"$f":"'[3]030'!A13","v":"Disallineato / sfalsato"},{"$f":"'[3]030'!B13","v":"027"},{"$f":"'[3]030'!E13","v":"Cerniera/ fissaggio porta"},{"$f":"'[3]030'!F13","v":"418"},{"$f":"'[3]030'!E56","v":"Parete posteriore"},{"$f":"'[3]030'!F56","v":"034"}]
[null,{"$f":"'[3]030'!A14","v":"Flesso"},{"$f":"'[3]030'!B14","v":"204"},{"$f":"'[3]030'!E14","v":"Cielo apparecchiatura/ piano d'appoggio"},{"$f":"'[3]030'!F14","v":"040"},{"$f":"'[3]030'!E57","v":"Parti delle dotazioni interne"},{"$f":"'[3]030'!F57","v":"039"}]
[null,{"$f":"'[3]030'!A15","v":"Fuoriuscita schiuma tura"},{"$f":"'[3]030'!B15","v":"103"},{"$f":"'[3]030'!E15","v":"Commutazione camme / magnete porta"},{"$f":"'[3]030'!F15","v":"104"},{"$f":"'[3]030'!E58","v":"Pedale d’apertura"},{"$f":"'[3]030'!F58","v":"600"}]
[null,{"$f":"'[3]030'!A16","v":"Mancante"},{"$f":"'[3]030'!B16","v":"018"},{"$f":"'[3]030'!E16","v":"Condensatore"},{"$f":"'[3]030'!F16","v":"020"},{"$f":"'[3]030'!E59","v":"Porta compartimentata"},{"$f":"'[3]030'!F59","v":"692"}]
[null,{"$f":"'[3]030'!A17","v":"Non a tenuta stagna"},{"$f":"'[3]030'!B17","v":"002"},{"$f":"'[3]030'!E17","v":"Connettore incrociato"},{"$f":"'[3]030'!F17","v":"099"},{"$f":"'[3]030'!E60","v":"Porta vano congelatore"},{"$f":"'[3]030'!F60","v":"042"}]
[null,{"$f":"'[3]030'!A18","v":"Odore"},{"$f":"'[3]030'!B18","v":"083"},{"$f":"'[3]030'!E18","v":"Controporta vano congelatore"},{"$f":"'[3]030'!F18","v":"374"},{"$f":"'[3]030'!E61","v":"Porta vano freezer 4 stelle"},{"$f":"'[3]030'!F61","v":"056"}]
[null,{"$f":"'[3]030'!A19","v":"Ostruito"},{"$f":"'[3]030'!B19","v":"028"},{"$f":"'[3]030'!E19","v":"Controporta vano frigorifero"},{"$f":"'[3]030'!F19","v":"702"},{"$f":"'[3]030'!E62","v":"Porta vano frigorifero"},{"$f":"'[3]030'!F62","v":"043"}]
[null,{"$f":"'[3]030'!A20","v":"Piega"},{"$f":"'[3]030'!B20","v":"012"},{"$f":"'[3]030'!E20","v":"Controporta vano frigorifero rivestimento in acciaio inox"},{"$f":"'[3]030'!F20","v":"700"},{"$f":"'[3]030'!E63","v":"Pulsante di controllo"},{"$f":"'[3]030'!F63","v":"050"}]
[null,{"$f":"'[3]030'!A21","v":"Rigido"},{"$f":"'[3]030'!B21","v":"023"},{"$f":"'[3]030'!E21","v":"Convogliatore aria"},{"$f":"'[3]030'!F21","v":"520"},{"$f":"'[3]030'!E64","v":"Rack per la conservazione criogenica"},{"$f":"'[3]030'!F64","v":"694"}]
[null,{"$f":"'[3]030'!A22","v":"Rottura"},{"$f":"'[3]030'!B22","v":"010"},{"$f":"'[3]030'!E22","v":"Coperchio (congelatore orizzontale) / coperchio scorrevole"},{"$f":"'[3]030'!F22","v":"026"},{"$f":"'[3]030'!E65","v":"Raffreddamento di emergenza CO2"},{"$f":"'[3]030'!F65","v":"693"}]
[null,{"$f":"'[3]030'!A23","v":"Sporco"},{"$f":"'[3]030'!B23","v":"148"},{"$f":"'[3]030'!E23","v":"Coperchio, inserto elettronica"},{"$f":"'[3]030'!F23","v":"434"},{"$f":"'[3]030'!E66","v":"Riscaldatore"},{"$f":"'[3]030'!F66","v":"060"}]
[null,{"$f":"'[3]030'!A24","v":"Storto"},{"$f":"'[3]030'!B24","v":"022"},{"$f":"'[3]030'!E24","v":"Copertura"},{"$f":"'[3]030'!F24","v":"105"},{"$f":"'[3]030'!E67","v":"Rivestimento interno vano congelatore"},{"$f":"'[3]030'!F67","v":"364"}]
[null,{"$f":"'[3]030'!A25","v":"Tipo di errore non classificabile"},{"$f":"'[3]030'!B25","v":"999"},{"$f":"'[3]030'!E25","v":"Copertura evaporatore"},{"$f":"'[3]030'!F25","v":"528"},{"$f":"'[3]030'!E68","v":"Rivestimento interno vano frigorifero"},{"$f":"'[3]030'!F68","v":"701"}]
[null,{"$f":"'[3]030'!A26","v":"Traboccamento"},{"$f":"'[3]030'!B26","v":"020"},{"$f":"'[3]030'!E26","v":"Cornice congelatore orizzontale"},{"$f":"'[3]030'!F26","v":"041"},{"$f":"'[3]030'!E69","v":"Rivestimento interno vano frigorifero rivestimento in acciaio inox"},{"$f":"'[3]030'!F69","v":"699"}]
[null,{"$f":"'[3]030'!A27","v":"Troppo stretto"},{"$f":"'[3]030'!B27","v":"029"},{"$f":"'[3]030'!E27","v":"Distanziale per parete"},{"$f":"'[3]030'!F27","v":"529"},{"$f":"'[3]030'!E70","v":"Scarico condensa"},{"$f":"'[3]030'!F70","v":"051"}]
[null,{"$f":"'[3]030'!A28","v":"Vaschetta evaporazione"},{"$f":"'[3]030'!B28","v":"024"},{"$f":"'[3]030'!E28","v":"Elemento passante per alloggiamento"},{"$f":"'[3]030'!F28","v":"047"},{"$f":"'[3]030'!E71","v":"Sistema guida estraibile"},{"$f":"'[3]030'!F71","v":"437"}]
[null,null,null,{"$f":"'[3]030'!E29","v":"Erogatore Ghiaccio/Acqua"},{"$f":"'[3]030'!F29","v":"432"},{"$f":"'[3]030'!E72","v":"Sonda di temperatura"},{"$f":"'[3]030'!F72","v":"073"}]
[null,null,null,{"$f":"'[3]030'!E30","v":"Evaporatore vano congelatore"},{"$f":"'[3]030'!F30","v":"017"},{"$f":"'[3]030'!E73","v":"Supporto del compressore"},{"$f":"'[3]030'!F73","v":"309"}]
[null,null,null,{"$f":"'[3]030'!E31","v":"Evaporatore vano frigorifero"},{"$f":"'[3]030'!F31","v":"018"},{"$f":"'[3]030'!E74","v":"Supporto per guida estraibile / telescopica"},{"$f":"'[3]030'!F74","v":"431"}]
[null,null,null,{"$f":"'[3]030'!E32","v":"Filtro dell’acqua"},{"$f":"'[3]030'!F32","v":"471"},{"$f":"'[3]030'!E75","v":"Tanica acqua"},{"$f":"'[3]030'!F75","v":"436"}]
[null,null,null,{"$f":"'[3]030'!E33","v":"Fissaggio maniglia (dado ,rivettato)"},{"$f":"'[3]030'!F33","v":"526"},{"$f":"'[3]030'!E76","v":"Tappo di chiusura condensa vano congelatore"},{"$f":"'[3]030'!F76","v":"096"}]
[null,null,null,{"$f":"'[3]030'!E34","v":"Ganci per selvaggina"},{"$f":"'[3]030'!F34","v":"611"},{"$f":"'[3]030'!E77","v":"Telaio decorativo"},{"$f":"'[3]030'!F77","v":"094"}]
[null,null,null,{"$f":"'[3]030'!E35","v":"Griglia in metallo/legno"},{"$f":"'[3]030'!F35","v":"336"},{"$f":"'[3]030'!E78","v":"Temperatura aria/temperatura al cuore"},{"$f":"'[3]030'!F78","v":"604"}]
[null,null,null,{"$f":"'[3]030'!E36","v":"Guarnizione porta vano congelatore"},{"$f":"'[3]030'!F36","v":"531"},{"$f":"'[3]030'!E79","v":"Tubo dell’acqua"},{"$f":"'[3]030'!F79","v":"275"}]
[null,null,null,{"$f":"'[3]030'!E37","v":"Guarnizione porta vano freezer 4 stelle"},{"$f":"'[3]030'!F37","v":"159"},{"$f":"'[3]030'!E80","v":"Ubicazione dell’errore non classificabile"},{"$f":"'[3]030'!F80","v":"999"}]
[null,null,null,{"$f":"'[3]030'!E38","v":"Guarnizione porta vano frigorifero"},{"$f":"'[3]030'!F38","v":"532"},{"$f":"'[3]030'!E81","v":"Umidificatore (hydrobreeze)"},{"$f":"'[3]030'!F81","v":"683"}]
[null,null,null,{"$f":"'[3]030'!E39","v":"Guida estraibile/telescopica"},{"$f":"'[3]030'!F39","v":"259"},{"$f":"'[3]030'!E82","v":"Valvola afflusso acqua"},{"$f":"'[3]030'!F82","v":"252"}]
[null,null,null,{"$f":"'[3]030'!E40","v":"IceMaker"},{"$f":"'[3]030'!F40","v":"265"},{"$f":"'[3]030'!E83","v":"Valvola di compensazione della pressione"},{"$f":"'[3]030'!F83","v":"274"}]
[null,null,null,{"$f":"'[3]030'!E41","v":"Interfaccia utente"},{"$f":"'[3]030'!F41","v":"419"},{"$f":"'[3]030'!E84","v":"Valvola di scarico condensa"},{"$f":"'[3]030'!F84","v":"276"}]
[null,null,null,{"$f":"'[3]030'!E42","v":"Interruttore della luce"},{"$f":"'[3]030'!F42","v":"049"},{"$f":"'[3]030'!E85","v":"Vaschetta IceMaker"},{"$f":"'[3]030'!F85","v":"295"}]
[null,null,null,{"$f":"'[3]030'!E43","v":"Kit accessori"},{"$f":"'[3]030'!F43","v":"232"},{"$f":"'[3]030'!E86","v":"Vaschetta per la condensa"},{"$f":"'[3]030'!F86","v":"052"}]
[null,null,null,{"$f":"'[3]030'!E44","v":"Kit accoppiamento porta"},{"$f":"'[3]030'!F44","v":"097"},{"$f":"'[3]030'!E87","v":"Ventilatore – Condensatore"},{"$f":"'[3]030'!F87","v":"522"}]
[null,null,null,{"$f":"'[3]030'!E45","v":"Kit di collegamento SBS"},{"$f":"'[3]030'!F45","v":"273"},{"$f":"'[3]030'!E88","v":"Ventilatore – vano congelatore"},{"$f":"'[3]030'!F88","v":"523"}]
[null,null,null,{"$f":"'[3]030'!E46","v":"Listello profilato( cartellini prezzo, binario scanner,..)"},{"$f":"'[3]030'!F46","v":"607"},{"$f":"'[3]030'!E89","v":"Ventilatore – vano frigorifero/ BioFresh"},{"$f":"'[3]030'!F89","v":"524"}]
[null,null,null,{"$f":"'[3]030'!E47","v":"Maniglia"},{"$f":"'[3]030'!F47","v":"030"}]
["Nessun errore",{"$f":"'[3]080'!A5","v":"Apparecchio errato"},{"$f":"'[3]080'!B5","v":"346"},{"$f":"'[3]080'!E5","v":"Alloggiamento"},{"$f":"'[3]080'!F5","v":"223"},{"$f":"'[3]080'!E27","v":"Smart Device Box"},{"$f":"'[3]080'!F27","v":"608"}]
[80,{"$f":"'[3]080'!A6","v":"Consumo energetico normale"},{"$f":"'[3]080'!B6","v":"406"},{"$f":"'[3]080'!E6","v":"Articolo di consumo (filtro,...)"},{"$f":"'[3]080'!F6","v":"610"},{"$f":"'[3]080'!E28","v":"Temperatura dell’aria/interna"},{"$f":"'[3]080'!F28","v":"476"}]
[null,{"$f":"'[3]080'!A7","v":"Errore di funzionamento / non-osservanza delle istruzioni per l'uso"},{"$f":"'[3]080'!B7","v":"343"},{"$f":"'[3]080'!E7","v":"Caratteristiche apparecchiature"},{"$f":"'[3]080'!F7","v":"206"},{"$f":"'[3]080'!E29","v":"Ubicazione dell’errore non classificabile"},{"$f":"'[3]080'!F29","v":"999"}]
[null,{"$f":"'[3]080'!A8","v":"Errore di montaggio / installazione"},{"$f":"'[3]080'!B8","v":"081"},{"$f":"'[3]080'!E8","v":"Chiarimento tecnico (descrizione della funzione)"},{"$f":"'[3]080'!F8","v":"208"},{"$f":"'[3]080'!E30","v":"Umidificatore (hydrobreeze)"},{"$f":"'[3]080'!F30","v":"683"}]
[null,{"$f":"'[3]080'!A9","v":"Forza del segnale"},{"$f":"'[3]080'!B9","v":"412"},{"$f":"'[3]080'!E9","v":"Circuito frigorifero"},{"$f":"'[3]080'!F9","v":"245"},{"$f":"'[3]080'!E31","v":"Valvola afflusso acqua"},{"$f":"'[3]080'!F31","v":"252"}]
[null,{"$f":"'[3]080'!A10","v":"Guasto al momento non verificato"},{"$f":"'[3]080'!B10","v":"082"},{"$f":"'[3]080'!E10","v":"Compressore"},{"$f":"'[3]080'!F10","v":"063"},{"$f":"'[3]080'!E32","v":"Valvola circuito di raffreddamento"},{"$f":"'[3]080'!F32","v":"009"}]
[null,{"$f":"'[3]080'!A11","v":"Il componente non c’è più"},{"$f":"'[3]080'!B11","v":"305"},{"$f":"'[3]080'!E11","v":"Distanziale per parete"},{"$f":"'[3]080'!F11","v":"529"},{"$f":"'[3]080'!E33","v":"Vaschetta per la condensa"},{"$f":"'[3]080'!F33","v":"052"}]
[null,{"$f":"'[3]080'!A12","v":"Incompatibile (ad es. tablet, smartphone)"},{"$f":"'[3]080'!B12","v":"410"},{"$f":"'[3]080'!E12","v":"Illuminazione"},{"$f":"'[3]080'!F12","v":"059"},{"$f":"'[3]080'!E34","v":"Ventilatore – Condensatore"},{"$f":"'[3]080'!F34","v":"522"}]
[null,{"$f":"'[3]080'!A13","v":"Informazioni catalogo non chiare"},{"$f":"'[3]080'!B13","v":"342"},{"$f":"'[3]080'!E13","v":"Impianto elettrico luogo di installazione"},{"$f":"'[3]080'!F13","v":"473"},{"$f":"'[3]080'!E35","v":"Ventilatore – vano congelatore"},{"$f":"'[3]080'!F35","v":"523"}]
[null,{"$f":"'[3]080'!A14","v":"Inversione apertura porte"},{"$f":"'[3]080'!B14","v":"341"},{"$f":"'[3]080'!E14","v":"Informazioni catalogo"},{"$f":"'[3]080'!F14","v":"207"},{"$f":"'[3]080'!E36","v":"Ventilatore – vano frigorifero/ BioFresh"},{"$f":"'[3]080'!F36","v":"524"}]
[null,{"$f":"'[3]080'!A15","v":"Mancanza di alimentazione"},{"$f":"'[3]080'!B15","v":"340"},{"$f":"'[3]080'!E15","v":"Maniglia"},{"$f":"'[3]080'!F15","v":"030"},{"$f":"'[3]080'!E37","v":"Ventilazione apparecchiatura"},{"$f":"'[3]080'!F37","v":"474"}]
[null,{"$f":"'[3]080'!A16","v":"Modalità demo durante la messa in servizio"},{"$f":"'[3]080'!B16","v":"339"},{"$f":"'[3]080'!E16","v":"Meccanismo Soft System "},{"$f":"'[3]080'!F16","v":"408"},{"$f":"'[3]080'!E38","v":"Visualizzazione valore reale/richiesto"},{"$f":"'[3]080'!F38","v":"479"}]
[null,{"$f":"'[3]080'!A17","v":"Normale formazione di ghiaccio/brina tura"},{"$f":"'[3]080'!B17","v":"408"},{"$f":"'[3]080'!E17","v":"Modulo apriporta "},{"$f":"'[3]080'!F17","v":"609"}]
[null,{"$f":"'[3]080'!A18","v":"Normali differenze / fluttuazioni di temperatura"},{"$f":"'[3]080'!B18","v":"345"},{"$f":"'[3]080'!E18","v":"Parete posteriore"},{"$f":"'[3]080'!F18","v":"034"}]
[null,{"$f":"'[3]080'!A19","v":"Normali rumori di funzionamento"},{"$f":"'[3]080'!B19","v":"304"},{"$f":"'[3]080'!E19","v":"Porta vano congelatore"},{"$f":"'[3]080'!F19","v":"042"}]
[null,{"$f":"'[3]080'!A20","v":"Normali tempi di funzionamento"},{"$f":"'[3]080'!B20","v":"407"},{"$f":"'[3]080'!E20","v":"Porta vano frigorifero"},{"$f":"'[3]080'!F20","v":"043"}]
[null,{"$f":"'[3]080'!A21","v":"Odore"},{"$f":"'[3]080'!B21","v":"083"},{"$f":"'[3]080'!E21","v":"Punti saldati"},{"$f":"'[3]080'!F21","v":"475"}]
[null,{"$f":"'[3]080'!A22","v":"Ossidazione"},{"$f":"'[3]080'!B22","v":"344"},{"$f":"'[3]080'!E22","v":"Riscaldatore inverno"},{"$f":"'[3]080'!F22","v":"199"}]
[null,{"$f":"'[3]080'!A23","v":"Sporco"},{"$f":"'[3]080'!B23","v":"148"},{"$f":"'[3]080'!E23","v":"Rivestimento interno vano congelatore"},{"$f":"'[3]080'!F23","v":"364"}]
[null,{"$f":"'[3]080'!A24","v":"Temperatura ambiente troppo alta"},{"$f":"'[3]080'!B24","v":"086"},{"$f":"'[3]080'!E24","v":"Rivestimento interno vano frigorifero"},{"$f":"'[3]080'!F24","v":"701"}]
[null,{"$f":"'[3]080'!A25","v":"Temperatura ambiente troppo bassa"},{"$f":"'[3]080'!B25","v":"085"},{"$f":"'[3]080'!E25","v":"Scarico condensa"},{"$f":"'[3]080'!F25","v":"051"}]
[null,{"$f":"'[3]080'!A26","v":"Tipo di errore non classificabile"},{"$f":"'[3]080'!B26","v":"999"},{"$f":"'[3]080'!E26","v":"Scheda elettronica"},{"$f":"'[3]080'!F26","v":"172"}]
["Guasto",{"$f":"'[3]101'!A5","v":"A volte attivazione del dispositivo di sicurezza"},{"$f":"'[3]101'!B5","v":"486"},{"$f":"'[3]101'!E5","v":"Cassetto"},{"$f":"'[3]101'!F5","v":"102"},{"$f":"'[3]101'!E19","v":"Modulo apriporta "},{"$f":"'[3]101'!F19","v":"609"}]
["al momento",{"$f":"'[3]101'!A6","v":"A volte blackout totale"},{"$f":"'[3]101'!B6","v":"490"},{"$f":"'[3]101'!E6","v":"Cerniera/ fissaggio porta"},{"$f":"'[3]101'!F6","v":"418"},{"$f":"'[3]101'!E20","v":"Parete laterale in generale"},{"$f":"'[3]101'!F20","v":"036"}]
["non verificato",{"$f":"'[3]101'!A7","v":"A volte bloccato / duro da muovere"},{"$f":"'[3]101'!B7","v":"492"},{"$f":"'[3]101'!E7","v":"Cielo apparecchiatura/ piano d'appoggio"},{"$f":"'[3]101'!F7","v":"040"},{"$f":"'[3]101'!E21","v":"Pedale d’apertura"},{"$f":"'[3]101'!F21","v":"600"}]
[101,{"$f":"'[3]101'!A8","v":"A volte condensa"},{"$f":"'[3]101'!B8","v":"489"},{"$f":"'[3]101'!E8","v":"Coperchio (congelatore orizzontale) / coperchio scorrevole"},{"$f":"'[3]101'!F8","v":"026"},{"$f":"'[3]101'!E22","v":"Porta vano congelatore"},{"$f":"'[3]101'!F22","v":"042"}]
[null,{"$f":"'[3]101'!A9","v":"A volte guasto dell’illuminazione"},{"$f":"'[3]101'!B9","v":"491"},{"$f":"'[3]101'!E9","v":"Erogatore Ghiaccio/Acqua"},{"$f":"'[3]101'!F9","v":"432"},{"$f":"'[3]101'!E23","v":"Porta vano frigorifero"},{"$f":"'[3]101'!F23","v":"043"}]
[null,{"$f":"'[3]101'!A10","v":"A volte messaggio di allarme "},{"$f":"'[3]101'!B10","v":"485"},{"$f":"'[3]101'!E10","v":"Evaporatore vano congelatore"},{"$f":"'[3]101'!F10","v":"017"},{"$f":"'[3]101'!E24","v":"Ripiani in vetro, mensole etc."},{"$f":"'[3]101'!F24","v":"029"}]
[null,{"$f":"'[3]101'!A11","v":"A volte rumore"},{"$f":"'[3]101'!B11","v":"483"},{"$f":"'[3]101'!E11","v":"Evaporatore vano frigorifero"},{"$f":"'[3]101'!F11","v":"018"},{"$f":"'[3]101'!E25","v":"Rivestimento interno vano congelatore"},{"$f":"'[3]101'!F25","v":"364"}]
[null,{"$f":"'[3]101'!A12","v":"A volte scostamento di temperatura"},{"$f":"'[3]101'!B12","v":"484"},{"$f":"'[3]101'!E12","v":"Guarnizione porta vano congelatore"},{"$f":"'[3]101'!F12","v":"531"},{"$f":"'[3]101'!E26","v":"Rivestimento interno vano frigorifero"},{"$f":"'[3]101'!F26","v":"701"}]
[null,{"$f":"'[3]101'!A13","v":"A volte umidità dell’aria troppo bassa/alta"},{"$f":"'[3]101'!B13","v":"487"},{"$f":"'[3]101'!E13","v":"Guarnizione porta vano freezer 4 stelle"},{"$f":"'[3]101'!F13","v":"159"},{"$f":"'[3]101'!E27","v":"Scarico condensa"},{"$f":"'[3]101'!F27","v":"051"}]
[null,{"$f":"'[3]101'!A14","v":"Nessun collegamento"},{"$f":"'[3]101'!B14","v":"488"},{"$f":"'[3]101'!E14","v":"Guarnizione porta vano frigorifero"},{"$f":"'[3]101'!F14","v":"532"},{"$f":"'[3]101'!E28","v":"Scheda elettronica"},{"$f":"'[3]101'!F28","v":"172"}]
[null,null,null,{"$f":"'[3]101'!E15","v":"IceMaker"},{"$f":"'[3]101'!F15","v":"265"},{"$f":"'[3]101'!E29","v":"Tanica acqua"},{"$f":"'[3]101'!F29","v":"436"}]
[null,null,null,{"$f":"'[3]101'!E16","v":"Illuminazione"},{"$f":"'[3]101'!F16","v":"059"},{"$f":"'[3]101'!E30","v":"Ubicazione dell’errore non classificabile"},{"$f":"'[3]101'!F30","v":"999"}]
[null,null,null,{"$f":"'[3]101'!E17","v":"Meccanismo di chiusura"},{"$f":"'[3]101'!F17","v":"472"},{"$f":"'[3]101'!E31","v":"Valvola di scarico condensa"},{"$f":"'[3]101'!F31","v":"276"}]
[null,null,null,{"$f":"'[3]101'!E18","v":"Meccanismo Soft System "},{"$f":"'[3]101'!F18","v":"408"}]
["Rete / ",{"$f":"'[3]046'!A5","v":"Difetto cavi/cablaggio"},{"$f":"'[3]046'!B5","v":"297"},{"$f":"'[3]046'!E5","v":"APP / software"},{"$f":"'[3]046'!F5","v":"597"},{"$f":"'[3]046'!E12","v":"Resistenza alla chiusura"},{"$f":"'[3]046'!F12","v":"595"}]
["comunicazione",{"$f":"'[3]046'!A6","v":"Errore di configurazione"},{"$f":"'[3]046'!B6","v":"411"},{"$f":"'[3]046'!E6","v":"Cavo LAN"},{"$f":"'[3]046'!F6","v":"603"},{"$f":"'[3]046'!E13","v":"Sensori smart"},{"$f":"'[3]046'!F13","v":"686"}]
[46,{"$f":"'[3]046'!A7","v":"Errore software (BUG)"},{"$f":"'[3]046'!B7","v":"588"},{"$f":"'[3]046'!E7","v":"Chiave a infrarossi"},{"$f":"'[3]046'!F7","v":"601"},{"$f":"'[3]046'!E14","v":"Shop di licenze"},{"$f":"'[3]046'!F14","v":"695"}]
[null,{"$f":"'[3]046'!A8","v":"Forza del segnale"},{"$f":"'[3]046'!B8","v":"412"},{"$f":"'[3]046'!E8","v":"Chip NFC, RFID"},{"$f":"'[3]046'!F8","v":"685"},{"$f":"'[3]046'!E15","v":"Smart Device Box"},{"$f":"'[3]046'!F15","v":"608"}]
[null,{"$f":"'[3]046'!A9","v":"Incompatibile (ad es. tablet, smartphone)"},{"$f":"'[3]046'!B9","v":"410"},{"$f":"'[3]046'!E9","v":"Convertitore per il collegamento standard (EVCO, Carel)"},{"$f":"'[3]046'!F9","v":"602"},{"$f":"'[3]046'!E16","v":"SmartCoolingHub"},{"$f":"'[3]046'!F16","v":"697"}]
[null,{"$f":"'[3]046'!A10","v":"Nessun collegamento"},{"$f":"'[3]046'!B10","v":"488"},{"$f":"'[3]046'!E10","v":"Interfaccia (RS 485, RS 232, CAN BUS, MOD BUS, Ethernet, chiave IR, WLAN, BT, USB, …)"},{"$f":"'[3]046'!F10","v":"470"},{"$f":"'[3]046'!E17","v":"SmartMonitoring"},{"$f":"'[3]046'!F17","v":"696"}]
[null,{"$f":"'[3]046'!A11","v":"Tipo di errore non classificabile"},{"$f":"'[3]046'!B11","v":"999"},{"$f":"'[3]046'!E11","v":"Modulo Master / Slave (HomeDialog)"},{"$f":"'[3]046'!F11","v":"605"}]